BEGIN:VCALENDAR
VERSION:2.0
PRODID:-//Adaptive Sports New England - ECPv6.15.20//NONSGML v1.0//EN
CALSCALE:GREGORIAN
METHOD:PUBLISH
X-ORIGINAL-URL:https://adaptivesportsne.org
X-WR-CALDESC:Events for Adaptive Sports New England
REFRESH-INTERVAL;VALUE=DURATION:PT1H
X-Robots-Tag:noindex
X-PUBLISHED-TTL:PT1H
BEGIN:VTIMEZONE
TZID:America/New_York
BEGIN:DAYLIGHT
TZOFFSETFROM:-0500
TZOFFSETTO:-0400
TZNAME:EDT
DTSTART:20220313T070000
END:DAYLIGHT
BEGIN:STANDARD
TZOFFSETFROM:-0400
TZOFFSETTO:-0500
TZNAME:EST
DTSTART:20221106T060000
END:STANDARD
BEGIN:DAYLIGHT
TZOFFSETFROM:-0500
TZOFFSETTO:-0400
TZNAME:EDT
DTSTART:20230312T070000
END:DAYLIGHT
BEGIN:STANDARD
TZOFFSETFROM:-0400
TZOFFSETTO:-0500
TZNAME:EST
DTSTART:20231105T060000
END:STANDARD
BEGIN:DAYLIGHT
TZOFFSETFROM:-0500
TZOFFSETTO:-0400
TZNAME:EDT
DTSTART:20240310T070000
END:DAYLIGHT
BEGIN:STANDARD
TZOFFSETFROM:-0400
TZOFFSETTO:-0500
TZNAME:EST
DTSTART:20241103T060000
END:STANDARD
END:VTIMEZONE
BEGIN:VEVENT
DTSTART;TZID=America/New_York:20231001T140000
DTEND;TZID=America/New_York:20231001T153000
DTSTAMP:20260424T120242
CREATED:20230905T150212Z
LAST-MODIFIED:20230905T150212Z
UID:10004351-1696168800-1696174200@adaptivesportsne.org
SUMMARY:CP Soccer - CPSNE (Framingham)
DESCRIPTION:Email email hidden; JavaScript is required for more information or to register.
URL:https://adaptivesportsne.org/event/cp-soccer-cpsne-framingham-3/2023-10-01/
LOCATION:Merchant Field\, 65 Merchant Rd\, Framingham\, MA\, 01702\, United States
CATEGORIES:Other Para Sports
ORGANIZER;CN="CP Soccer New England":MAILTO:newengland@cpsoccer.us
END:VEVENT
END:VCALENDAR