BEGIN:VCALENDAR
VERSION:2.0
PRODID:-//Adaptive Sports New England - ECPv6.15.20//NONSGML v1.0//EN
CALSCALE:GREGORIAN
METHOD:PUBLISH
X-WR-CALNAME:Adaptive Sports New England
X-ORIGINAL-URL:https://adaptivesportsne.org
X-WR-CALDESC:Events for Adaptive Sports New England
REFRESH-INTERVAL;VALUE=DURATION:PT1H
X-Robots-Tag:noindex
X-PUBLISHED-TTL:PT1H
BEGIN:VTIMEZONE
TZID:America/Halifax
BEGIN:DAYLIGHT
TZOFFSETFROM:-0400
TZOFFSETTO:-0300
TZNAME:ADT
DTSTART:20200308T060000
END:DAYLIGHT
BEGIN:STANDARD
TZOFFSETFROM:-0300
TZOFFSETTO:-0400
TZNAME:AST
DTSTART:20201101T050000
END:STANDARD
BEGIN:DAYLIGHT
TZOFFSETFROM:-0400
TZOFFSETTO:-0300
TZNAME:ADT
DTSTART:20210314T060000
END:DAYLIGHT
BEGIN:STANDARD
TZOFFSETFROM:-0300
TZOFFSETTO:-0400
TZNAME:AST
DTSTART:20211107T050000
END:STANDARD
BEGIN:DAYLIGHT
TZOFFSETFROM:-0400
TZOFFSETTO:-0300
TZNAME:ADT
DTSTART:20220313T060000
END:DAYLIGHT
BEGIN:STANDARD
TZOFFSETFROM:-0300
TZOFFSETTO:-0400
TZNAME:AST
DTSTART:20221106T050000
END:STANDARD
END:VTIMEZONE
BEGIN:VEVENT
DTSTART;TZID=America/Halifax:20210508T123000
DTEND;TZID=America/Halifax:20210508T150000
DTSTAMP:20260423T025121
CREATED:20210515T122259Z
LAST-MODIFIED:20210515T122259Z
UID:10003629-1620477000-1620486000@adaptivesportsne.org
SUMMARY:Power Soccer - Brakers (Boston)
DESCRIPTION:
URL:https://adaptivesportsne.org/event/power-soccer-brakers-boston-2/2021-05-08/
LOCATION:Tobin Community Center\, 1481 Tremont St.\, Mission Hill \, MA\, 02120\, United States
CATEGORIES:Other Para Sports
ORGANIZER;CN="Boston Brakers":MAILTO:jjwice@gmail.com
GEO:42.332162;-71.0981972
X-APPLE-STRUCTURED-LOCATION;VALUE=URI;X-ADDRESS=Tobin Community Center 1481 Tremont St. Mission Hill  MA 02120 United States;X-APPLE-RADIUS=500;X-TITLE=1481 Tremont St.:geo:-71.0981972,42.332162
END:VEVENT
BEGIN:VEVENT
DTSTART;TZID=America/Halifax:20210514T190000
DTEND;TZID=America/Halifax:20210514T210000
DTSTAMP:20260423T025121
CREATED:20210104T202839Z
LAST-MODIFIED:20210105T145507Z
UID:10003566-1621018800-1621026000@adaptivesportsne.org
SUMMARY:Wheelchair Tennis SCWTF (Dartmouth)
DESCRIPTION:
URL:https://adaptivesportsne.org/event/wheelchair-tennis-clinics-scwtf-dartmouth/2021-05-14/
LOCATION:Dartmouth Indoor Tennis\, 757 State Rd\, Dartmouth\, MA\, 02747\, United States
CATEGORIES:Other Para Sports
ORGANIZER;CN="South Coast Wheelchair Tennis Foundation":MAILTO:thomasd10@aol.com
GEO:41.6380217;-71.0298657
X-APPLE-STRUCTURED-LOCATION;VALUE=URI;X-ADDRESS=Dartmouth Indoor Tennis 757 State Rd Dartmouth MA 02747 United States;X-APPLE-RADIUS=500;X-TITLE=757 State Rd:geo:-71.0298657,41.6380217
END:VEVENT
BEGIN:VEVENT
DTSTART;TZID=America/Halifax:20210515T123000
DTEND;TZID=America/Halifax:20210515T150000
DTSTAMP:20260423T025121
CREATED:20210515T122259Z
LAST-MODIFIED:20210515T122259Z
UID:10003630-1621081800-1621090800@adaptivesportsne.org
SUMMARY:Power Soccer - Brakers (Boston)
DESCRIPTION:
URL:https://adaptivesportsne.org/event/power-soccer-brakers-boston-2/2021-05-15/
LOCATION:Tobin Community Center\, 1481 Tremont St.\, Mission Hill \, MA\, 02120\, United States
CATEGORIES:Other Para Sports
ORGANIZER;CN="Boston Brakers":MAILTO:jjwice@gmail.com
GEO:42.332162;-71.0981972
X-APPLE-STRUCTURED-LOCATION;VALUE=URI;X-ADDRESS=Tobin Community Center 1481 Tremont St. Mission Hill  MA 02120 United States;X-APPLE-RADIUS=500;X-TITLE=1481 Tremont St.:geo:-71.0981972,42.332162
END:VEVENT
BEGIN:VEVENT
DTSTART;TZID=America/Halifax:20210516T110000
DTEND;TZID=America/Halifax:20210516T130000
DTSTAMP:20260423T025121
CREATED:20210104T202108Z
LAST-MODIFIED:20210105T145158Z
UID:10003556-1621162800-1621170000@adaptivesportsne.org
SUMMARY:Wheelchair Tennis - SCWTF (Hanover)
DESCRIPTION:
URL:https://adaptivesportsne.org/event/wheelchair-tennis-clinic-ymca-quincy/2021-05-16/
LOCATION:Emilson YMCA\, 75 Mill Street\, Hanover\, MA\, 02339\, United States
CATEGORIES:Other Para Sports
ORGANIZER;CN="South Coast Wheelchair Tennis Foundation":MAILTO:thomasd10@aol.com
GEO:42.1406659;-70.8394957
X-APPLE-STRUCTURED-LOCATION;VALUE=URI;X-ADDRESS=Emilson YMCA 75 Mill Street Hanover MA 02339 United States;X-APPLE-RADIUS=500;X-TITLE=75 Mill Street:geo:-70.8394957,42.1406659
END:VEVENT
BEGIN:VEVENT
DTSTART;TZID=America/Halifax:20210522T123000
DTEND;TZID=America/Halifax:20210522T150000
DTSTAMP:20260423T025121
CREATED:20210515T122259Z
LAST-MODIFIED:20210515T122259Z
UID:10003631-1621686600-1621695600@adaptivesportsne.org
SUMMARY:Power Soccer - Brakers (Boston)
DESCRIPTION:
URL:https://adaptivesportsne.org/event/power-soccer-brakers-boston-2/2021-05-22/
LOCATION:Tobin Community Center\, 1481 Tremont St.\, Mission Hill \, MA\, 02120\, United States
CATEGORIES:Other Para Sports
ORGANIZER;CN="Boston Brakers":MAILTO:jjwice@gmail.com
GEO:42.332162;-71.0981972
X-APPLE-STRUCTURED-LOCATION;VALUE=URI;X-ADDRESS=Tobin Community Center 1481 Tremont St. Mission Hill  MA 02120 United States;X-APPLE-RADIUS=500;X-TITLE=1481 Tremont St.:geo:-71.0981972,42.332162
END:VEVENT
BEGIN:VEVENT
DTSTART;TZID=America/Halifax:20210528T190000
DTEND;TZID=America/Halifax:20210528T210000
DTSTAMP:20260423T025121
CREATED:20210104T202839Z
LAST-MODIFIED:20210105T145507Z
UID:10003567-1622228400-1622235600@adaptivesportsne.org
SUMMARY:Wheelchair Tennis SCWTF (Dartmouth)
DESCRIPTION:
URL:https://adaptivesportsne.org/event/wheelchair-tennis-clinics-scwtf-dartmouth/2021-05-28/
LOCATION:Dartmouth Indoor Tennis\, 757 State Rd\, Dartmouth\, MA\, 02747\, United States
CATEGORIES:Other Para Sports
ORGANIZER;CN="South Coast Wheelchair Tennis Foundation":MAILTO:thomasd10@aol.com
GEO:41.6380217;-71.0298657
X-APPLE-STRUCTURED-LOCATION;VALUE=URI;X-ADDRESS=Dartmouth Indoor Tennis 757 State Rd Dartmouth MA 02747 United States;X-APPLE-RADIUS=500;X-TITLE=757 State Rd:geo:-71.0298657,41.6380217
END:VEVENT
BEGIN:VEVENT
DTSTART;TZID=America/Halifax:20210602T170000
DTEND;TZID=America/Halifax:20210602T193000
DTSTAMP:20260423T025121
CREATED:20210529T115331Z
LAST-MODIFIED:20210529T115331Z
UID:10003667-1622653200-1622662200@adaptivesportsne.org
SUMMARY:Golf - NEP (Windham NH)
DESCRIPTION:Some sessions all abilities and others are advanced only.  Check with NEP.
URL:https://adaptivesportsne.org/event/golf-nep-windham-nh/2021-06-02/
LOCATION:Windham Country Club\, Windham\, MA\, United States
CATEGORIES:Other Para Sports
ORGANIZER;CN="Northeast Passage":MAILTO:northeast.passage@unh.edu
GEO:42.604261;-70.8911612
END:VEVENT
BEGIN:VEVENT
DTSTART;TZID=America/Halifax:20210605T123000
DTEND;TZID=America/Halifax:20210605T150000
DTSTAMP:20260423T025121
CREATED:20210515T122259Z
LAST-MODIFIED:20210515T122259Z
UID:10003632-1622896200-1622905200@adaptivesportsne.org
SUMMARY:Power Soccer - Brakers (Boston)
DESCRIPTION:
URL:https://adaptivesportsne.org/event/power-soccer-brakers-boston-2/2021-06-05/
LOCATION:Tobin Community Center\, 1481 Tremont St.\, Mission Hill \, MA\, 02120\, United States
CATEGORIES:Other Para Sports
ORGANIZER;CN="Boston Brakers":MAILTO:jjwice@gmail.com
GEO:42.332162;-71.0981972
X-APPLE-STRUCTURED-LOCATION;VALUE=URI;X-ADDRESS=Tobin Community Center 1481 Tremont St. Mission Hill  MA 02120 United States;X-APPLE-RADIUS=500;X-TITLE=1481 Tremont St.:geo:-71.0981972,42.332162
END:VEVENT
BEGIN:VEVENT
DTSTART;TZID=America/Halifax:20210609T170000
DTEND;TZID=America/Halifax:20210609T193000
DTSTAMP:20260423T025121
CREATED:20210529T115331Z
LAST-MODIFIED:20210529T115331Z
UID:10003668-1623258000-1623267000@adaptivesportsne.org
SUMMARY:Golf - NEP (Windham NH)
DESCRIPTION:Some sessions all abilities and others are advanced only.  Check with NEP.
URL:https://adaptivesportsne.org/event/golf-nep-windham-nh/2021-06-09/
LOCATION:Windham Country Club\, Windham\, MA\, United States
CATEGORIES:Other Para Sports
ORGANIZER;CN="Northeast Passage":MAILTO:northeast.passage@unh.edu
GEO:42.604261;-70.8911612
END:VEVENT
BEGIN:VEVENT
DTSTART;TZID=America/Halifax:20210612T123000
DTEND;TZID=America/Halifax:20210612T150000
DTSTAMP:20260423T025121
CREATED:20210515T122259Z
LAST-MODIFIED:20210515T122259Z
UID:10003633-1623501000-1623510000@adaptivesportsne.org
SUMMARY:Power Soccer - Brakers (Boston)
DESCRIPTION:
URL:https://adaptivesportsne.org/event/power-soccer-brakers-boston-2/2021-06-12/
LOCATION:Tobin Community Center\, 1481 Tremont St.\, Mission Hill \, MA\, 02120\, United States
CATEGORIES:Other Para Sports
ORGANIZER;CN="Boston Brakers":MAILTO:jjwice@gmail.com
GEO:42.332162;-71.0981972
X-APPLE-STRUCTURED-LOCATION;VALUE=URI;X-ADDRESS=Tobin Community Center 1481 Tremont St. Mission Hill  MA 02120 United States;X-APPLE-RADIUS=500;X-TITLE=1481 Tremont St.:geo:-71.0981972,42.332162
END:VEVENT
BEGIN:VEVENT
DTSTART;TZID=America/Halifax:20210616T170000
DTEND;TZID=America/Halifax:20210616T193000
DTSTAMP:20260423T025121
CREATED:20210529T115331Z
LAST-MODIFIED:20210529T115331Z
UID:10003669-1623862800-1623871800@adaptivesportsne.org
SUMMARY:Golf - NEP (Windham NH)
DESCRIPTION:Some sessions all abilities and others are advanced only.  Check with NEP.
URL:https://adaptivesportsne.org/event/golf-nep-windham-nh/2021-06-16/
LOCATION:Windham Country Club\, Windham\, MA\, United States
CATEGORIES:Other Para Sports
ORGANIZER;CN="Northeast Passage":MAILTO:northeast.passage@unh.edu
GEO:42.604261;-70.8911612
END:VEVENT
BEGIN:VEVENT
DTSTART;TZID=America/Halifax:20210617T180000
DTEND;TZID=America/Halifax:20210617T200000
DTSTAMP:20260423T025121
CREATED:20210529T121312Z
LAST-MODIFIED:20210529T121312Z
UID:10003680-1623952800-1623960000@adaptivesportsne.org
SUMMARY:Wheelchair Lacrosse - NEP (Rochester NH)
DESCRIPTION:
URL:https://adaptivesportsne.org/event/wheelchair-lacrosse-nep-rochester-nh/2021-06-17/
CATEGORIES:Other Para Sports
ORGANIZER;CN="Northeast Passage":MAILTO:northeast.passage@unh.edu
END:VEVENT
BEGIN:VEVENT
DTSTART;TZID=America/Halifax:20210619T123000
DTEND;TZID=America/Halifax:20210619T150000
DTSTAMP:20260423T025121
CREATED:20210515T122259Z
LAST-MODIFIED:20210515T122259Z
UID:10003634-1624105800-1624114800@adaptivesportsne.org
SUMMARY:Power Soccer - Brakers (Boston)
DESCRIPTION:
URL:https://adaptivesportsne.org/event/power-soccer-brakers-boston-2/2021-06-19/
LOCATION:Tobin Community Center\, 1481 Tremont St.\, Mission Hill \, MA\, 02120\, United States
CATEGORIES:Other Para Sports
ORGANIZER;CN="Boston Brakers":MAILTO:jjwice@gmail.com
GEO:42.332162;-71.0981972
X-APPLE-STRUCTURED-LOCATION;VALUE=URI;X-ADDRESS=Tobin Community Center 1481 Tremont St. Mission Hill  MA 02120 United States;X-APPLE-RADIUS=500;X-TITLE=1481 Tremont St.:geo:-71.0981972,42.332162
END:VEVENT
BEGIN:VEVENT
DTSTART;TZID=America/Halifax:20210623T170000
DTEND;TZID=America/Halifax:20210623T193000
DTSTAMP:20260423T025121
CREATED:20210529T115331Z
LAST-MODIFIED:20210529T115331Z
UID:10003670-1624467600-1624476600@adaptivesportsne.org
SUMMARY:Golf - NEP (Windham NH)
DESCRIPTION:Some sessions all abilities and others are advanced only.  Check with NEP.
URL:https://adaptivesportsne.org/event/golf-nep-windham-nh/2021-06-23/
LOCATION:Windham Country Club\, Windham\, MA\, United States
CATEGORIES:Other Para Sports
ORGANIZER;CN="Northeast Passage":MAILTO:northeast.passage@unh.edu
GEO:42.604261;-70.8911612
END:VEVENT
BEGIN:VEVENT
DTSTART;TZID=America/Halifax:20210624T100000
DTEND;TZID=America/Halifax:20210624T120000
DTSTAMP:20260423T025121
CREATED:20210529T123345Z
LAST-MODIFIED:20210530T134414Z
UID:10003683-1624528800-1624536000@adaptivesportsne.org
SUMMARY:Archery  - NEP (Durham NH)
DESCRIPTION:
URL:https://adaptivesportsne.org/event/archery-nep-durham-nh-2021-06-24/2021-06-24/2/
CATEGORIES:Other Para Sports
ORGANIZER;CN="Northeast Passage":MAILTO:northeast.passage@unh.edu
END:VEVENT
BEGIN:VEVENT
DTSTART;TZID=America/Halifax:20210629T173000
DTEND;TZID=America/Halifax:20210629T203000
DTSTAMP:20260423T025121
CREATED:20210629T134321Z
LAST-MODIFIED:20210629T135048Z
UID:10001753-1624987800-1624998600@adaptivesportsne.org
SUMMARY:Wheelchair Tennis (Barrington RI)
DESCRIPTION:
URL:https://adaptivesportsne.org/event/wheelchair-tennis-clinics/2021-06-29/
LOCATION:Barrington High School\, 220 Lincoln Ave\, Barrington\, RI\, 02806\, United States
CATEGORIES:Other Para Sports
ORGANIZER;CN="South Coast Wheelchair Tennis Foundation":MAILTO:thomasd10@aol.com
END:VEVENT
BEGIN:VEVENT
DTSTART;TZID=America/Halifax:20210630T170000
DTEND;TZID=America/Halifax:20210630T193000
DTSTAMP:20260423T025121
CREATED:20210529T115331Z
LAST-MODIFIED:20210529T115331Z
UID:10003671-1625072400-1625081400@adaptivesportsne.org
SUMMARY:Golf - NEP (Windham NH)
DESCRIPTION:Some sessions all abilities and others are advanced only.  Check with NEP.
URL:https://adaptivesportsne.org/event/golf-nep-windham-nh/2021-06-30/
LOCATION:Windham Country Club\, Windham\, MA\, United States
CATEGORIES:Other Para Sports
ORGANIZER;CN="Northeast Passage":MAILTO:northeast.passage@unh.edu
GEO:42.604261;-70.8911612
END:VEVENT
BEGIN:VEVENT
DTSTART;TZID=America/Halifax:20210703T123000
DTEND;TZID=America/Halifax:20210703T150000
DTSTAMP:20260423T025121
CREATED:20210515T122259Z
LAST-MODIFIED:20210515T122259Z
UID:10003635-1625315400-1625324400@adaptivesportsne.org
SUMMARY:Power Soccer - Brakers (Boston)
DESCRIPTION:
URL:https://adaptivesportsne.org/event/power-soccer-brakers-boston-2/2021-07-03/
LOCATION:Tobin Community Center\, 1481 Tremont St.\, Mission Hill \, MA\, 02120\, United States
CATEGORIES:Other Para Sports
ORGANIZER;CN="Boston Brakers":MAILTO:jjwice@gmail.com
GEO:42.332162;-71.0981972
X-APPLE-STRUCTURED-LOCATION;VALUE=URI;X-ADDRESS=Tobin Community Center 1481 Tremont St. Mission Hill  MA 02120 United States;X-APPLE-RADIUS=500;X-TITLE=1481 Tremont St.:geo:-71.0981972,42.332162
END:VEVENT
BEGIN:VEVENT
DTSTART;TZID=America/Halifax:20210706T173000
DTEND;TZID=America/Halifax:20210706T203000
DTSTAMP:20260423T025121
CREATED:20210629T134321Z
LAST-MODIFIED:20210629T135048Z
UID:10001754-1625592600-1625603400@adaptivesportsne.org
SUMMARY:Wheelchair Tennis (Barrington RI)
DESCRIPTION:
URL:https://adaptivesportsne.org/event/wheelchair-tennis-clinics/2021-07-06/
LOCATION:Barrington High School\, 220 Lincoln Ave\, Barrington\, RI\, 02806\, United States
CATEGORIES:Other Para Sports
ORGANIZER;CN="South Coast Wheelchair Tennis Foundation":MAILTO:thomasd10@aol.com
END:VEVENT
BEGIN:VEVENT
DTSTART;TZID=America/Halifax:20210707T153000
DTEND;TZID=America/Halifax:20210707T173000
DTSTAMP:20260423T025121
CREATED:20210708T105040Z
LAST-MODIFIED:20210708T105040Z
UID:10001790-1625671800-1625679000@adaptivesportsne.org
SUMMARY:Sailing - CBI (Boston)
DESCRIPTION:For youth who have a visual or mobility impairment
URL:https://adaptivesportsne.org/event/sailing-cbi-boston/2021-07-07/
LOCATION:Community Boating\, 21 David Mugar Way\, Boston\, MA\, 02114\, United States
CATEGORIES:Other Para Sports
ORGANIZER;CN="Adaptive Sports New England":MAILTO:joe.walsh@adaptivesportsne.org
GEO:42.3598546;-71.073094
X-APPLE-STRUCTURED-LOCATION;VALUE=URI;X-ADDRESS=Community Boating 21 David Mugar Way Boston MA 02114 United States;X-APPLE-RADIUS=500;X-TITLE=21 David Mugar Way:geo:-71.073094,42.3598546
END:VEVENT
BEGIN:VEVENT
DTSTART;TZID=America/Halifax:20210707T170000
DTEND;TZID=America/Halifax:20210707T193000
DTSTAMP:20260423T025121
CREATED:20210529T115331Z
LAST-MODIFIED:20210529T115331Z
UID:10003672-1625677200-1625686200@adaptivesportsne.org
SUMMARY:Golf - NEP (Windham NH)
DESCRIPTION:Some sessions all abilities and others are advanced only.  Check with NEP.
URL:https://adaptivesportsne.org/event/golf-nep-windham-nh/2021-07-07/
LOCATION:Windham Country Club\, Windham\, MA\, United States
CATEGORIES:Other Para Sports
ORGANIZER;CN="Northeast Passage":MAILTO:northeast.passage@unh.edu
GEO:42.604261;-70.8911612
END:VEVENT
BEGIN:VEVENT
DTSTART;TZID=America/Halifax:20210710T123000
DTEND;TZID=America/Halifax:20210710T150000
DTSTAMP:20260423T025121
CREATED:20210515T122259Z
LAST-MODIFIED:20210515T122259Z
UID:10003636-1625920200-1625929200@adaptivesportsne.org
SUMMARY:Power Soccer - Brakers (Boston)
DESCRIPTION:
URL:https://adaptivesportsne.org/event/power-soccer-brakers-boston-2/2021-07-10/
LOCATION:Tobin Community Center\, 1481 Tremont St.\, Mission Hill \, MA\, 02120\, United States
CATEGORIES:Other Para Sports
ORGANIZER;CN="Boston Brakers":MAILTO:jjwice@gmail.com
GEO:42.332162;-71.0981972
X-APPLE-STRUCTURED-LOCATION;VALUE=URI;X-ADDRESS=Tobin Community Center 1481 Tremont St. Mission Hill  MA 02120 United States;X-APPLE-RADIUS=500;X-TITLE=1481 Tremont St.:geo:-71.0981972,42.332162
END:VEVENT
BEGIN:VEVENT
DTSTART;TZID=America/Halifax:20210711T093000
DTEND;TZID=America/Halifax:20210711T110000
DTSTAMP:20260423T025121
CREATED:20210630T175905Z
LAST-MODIFIED:20210708T105736Z
UID:10001767-1625995800-1626001200@adaptivesportsne.org
SUMMARY:Wheelchair Lacrosse ICE (North Reading)
DESCRIPTION:
URL:https://adaptivesportsne.org/event/wheel-chair-lacrosse-north-reading/2021-07-11/
LOCATION:Ipswich River Park\, 15 Central Street\, North Reading\, MA\, United States
CATEGORIES:Other Para Sports
END:VEVENT
BEGIN:VEVENT
DTSTART;TZID=America/Halifax:20210713T173000
DTEND;TZID=America/Halifax:20210713T203000
DTSTAMP:20260423T025121
CREATED:20210629T134321Z
LAST-MODIFIED:20210629T135048Z
UID:10001755-1626197400-1626208200@adaptivesportsne.org
SUMMARY:Wheelchair Tennis (Barrington RI)
DESCRIPTION:
URL:https://adaptivesportsne.org/event/wheelchair-tennis-clinics/2021-07-13/
LOCATION:Barrington High School\, 220 Lincoln Ave\, Barrington\, RI\, 02806\, United States
CATEGORIES:Other Para Sports
ORGANIZER;CN="South Coast Wheelchair Tennis Foundation":MAILTO:thomasd10@aol.com
END:VEVENT
BEGIN:VEVENT
DTSTART;TZID=America/Halifax:20210714T153000
DTEND;TZID=America/Halifax:20210714T173000
DTSTAMP:20260423T025121
CREATED:20210708T105040Z
LAST-MODIFIED:20210708T105040Z
UID:10001791-1626276600-1626283800@adaptivesportsne.org
SUMMARY:Sailing - CBI (Boston)
DESCRIPTION:For youth who have a visual or mobility impairment
URL:https://adaptivesportsne.org/event/sailing-cbi-boston/2021-07-14/
LOCATION:Community Boating\, 21 David Mugar Way\, Boston\, MA\, 02114\, United States
CATEGORIES:Other Para Sports
ORGANIZER;CN="Adaptive Sports New England":MAILTO:joe.walsh@adaptivesportsne.org
GEO:42.3598546;-71.073094
X-APPLE-STRUCTURED-LOCATION;VALUE=URI;X-ADDRESS=Community Boating 21 David Mugar Way Boston MA 02114 United States;X-APPLE-RADIUS=500;X-TITLE=21 David Mugar Way:geo:-71.073094,42.3598546
END:VEVENT
BEGIN:VEVENT
DTSTART;TZID=America/Halifax:20210714T170000
DTEND;TZID=America/Halifax:20210714T193000
DTSTAMP:20260423T025121
CREATED:20210529T115331Z
LAST-MODIFIED:20210529T115331Z
UID:10003673-1626282000-1626291000@adaptivesportsne.org
SUMMARY:Golf - NEP (Windham NH)
DESCRIPTION:Some sessions all abilities and others are advanced only.  Check with NEP.
URL:https://adaptivesportsne.org/event/golf-nep-windham-nh/2021-07-14/
LOCATION:Windham Country Club\, Windham\, MA\, United States
CATEGORIES:Other Para Sports
ORGANIZER;CN="Northeast Passage":MAILTO:northeast.passage@unh.edu
GEO:42.604261;-70.8911612
END:VEVENT
BEGIN:VEVENT
DTSTART;TZID=America/Halifax:20210717T123000
DTEND;TZID=America/Halifax:20210717T150000
DTSTAMP:20260423T025121
CREATED:20210515T122259Z
LAST-MODIFIED:20210515T122259Z
UID:10003637-1626525000-1626534000@adaptivesportsne.org
SUMMARY:Power Soccer - Brakers (Boston)
DESCRIPTION:
URL:https://adaptivesportsne.org/event/power-soccer-brakers-boston-2/2021-07-17/
LOCATION:Tobin Community Center\, 1481 Tremont St.\, Mission Hill \, MA\, 02120\, United States
CATEGORIES:Other Para Sports
ORGANIZER;CN="Boston Brakers":MAILTO:jjwice@gmail.com
GEO:42.332162;-71.0981972
X-APPLE-STRUCTURED-LOCATION;VALUE=URI;X-ADDRESS=Tobin Community Center 1481 Tremont St. Mission Hill  MA 02120 United States;X-APPLE-RADIUS=500;X-TITLE=1481 Tremont St.:geo:-71.0981972,42.332162
END:VEVENT
BEGIN:VEVENT
DTSTART;TZID=America/Halifax:20210718T093000
DTEND;TZID=America/Halifax:20210718T110000
DTSTAMP:20260423T025121
CREATED:20210630T175905Z
LAST-MODIFIED:20210708T105736Z
UID:10001768-1626600600-1626606000@adaptivesportsne.org
SUMMARY:Wheelchair Lacrosse ICE (North Reading)
DESCRIPTION:
URL:https://adaptivesportsne.org/event/wheel-chair-lacrosse-north-reading/2021-07-18/
LOCATION:Ipswich River Park\, 15 Central Street\, North Reading\, MA\, United States
CATEGORIES:Other Para Sports
END:VEVENT
BEGIN:VEVENT
DTSTART;TZID=America/Halifax:20210720T173000
DTEND;TZID=America/Halifax:20210720T203000
DTSTAMP:20260423T025121
CREATED:20210629T134321Z
LAST-MODIFIED:20210629T135048Z
UID:10001756-1626802200-1626813000@adaptivesportsne.org
SUMMARY:Wheelchair Tennis (Barrington RI)
DESCRIPTION:
URL:https://adaptivesportsne.org/event/wheelchair-tennis-clinics/2021-07-20/
LOCATION:Barrington High School\, 220 Lincoln Ave\, Barrington\, RI\, 02806\, United States
CATEGORIES:Other Para Sports
ORGANIZER;CN="South Coast Wheelchair Tennis Foundation":MAILTO:thomasd10@aol.com
END:VEVENT
BEGIN:VEVENT
DTSTART;TZID=America/Halifax:20210721T170000
DTEND;TZID=America/Halifax:20210721T193000
DTSTAMP:20260423T025121
CREATED:20210529T115331Z
LAST-MODIFIED:20210529T115331Z
UID:10003674-1626886800-1626895800@adaptivesportsne.org
SUMMARY:Golf - NEP (Windham NH)
DESCRIPTION:Some sessions all abilities and others are advanced only.  Check with NEP.
URL:https://adaptivesportsne.org/event/golf-nep-windham-nh/2021-07-21/
LOCATION:Windham Country Club\, Windham\, MA\, United States
CATEGORIES:Other Para Sports
ORGANIZER;CN="Northeast Passage":MAILTO:northeast.passage@unh.edu
GEO:42.604261;-70.8911612
END:VEVENT
END:VCALENDAR