BEGIN:VCALENDAR
VERSION:2.0
PRODID:-//Adaptive Sports New England - ECPv6.15.20//NONSGML v1.0//EN
CALSCALE:GREGORIAN
METHOD:PUBLISH
X-WR-CALNAME:Adaptive Sports New England
X-ORIGINAL-URL:https://adaptivesportsne.org
X-WR-CALDESC:Events for Adaptive Sports New England
REFRESH-INTERVAL;VALUE=DURATION:PT1H
X-Robots-Tag:noindex
X-PUBLISHED-TTL:PT1H
BEGIN:VTIMEZONE
TZID:America/Halifax
BEGIN:DAYLIGHT
TZOFFSETFROM:-0400
TZOFFSETTO:-0300
TZNAME:ADT
DTSTART:20200308T060000
END:DAYLIGHT
BEGIN:STANDARD
TZOFFSETFROM:-0300
TZOFFSETTO:-0400
TZNAME:AST
DTSTART:20201101T050000
END:STANDARD
BEGIN:DAYLIGHT
TZOFFSETFROM:-0400
TZOFFSETTO:-0300
TZNAME:ADT
DTSTART:20210314T060000
END:DAYLIGHT
BEGIN:STANDARD
TZOFFSETFROM:-0300
TZOFFSETTO:-0400
TZNAME:AST
DTSTART:20211107T050000
END:STANDARD
BEGIN:DAYLIGHT
TZOFFSETFROM:-0400
TZOFFSETTO:-0300
TZNAME:ADT
DTSTART:20220313T060000
END:DAYLIGHT
BEGIN:STANDARD
TZOFFSETFROM:-0300
TZOFFSETTO:-0400
TZNAME:AST
DTSTART:20221106T050000
END:STANDARD
BEGIN:DAYLIGHT
TZOFFSETFROM:-0400
TZOFFSETTO:-0300
TZNAME:ADT
DTSTART:20230312T060000
END:DAYLIGHT
BEGIN:STANDARD
TZOFFSETFROM:-0300
TZOFFSETTO:-0400
TZNAME:AST
DTSTART:20231105T050000
END:STANDARD
END:VTIMEZONE
BEGIN:VEVENT
DTSTART;TZID=America/Halifax:20210810T173000
DTEND;TZID=America/Halifax:20210810T203000
DTSTAMP:20260422T183451
CREATED:20210629T134321Z
LAST-MODIFIED:20210629T135048Z
UID:10001759-1628616600-1628627400@adaptivesportsne.org
SUMMARY:Wheelchair Tennis (Barrington RI)
DESCRIPTION:
URL:https://adaptivesportsne.org/event/wheelchair-tennis-clinics/2021-08-10/
LOCATION:Barrington High School\, 220 Lincoln Ave\, Barrington\, RI\, 02806\, United States
CATEGORIES:Other Para Sports
ORGANIZER;CN="South Coast Wheelchair Tennis Foundation":MAILTO:thomasd10@aol.com
END:VEVENT
BEGIN:VEVENT
DTSTART;TZID=America/Halifax:20210811T153000
DTEND;TZID=America/Halifax:20210811T173000
DTSTAMP:20260422T183451
CREATED:20210708T105040Z
LAST-MODIFIED:20210708T105040Z
UID:10001794-1628695800-1628703000@adaptivesportsne.org
SUMMARY:Sailing - CBI (Boston)
DESCRIPTION:For youth who have a visual or mobility impairment
URL:https://adaptivesportsne.org/event/sailing-cbi-boston/2021-08-11/
LOCATION:Community Boating\, 21 David Mugar Way\, Boston\, MA\, 02114\, United States
CATEGORIES:Other Para Sports
ORGANIZER;CN="Adaptive Sports New England":MAILTO:joe.walsh@adaptivesportsne.org
GEO:42.3598546;-71.073094
X-APPLE-STRUCTURED-LOCATION;VALUE=URI;X-ADDRESS=Community Boating 21 David Mugar Way Boston MA 02114 United States;X-APPLE-RADIUS=500;X-TITLE=21 David Mugar Way:geo:-71.073094,42.3598546
END:VEVENT
BEGIN:VEVENT
DTSTART;TZID=America/Halifax:20210811T170000
DTEND;TZID=America/Halifax:20210811T193000
DTSTAMP:20260422T183451
CREATED:20210529T115331Z
LAST-MODIFIED:20210529T115331Z
UID:10003677-1628701200-1628710200@adaptivesportsne.org
SUMMARY:Golf - NEP (Windham NH)
DESCRIPTION:Some sessions all abilities and others are advanced only.  Check with NEP.
URL:https://adaptivesportsne.org/event/golf-nep-windham-nh/2021-08-11/
LOCATION:Windham Country Club\, Windham\, MA\, United States
CATEGORIES:Other Para Sports
ORGANIZER;CN="Northeast Passage":MAILTO:northeast.passage@unh.edu
GEO:42.604261;-70.8911612
END:VEVENT
BEGIN:VEVENT
DTSTART;TZID=America/Halifax:20210814T123000
DTEND;TZID=America/Halifax:20210814T150000
DTSTAMP:20260422T183451
CREATED:20210515T122259Z
LAST-MODIFIED:20210515T122259Z
UID:10003640-1628944200-1628953200@adaptivesportsne.org
SUMMARY:Power Soccer - Brakers (Boston)
DESCRIPTION:
URL:https://adaptivesportsne.org/event/power-soccer-brakers-boston-2/2021-08-14/
LOCATION:Tobin Community Center\, 1481 Tremont St.\, Mission Hill \, MA\, 02120\, United States
CATEGORIES:Other Para Sports
ORGANIZER;CN="Boston Brakers":MAILTO:jjwice@gmail.com
GEO:42.332162;-71.0981972
X-APPLE-STRUCTURED-LOCATION;VALUE=URI;X-ADDRESS=Tobin Community Center 1481 Tremont St. Mission Hill  MA 02120 United States;X-APPLE-RADIUS=500;X-TITLE=1481 Tremont St.:geo:-71.0981972,42.332162
END:VEVENT
BEGIN:VEVENT
DTSTART;TZID=America/Halifax:20210815T093000
DTEND;TZID=America/Halifax:20210815T110000
DTSTAMP:20260422T183451
CREATED:20210630T175905Z
LAST-MODIFIED:20210708T105736Z
UID:10001772-1629019800-1629025200@adaptivesportsne.org
SUMMARY:Wheelchair Lacrosse ICE (North Reading)
DESCRIPTION:
URL:https://adaptivesportsne.org/event/wheel-chair-lacrosse-north-reading/2021-08-15/
LOCATION:Ipswich River Park\, 15 Central Street\, North Reading\, MA\, United States
CATEGORIES:Other Para Sports
END:VEVENT
BEGIN:VEVENT
DTSTART;TZID=America/Halifax:20210817T173000
DTEND;TZID=America/Halifax:20210817T203000
DTSTAMP:20260422T183451
CREATED:20210629T134321Z
LAST-MODIFIED:20210629T135048Z
UID:10001760-1629221400-1629232200@adaptivesportsne.org
SUMMARY:Wheelchair Tennis (Barrington RI)
DESCRIPTION:
URL:https://adaptivesportsne.org/event/wheelchair-tennis-clinics/2021-08-17/
LOCATION:Barrington High School\, 220 Lincoln Ave\, Barrington\, RI\, 02806\, United States
CATEGORIES:Other Para Sports
ORGANIZER;CN="South Coast Wheelchair Tennis Foundation":MAILTO:thomasd10@aol.com
END:VEVENT
BEGIN:VEVENT
DTSTART;TZID=America/Halifax:20210818T153000
DTEND;TZID=America/Halifax:20210818T173000
DTSTAMP:20260422T183451
CREATED:20210708T105040Z
LAST-MODIFIED:20210708T105040Z
UID:10001795-1629300600-1629307800@adaptivesportsne.org
SUMMARY:Sailing - CBI (Boston)
DESCRIPTION:For youth who have a visual or mobility impairment
URL:https://adaptivesportsne.org/event/sailing-cbi-boston/2021-08-18/
LOCATION:Community Boating\, 21 David Mugar Way\, Boston\, MA\, 02114\, United States
CATEGORIES:Other Para Sports
ORGANIZER;CN="Adaptive Sports New England":MAILTO:joe.walsh@adaptivesportsne.org
GEO:42.3598546;-71.073094
X-APPLE-STRUCTURED-LOCATION;VALUE=URI;X-ADDRESS=Community Boating 21 David Mugar Way Boston MA 02114 United States;X-APPLE-RADIUS=500;X-TITLE=21 David Mugar Way:geo:-71.073094,42.3598546
END:VEVENT
BEGIN:VEVENT
DTSTART;TZID=America/Halifax:20210818T170000
DTEND;TZID=America/Halifax:20210818T193000
DTSTAMP:20260422T183451
CREATED:20210529T115331Z
LAST-MODIFIED:20210529T115331Z
UID:10003678-1629306000-1629315000@adaptivesportsne.org
SUMMARY:Golf - NEP (Windham NH)
DESCRIPTION:Some sessions all abilities and others are advanced only.  Check with NEP.
URL:https://adaptivesportsne.org/event/golf-nep-windham-nh/2021-08-18/
LOCATION:Windham Country Club\, Windham\, MA\, United States
CATEGORIES:Other Para Sports
ORGANIZER;CN="Northeast Passage":MAILTO:northeast.passage@unh.edu
GEO:42.604261;-70.8911612
END:VEVENT
BEGIN:VEVENT
DTSTART;TZID=America/Halifax:20210819T100000
DTEND;TZID=America/Halifax:20210819T120000
DTSTAMP:20260422T183451
CREATED:20210529T123345Z
LAST-MODIFIED:20210530T134414Z
UID:10003685-1629367200-1629374400@adaptivesportsne.org
SUMMARY:Archery  - NEP (Durham NH)
DESCRIPTION:
URL:https://adaptivesportsne.org/event/archery-nep-durham-nh-2021-06-24/2021-08-19/2/
CATEGORIES:Other Para Sports
ORGANIZER;CN="Northeast Passage":MAILTO:northeast.passage@unh.edu
END:VEVENT
BEGIN:VEVENT
DTSTART;TZID=America/Halifax:20210819T180000
DTEND;TZID=America/Halifax:20210819T200000
DTSTAMP:20260422T183451
CREATED:20210529T121312Z
LAST-MODIFIED:20210529T121312Z
UID:10003682-1629396000-1629403200@adaptivesportsne.org
SUMMARY:Wheelchair Lacrosse - NEP (Rochester NH)
DESCRIPTION:
URL:https://adaptivesportsne.org/event/wheelchair-lacrosse-nep-rochester-nh/2021-08-19/
CATEGORIES:Other Para Sports
ORGANIZER;CN="Northeast Passage":MAILTO:northeast.passage@unh.edu
END:VEVENT
BEGIN:VEVENT
DTSTART;TZID=America/Halifax:20210821T123000
DTEND;TZID=America/Halifax:20210821T150000
DTSTAMP:20260422T183451
CREATED:20210515T122259Z
LAST-MODIFIED:20210515T122259Z
UID:10003641-1629549000-1629558000@adaptivesportsne.org
SUMMARY:Power Soccer - Brakers (Boston)
DESCRIPTION:
URL:https://adaptivesportsne.org/event/power-soccer-brakers-boston-2/2021-08-21/
LOCATION:Tobin Community Center\, 1481 Tremont St.\, Mission Hill \, MA\, 02120\, United States
CATEGORIES:Other Para Sports
ORGANIZER;CN="Boston Brakers":MAILTO:jjwice@gmail.com
GEO:42.332162;-71.0981972
X-APPLE-STRUCTURED-LOCATION;VALUE=URI;X-ADDRESS=Tobin Community Center 1481 Tremont St. Mission Hill  MA 02120 United States;X-APPLE-RADIUS=500;X-TITLE=1481 Tremont St.:geo:-71.0981972,42.332162
END:VEVENT
BEGIN:VEVENT
DTSTART;TZID=America/Halifax:20210824T173000
DTEND;TZID=America/Halifax:20210824T203000
DTSTAMP:20260422T183451
CREATED:20210629T134321Z
LAST-MODIFIED:20210629T135048Z
UID:10001761-1629826200-1629837000@adaptivesportsne.org
SUMMARY:Wheelchair Tennis (Barrington RI)
DESCRIPTION:
URL:https://adaptivesportsne.org/event/wheelchair-tennis-clinics/2021-08-24/
LOCATION:Barrington High School\, 220 Lincoln Ave\, Barrington\, RI\, 02806\, United States
CATEGORIES:Other Para Sports
ORGANIZER;CN="South Coast Wheelchair Tennis Foundation":MAILTO:thomasd10@aol.com
END:VEVENT
BEGIN:VEVENT
DTSTART;TZID=America/Halifax:20210825T153000
DTEND;TZID=America/Halifax:20210825T173000
DTSTAMP:20260422T183451
CREATED:20210708T105040Z
LAST-MODIFIED:20210708T105040Z
UID:10001796-1629905400-1629912600@adaptivesportsne.org
SUMMARY:Sailing - CBI (Boston)
DESCRIPTION:For youth who have a visual or mobility impairment
URL:https://adaptivesportsne.org/event/sailing-cbi-boston/2021-08-25/
LOCATION:Community Boating\, 21 David Mugar Way\, Boston\, MA\, 02114\, United States
CATEGORIES:Other Para Sports
ORGANIZER;CN="Adaptive Sports New England":MAILTO:joe.walsh@adaptivesportsne.org
GEO:42.3598546;-71.073094
X-APPLE-STRUCTURED-LOCATION;VALUE=URI;X-ADDRESS=Community Boating 21 David Mugar Way Boston MA 02114 United States;X-APPLE-RADIUS=500;X-TITLE=21 David Mugar Way:geo:-71.073094,42.3598546
END:VEVENT
BEGIN:VEVENT
DTSTART;TZID=America/Halifax:20210825T170000
DTEND;TZID=America/Halifax:20210825T193000
DTSTAMP:20260422T183451
CREATED:20210529T115331Z
LAST-MODIFIED:20210529T115331Z
UID:10003679-1629910800-1629919800@adaptivesportsne.org
SUMMARY:Golf - NEP (Windham NH)
DESCRIPTION:Some sessions all abilities and others are advanced only.  Check with NEP.
URL:https://adaptivesportsne.org/event/golf-nep-windham-nh/2021-08-25/
LOCATION:Windham Country Club\, Windham\, MA\, United States
CATEGORIES:Other Para Sports
ORGANIZER;CN="Northeast Passage":MAILTO:northeast.passage@unh.edu
GEO:42.604261;-70.8911612
END:VEVENT
BEGIN:VEVENT
DTSTART;TZID=America/Halifax:20210828T123000
DTEND;TZID=America/Halifax:20210828T150000
DTSTAMP:20260422T183451
CREATED:20210515T122259Z
LAST-MODIFIED:20210515T122259Z
UID:10003642-1630153800-1630162800@adaptivesportsne.org
SUMMARY:Power Soccer - Brakers (Boston)
DESCRIPTION:
URL:https://adaptivesportsne.org/event/power-soccer-brakers-boston-2/2021-08-28/
LOCATION:Tobin Community Center\, 1481 Tremont St.\, Mission Hill \, MA\, 02120\, United States
CATEGORIES:Other Para Sports
ORGANIZER;CN="Boston Brakers":MAILTO:jjwice@gmail.com
GEO:42.332162;-71.0981972
X-APPLE-STRUCTURED-LOCATION;VALUE=URI;X-ADDRESS=Tobin Community Center 1481 Tremont St. Mission Hill  MA 02120 United States;X-APPLE-RADIUS=500;X-TITLE=1481 Tremont St.:geo:-71.0981972,42.332162
END:VEVENT
BEGIN:VEVENT
DTSTART;TZID=America/Halifax:20210831T173000
DTEND;TZID=America/Halifax:20210831T203000
DTSTAMP:20260422T183451
CREATED:20210629T134321Z
LAST-MODIFIED:20210629T135048Z
UID:10001762-1630431000-1630441800@adaptivesportsne.org
SUMMARY:Wheelchair Tennis (Barrington RI)
DESCRIPTION:
URL:https://adaptivesportsne.org/event/wheelchair-tennis-clinics/2021-08-31/
LOCATION:Barrington High School\, 220 Lincoln Ave\, Barrington\, RI\, 02806\, United States
CATEGORIES:Other Para Sports
ORGANIZER;CN="South Coast Wheelchair Tennis Foundation":MAILTO:thomasd10@aol.com
END:VEVENT
BEGIN:VEVENT
DTSTART;TZID=America/Halifax:20210907T173000
DTEND;TZID=America/Halifax:20210907T203000
DTSTAMP:20260422T183451
CREATED:20210629T134321Z
LAST-MODIFIED:20210629T135048Z
UID:10001763-1631035800-1631046600@adaptivesportsne.org
SUMMARY:Wheelchair Tennis (Barrington RI)
DESCRIPTION:
URL:https://adaptivesportsne.org/event/wheelchair-tennis-clinics/2021-09-07/
LOCATION:Barrington High School\, 220 Lincoln Ave\, Barrington\, RI\, 02806\, United States
CATEGORIES:Other Para Sports
ORGANIZER;CN="South Coast Wheelchair Tennis Foundation":MAILTO:thomasd10@aol.com
END:VEVENT
BEGIN:VEVENT
DTSTART;TZID=America/Halifax:20210914T173000
DTEND;TZID=America/Halifax:20210914T203000
DTSTAMP:20260422T183451
CREATED:20210629T134321Z
LAST-MODIFIED:20210629T135048Z
UID:10001764-1631640600-1631651400@adaptivesportsne.org
SUMMARY:Wheelchair Tennis (Barrington RI)
DESCRIPTION:
URL:https://adaptivesportsne.org/event/wheelchair-tennis-clinics/2021-09-14/
LOCATION:Barrington High School\, 220 Lincoln Ave\, Barrington\, RI\, 02806\, United States
CATEGORIES:Other Para Sports
ORGANIZER;CN="South Coast Wheelchair Tennis Foundation":MAILTO:thomasd10@aol.com
END:VEVENT
BEGIN:VEVENT
DTSTART;TZID=America/Halifax:20210921T173000
DTEND;TZID=America/Halifax:20210921T203000
DTSTAMP:20260422T183451
CREATED:20210629T134321Z
LAST-MODIFIED:20210629T135048Z
UID:10001765-1632245400-1632256200@adaptivesportsne.org
SUMMARY:Wheelchair Tennis (Barrington RI)
DESCRIPTION:
URL:https://adaptivesportsne.org/event/wheelchair-tennis-clinics/2021-09-21/
LOCATION:Barrington High School\, 220 Lincoln Ave\, Barrington\, RI\, 02806\, United States
CATEGORIES:Other Para Sports
ORGANIZER;CN="South Coast Wheelchair Tennis Foundation":MAILTO:thomasd10@aol.com
END:VEVENT
BEGIN:VEVENT
DTSTART;TZID=America/Halifax:20210928T173000
DTEND;TZID=America/Halifax:20210928T203000
DTSTAMP:20260422T183451
CREATED:20210629T134321Z
LAST-MODIFIED:20210629T135048Z
UID:10001766-1632850200-1632861000@adaptivesportsne.org
SUMMARY:Wheelchair Tennis (Barrington RI)
DESCRIPTION:
URL:https://adaptivesportsne.org/event/wheelchair-tennis-clinics/2021-09-28/
LOCATION:Barrington High School\, 220 Lincoln Ave\, Barrington\, RI\, 02806\, United States
CATEGORIES:Other Para Sports
ORGANIZER;CN="South Coast Wheelchair Tennis Foundation":MAILTO:thomasd10@aol.com
END:VEVENT
BEGIN:VEVENT
DTSTART;TZID=America/Halifax:20220306T110000
DTEND;TZID=America/Halifax:20220306T130000
DTSTAMP:20260422T183451
CREATED:20220225T191817Z
LAST-MODIFIED:20220225T191817Z
UID:10003854-1646564400-1646571600@adaptivesportsne.org
SUMMARY:WC Tennis - SCWTF (Hanover)
DESCRIPTION:
URL:https://adaptivesportsne.org/event/wc-tennis-scwtf-hanover/2022-03-06/
LOCATION:Emilson YMCA\, 75 Mill Street\, Hanover\, MA\, 02339\, United States
CATEGORIES:Other Para Sports
ORGANIZER;CN="South Coast Wheelchair Tennis Foundation":MAILTO:thomasd10@aol.com
GEO:42.1406659;-70.8394957
X-APPLE-STRUCTURED-LOCATION;VALUE=URI;X-ADDRESS=Emilson YMCA 75 Mill Street Hanover MA 02339 United States;X-APPLE-RADIUS=500;X-TITLE=75 Mill Street:geo:-70.8394957,42.1406659
END:VEVENT
BEGIN:VEVENT
DTSTART;TZID=America/Halifax:20220403T110000
DTEND;TZID=America/Halifax:20220403T130000
DTSTAMP:20260422T183451
CREATED:20220225T191817Z
LAST-MODIFIED:20220225T191817Z
UID:10003855-1648983600-1648990800@adaptivesportsne.org
SUMMARY:WC Tennis - SCWTF (Hanover)
DESCRIPTION:
URL:https://adaptivesportsne.org/event/wc-tennis-scwtf-hanover/2022-04-03/
LOCATION:Emilson YMCA\, 75 Mill Street\, Hanover\, MA\, 02339\, United States
CATEGORIES:Other Para Sports
ORGANIZER;CN="South Coast Wheelchair Tennis Foundation":MAILTO:thomasd10@aol.com
GEO:42.1406659;-70.8394957
X-APPLE-STRUCTURED-LOCATION;VALUE=URI;X-ADDRESS=Emilson YMCA 75 Mill Street Hanover MA 02339 United States;X-APPLE-RADIUS=500;X-TITLE=75 Mill Street:geo:-70.8394957,42.1406659
END:VEVENT
BEGIN:VEVENT
DTSTART;TZID=America/Halifax:20220501T110000
DTEND;TZID=America/Halifax:20220501T130000
DTSTAMP:20260422T183451
CREATED:20220225T191817Z
LAST-MODIFIED:20220225T191817Z
UID:10003856-1651402800-1651410000@adaptivesportsne.org
SUMMARY:WC Tennis - SCWTF (Hanover)
DESCRIPTION:
URL:https://adaptivesportsne.org/event/wc-tennis-scwtf-hanover/2022-05-01/
LOCATION:Emilson YMCA\, 75 Mill Street\, Hanover\, MA\, 02339\, United States
CATEGORIES:Other Para Sports
ORGANIZER;CN="South Coast Wheelchair Tennis Foundation":MAILTO:thomasd10@aol.com
GEO:42.1406659;-70.8394957
X-APPLE-STRUCTURED-LOCATION;VALUE=URI;X-ADDRESS=Emilson YMCA 75 Mill Street Hanover MA 02339 United States;X-APPLE-RADIUS=500;X-TITLE=75 Mill Street:geo:-70.8394957,42.1406659
END:VEVENT
BEGIN:VEVENT
DTSTART;TZID=America/Halifax:20220509T140000
DTEND;TZID=America/Halifax:20220509T153000
DTSTAMP:20260422T183451
CREATED:20220504T173504Z
LAST-MODIFIED:20220504T173504Z
UID:10003876-1652104800-1652110200@adaptivesportsne.org
SUMMARY:Archery - SASC (Bedford)
DESCRIPTION:
URL:https://adaptivesportsne.org/event/archery-sasc-bedford/
LOCATION:woburn sportsman club\, 155 Middlesex Turnpike\, Bedford
CATEGORIES:Other Para Sports
ORGANIZER;CN="Spaulding Adaptive Sports Centers":MAILTO:scarper@partners.org
END:VEVENT
BEGIN:VEVENT
DTSTART;TZID=America/Halifax:20220514T140000
DTEND;TZID=America/Halifax:20220514T160000
DTSTAMP:20260422T183451
CREATED:20220410T132318Z
LAST-MODIFIED:20220410T132318Z
UID:10003865-1652536800-1652544000@adaptivesportsne.org
SUMMARY:Adaptive Sports for Younger Athletes - ASNE (Quincy)
DESCRIPTION:Sports and Games for youth ages 5-10 who have a mobility impairment.
URL:https://adaptivesportsne.org/event/adaptive-sports-for-younger-athletes-asne-quincy/
LOCATION:South Shore YMCA – Quincy\, 79 Coddington St\, Quincy \, MA\, 02169\, United States
CATEGORIES:Other Para Sports
ORGANIZER;CN="Adaptive Sports New England":MAILTO:joe.walsh@adaptivesportsne.org
GEO:42.252978;-70.997083
X-APPLE-STRUCTURED-LOCATION;VALUE=URI;X-ADDRESS=South Shore YMCA – Quincy 79 Coddington St Quincy  MA 02169 United States;X-APPLE-RADIUS=500;X-TITLE=79 Coddington St:geo:-70.997083,42.252978
END:VEVENT
BEGIN:VEVENT
DTSTART;TZID=America/Halifax:20220525T100000
DTEND;TZID=America/Halifax:20220525T120000
DTSTAMP:20260422T183451
CREATED:20220504T173939Z
LAST-MODIFIED:20220504T173939Z
UID:10003879-1653472800-1653480000@adaptivesportsne.org
SUMMARY:Tennis/Pickleball - SASC (Beverly)
DESCRIPTION:
URL:https://adaptivesportsne.org/event/tennis-pickleball-sasc-beverly-3/2022-05-25/
LOCATION:Beverly High School Tennis Courts\, 100 Sohier Rd\, Beverly\, MA\, 01915\, United States
CATEGORIES:Other Para Sports
ORGANIZER;CN="Spaulding Adaptive Sports Centers":MAILTO:scarper@partners.org
GEO:42.5646116;-70.8815731
X-APPLE-STRUCTURED-LOCATION;VALUE=URI;X-ADDRESS=Beverly High School Tennis Courts 100 Sohier Rd Beverly MA 01915 United States;X-APPLE-RADIUS=500;X-TITLE=100 Sohier Rd:geo:-70.8815731,42.5646116
END:VEVENT
BEGIN:VEVENT
DTSTART;TZID=America/Halifax:20220525T133000
DTEND;TZID=America/Halifax:20220525T150000
DTSTAMP:20260422T183451
CREATED:20220504T173737Z
LAST-MODIFIED:20220504T173737Z
UID:10003877-1653485400-1653490800@adaptivesportsne.org
SUMMARY:Archery - SASC (Salem)
DESCRIPTION:
URL:https://adaptivesportsne.org/event/archery-sasc-salem-11/2022-05-25/
LOCATION:Camp Naumkeag\, 155 Middlesex Turnpike\, Salem\, MA\, United States
CATEGORIES:Other Para Sports
ORGANIZER;CN="Spaulding Adaptive Sports Centers":MAILTO:scarper@partners.org
END:VEVENT
BEGIN:VEVENT
DTSTART;TZID=America/Halifax:20220606T173000
DTEND;TZID=America/Halifax:20220606T203000
DTSTAMP:20260422T183451
CREATED:20220602T171856Z
LAST-MODIFIED:20220831T131755Z
UID:10003903-1654536600-1654547400@adaptivesportsne.org
SUMMARY:Wheelchair Tennis - SCWT (Westport)
DESCRIPTION:
URL:https://adaptivesportsne.org/event/summer-tennis-clinics-scwt-westport/2022-06-06/
LOCATION:Dianne B. Snyder Tennis Complex\, 400 Old County Road\, Westport\, MA\, United States
CATEGORIES:Other Para Sports
ORGANIZER;CN="South Coast Wheelchair Tennis Foundation":MAILTO:thomasd10@aol.com
GEO:41.6213271;-71.0643864
X-APPLE-STRUCTURED-LOCATION;VALUE=URI;X-ADDRESS=Dianne B. Snyder Tennis Complex 400 Old County Road Westport MA United States;X-APPLE-RADIUS=500;X-TITLE=400 Old County Road:geo:-71.0643864,41.6213271
END:VEVENT
BEGIN:VEVENT
DTSTART;TZID=America/Halifax:20220608T100000
DTEND;TZID=America/Halifax:20220608T120000
DTSTAMP:20260422T183451
CREATED:20220504T173939Z
LAST-MODIFIED:20220504T173939Z
UID:10003880-1654682400-1654689600@adaptivesportsne.org
SUMMARY:Tennis/Pickleball - SASC (Beverly)
DESCRIPTION:
URL:https://adaptivesportsne.org/event/tennis-pickleball-sasc-beverly-3/2022-06-08/
LOCATION:Beverly High School Tennis Courts\, 100 Sohier Rd\, Beverly\, MA\, 01915\, United States
CATEGORIES:Other Para Sports
ORGANIZER;CN="Spaulding Adaptive Sports Centers":MAILTO:scarper@partners.org
GEO:42.5646116;-70.8815731
X-APPLE-STRUCTURED-LOCATION;VALUE=URI;X-ADDRESS=Beverly High School Tennis Courts 100 Sohier Rd Beverly MA 01915 United States;X-APPLE-RADIUS=500;X-TITLE=100 Sohier Rd:geo:-70.8815731,42.5646116
END:VEVENT
BEGIN:VEVENT
DTSTART;TZID=America/Halifax:20220608T133000
DTEND;TZID=America/Halifax:20220608T150000
DTSTAMP:20260422T183451
CREATED:20220504T173737Z
LAST-MODIFIED:20220504T173737Z
UID:10003878-1654695000-1654700400@adaptivesportsne.org
SUMMARY:Archery - SASC (Salem)
DESCRIPTION:
URL:https://adaptivesportsne.org/event/archery-sasc-salem-11/2022-06-08/
LOCATION:Camp Naumkeag\, 155 Middlesex Turnpike\, Salem\, MA\, United States
CATEGORIES:Other Para Sports
ORGANIZER;CN="Spaulding Adaptive Sports Centers":MAILTO:scarper@partners.org
END:VEVENT
END:VCALENDAR