BEGIN:VCALENDAR
VERSION:2.0
PRODID:-//Adaptive Sports New England - ECPv6.15.20//NONSGML v1.0//EN
CALSCALE:GREGORIAN
METHOD:PUBLISH
X-WR-CALNAME:Adaptive Sports New England
X-ORIGINAL-URL:https://adaptivesportsne.org
X-WR-CALDESC:Events for Adaptive Sports New England
REFRESH-INTERVAL;VALUE=DURATION:PT1H
X-Robots-Tag:noindex
X-PUBLISHED-TTL:PT1H
BEGIN:VTIMEZONE
TZID:America/New_York
BEGIN:DAYLIGHT
TZOFFSETFROM:-0500
TZOFFSETTO:-0400
TZNAME:EDT
DTSTART:20220313T070000
END:DAYLIGHT
BEGIN:STANDARD
TZOFFSETFROM:-0400
TZOFFSETTO:-0500
TZNAME:EST
DTSTART:20221106T060000
END:STANDARD
BEGIN:DAYLIGHT
TZOFFSETFROM:-0500
TZOFFSETTO:-0400
TZNAME:EDT
DTSTART:20230312T070000
END:DAYLIGHT
BEGIN:STANDARD
TZOFFSETFROM:-0400
TZOFFSETTO:-0500
TZNAME:EST
DTSTART:20231105T060000
END:STANDARD
BEGIN:DAYLIGHT
TZOFFSETFROM:-0500
TZOFFSETTO:-0400
TZNAME:EDT
DTSTART:20240310T070000
END:DAYLIGHT
BEGIN:STANDARD
TZOFFSETFROM:-0400
TZOFFSETTO:-0500
TZNAME:EST
DTSTART:20241103T060000
END:STANDARD
BEGIN:DAYLIGHT
TZOFFSETFROM:-0500
TZOFFSETTO:-0400
TZNAME:EDT
DTSTART:20250309T070000
END:DAYLIGHT
BEGIN:STANDARD
TZOFFSETFROM:-0400
TZOFFSETTO:-0500
TZNAME:EST
DTSTART:20251102T060000
END:STANDARD
END:VTIMEZONE
BEGIN:VEVENT
DTSTART;TZID=America/New_York:20231022T140000
DTEND;TZID=America/New_York:20231022T153000
DTSTAMP:20260425T093723
CREATED:20230905T150212Z
LAST-MODIFIED:20230905T150212Z
UID:10004353-1697983200-1697988600@adaptivesportsne.org
SUMMARY:CP Soccer - CPSNE (Framingham)
DESCRIPTION:Email email hidden; JavaScript is required for more information or to register.
URL:https://adaptivesportsne.org/event/cp-soccer-cpsne-framingham-3/2023-10-22/
LOCATION:Merchant Field\, 65 Merchant Rd\, Framingham\, MA\, 01702\, United States
CATEGORIES:Other Para Sports
ORGANIZER;CN="CP Soccer New England":MAILTO:newengland@cpsoccer.us
END:VEVENT
BEGIN:VEVENT
DTSTART;TZID=America/New_York:20231029T110000
DTEND;TZID=America/New_York:20231029T120000
DTSTAMP:20260425T093723
CREATED:20231101T165553Z
LAST-MODIFIED:20231101T165553Z
UID:10004454-1698577200-1698580800@adaptivesportsne.org
SUMMARY:Adaptive Crossfit - AIM Therapy (Needham)
DESCRIPTION:
URL:https://adaptivesportsne.org/event/adaptive-crossfit-aim-therapy-needham/2023-10-29/
LOCATION:Crossfit One Nation\, 10 Charles St\, Needham\, MA\, 02494
CATEGORIES:Other Para Sports
END:VEVENT
BEGIN:VEVENT
DTSTART;TZID=America/New_York:20231029T140000
DTEND;TZID=America/New_York:20231029T153000
DTSTAMP:20260425T093723
CREATED:20230905T150212Z
LAST-MODIFIED:20230905T150212Z
UID:10004354-1698588000-1698593400@adaptivesportsne.org
SUMMARY:CP Soccer - CPSNE (Framingham)
DESCRIPTION:Email email hidden; JavaScript is required for more information or to register.
URL:https://adaptivesportsne.org/event/cp-soccer-cpsne-framingham-3/2023-10-29/
LOCATION:Merchant Field\, 65 Merchant Rd\, Framingham\, MA\, 01702\, United States
CATEGORIES:Other Para Sports
ORGANIZER;CN="CP Soccer New England":MAILTO:newengland@cpsoccer.us
END:VEVENT
BEGIN:VEVENT
DTSTART;TZID=America/New_York:20231031T130000
DTEND;TZID=America/New_York:20231031T150000
DTSTAMP:20260425T093723
CREATED:20230927T135204Z
LAST-MODIFIED:20230927T135242Z
UID:10004414-1698757200-1698764400@adaptivesportsne.org
SUMMARY:Outdoor Archery - NEP (Durham\, NH)
DESCRIPTION:
URL:https://adaptivesportsne.org/event/outdoor-archery-nep-durham-nh-2/2023-10-31/
LOCATION:Northeast Passage\, 121 Technology Drive Suite 161\, Durham\, New Hampshire
CATEGORIES:Other Para Sports
ORGANIZER;CN="Northeast Passage":MAILTO:northeast.passage@unh.edu
END:VEVENT
BEGIN:VEVENT
DTSTART;TZID=America/New_York:20231105T140000
DTEND;TZID=America/New_York:20231105T153000
DTSTAMP:20260425T093723
CREATED:20230905T150212Z
LAST-MODIFIED:20230905T150212Z
UID:10004355-1699192800-1699198200@adaptivesportsne.org
SUMMARY:CP Soccer - CPSNE (Framingham)
DESCRIPTION:Email email hidden; JavaScript is required for more information or to register.
URL:https://adaptivesportsne.org/event/cp-soccer-cpsne-framingham-3/2023-11-05/
LOCATION:Merchant Field\, 65 Merchant Rd\, Framingham\, MA\, 01702\, United States
CATEGORIES:Other Para Sports
ORGANIZER;CN="CP Soccer New England":MAILTO:newengland@cpsoccer.us
END:VEVENT
BEGIN:VEVENT
DTSTART;TZID=America/New_York:20231107T093000
DTEND;TZID=America/New_York:20231107T120000
DTSTAMP:20260425T093723
CREATED:20231026T142842Z
LAST-MODIFIED:20231026T142842Z
UID:10004424-1699349400-1699358400@adaptivesportsne.org
SUMMARY:Pickleball - NEP (Exeter\, NH)
DESCRIPTION:
URL:https://adaptivesportsne.org/event/pickleball-nep-exeter-nh/2023-11-07/
LOCATION:Exeter Area YMCA\, 56 Linden St\, Exeter\, NH\, 03833\, United States
CATEGORIES:Other Para Sports
ORGANIZER;CN="Northeast Passage":MAILTO:northeast.passage@unh.edu
GEO:42.9732683;-70.9595119
X-APPLE-STRUCTURED-LOCATION;VALUE=URI;X-ADDRESS=Exeter Area YMCA 56 Linden St Exeter NH 03833 United States;X-APPLE-RADIUS=500;X-TITLE=56 Linden St:geo:-70.9595119,42.9732683
END:VEVENT
BEGIN:VEVENT
DTSTART;TZID=America/New_York:20231112T110000
DTEND;TZID=America/New_York:20231112T120000
DTSTAMP:20260425T093723
CREATED:20231101T165553Z
LAST-MODIFIED:20231101T165553Z
UID:10004455-1699786800-1699790400@adaptivesportsne.org
SUMMARY:Adaptive Crossfit - AIM Therapy (Needham)
DESCRIPTION:
URL:https://adaptivesportsne.org/event/adaptive-crossfit-aim-therapy-needham/2023-11-12/
LOCATION:Crossfit One Nation\, 10 Charles St\, Needham\, MA\, 02494
CATEGORIES:Other Para Sports
END:VEVENT
BEGIN:VEVENT
DTSTART;TZID=America/New_York:20231114T093000
DTEND;TZID=America/New_York:20231114T120000
DTSTAMP:20260425T093723
CREATED:20231026T142842Z
LAST-MODIFIED:20231026T142842Z
UID:10004425-1699954200-1699963200@adaptivesportsne.org
SUMMARY:Pickleball - NEP (Exeter\, NH)
DESCRIPTION:
URL:https://adaptivesportsne.org/event/pickleball-nep-exeter-nh/2023-11-14/
LOCATION:Exeter Area YMCA\, 56 Linden St\, Exeter\, NH\, 03833\, United States
CATEGORIES:Other Para Sports
ORGANIZER;CN="Northeast Passage":MAILTO:northeast.passage@unh.edu
GEO:42.9732683;-70.9595119
X-APPLE-STRUCTURED-LOCATION;VALUE=URI;X-ADDRESS=Exeter Area YMCA 56 Linden St Exeter NH 03833 United States;X-APPLE-RADIUS=500;X-TITLE=56 Linden St:geo:-70.9595119,42.9732683
END:VEVENT
BEGIN:VEVENT
DTSTART;TZID=America/New_York:20231117T130000
DTEND;TZID=America/New_York:20231117T150000
DTSTAMP:20260425T093723
CREATED:20231026T144039Z
LAST-MODIFIED:20231026T144039Z
UID:10004444-1700226000-1700233200@adaptivesportsne.org
SUMMARY:Indoor Archery - NEP (Rochester\, NH)
DESCRIPTION:
URL:https://adaptivesportsne.org/event/indoor-archery-nep-rochester-nh-2/2023-11-17/
LOCATION:Rochester\, NH\, Rochester\, NH\, United States
CATEGORIES:Other Para Sports
ORGANIZER;CN="Northeast Passage":MAILTO:northeast.passage@unh.edu
END:VEVENT
BEGIN:VEVENT
DTSTART;TZID=America/New_York:20231119T110000
DTEND;TZID=America/New_York:20231119T120000
DTSTAMP:20260425T093723
CREATED:20231101T165553Z
LAST-MODIFIED:20231101T165553Z
UID:10004456-1700391600-1700395200@adaptivesportsne.org
SUMMARY:Adaptive Crossfit - AIM Therapy (Needham)
DESCRIPTION:
URL:https://adaptivesportsne.org/event/adaptive-crossfit-aim-therapy-needham/2023-11-19/
LOCATION:Crossfit One Nation\, 10 Charles St\, Needham\, MA\, 02494
CATEGORIES:Other Para Sports
END:VEVENT
BEGIN:VEVENT
DTSTART;TZID=America/New_York:20231121T093000
DTEND;TZID=America/New_York:20231121T120000
DTSTAMP:20260425T093723
CREATED:20231026T142842Z
LAST-MODIFIED:20231026T142842Z
UID:10004426-1700559000-1700568000@adaptivesportsne.org
SUMMARY:Pickleball - NEP (Exeter\, NH)
DESCRIPTION:
URL:https://adaptivesportsne.org/event/pickleball-nep-exeter-nh/2023-11-21/
LOCATION:Exeter Area YMCA\, 56 Linden St\, Exeter\, NH\, 03833\, United States
CATEGORIES:Other Para Sports
ORGANIZER;CN="Northeast Passage":MAILTO:northeast.passage@unh.edu
GEO:42.9732683;-70.9595119
X-APPLE-STRUCTURED-LOCATION;VALUE=URI;X-ADDRESS=Exeter Area YMCA 56 Linden St Exeter NH 03833 United States;X-APPLE-RADIUS=500;X-TITLE=56 Linden St:geo:-70.9595119,42.9732683
END:VEVENT
BEGIN:VEVENT
DTSTART;TZID=America/New_York:20231128T093000
DTEND;TZID=America/New_York:20231128T120000
DTSTAMP:20260425T093723
CREATED:20231026T142842Z
LAST-MODIFIED:20231026T142842Z
UID:10004427-1701163800-1701172800@adaptivesportsne.org
SUMMARY:Pickleball - NEP (Exeter\, NH)
DESCRIPTION:
URL:https://adaptivesportsne.org/event/pickleball-nep-exeter-nh/2023-11-28/
LOCATION:Exeter Area YMCA\, 56 Linden St\, Exeter\, NH\, 03833\, United States
CATEGORIES:Other Para Sports
ORGANIZER;CN="Northeast Passage":MAILTO:northeast.passage@unh.edu
GEO:42.9732683;-70.9595119
X-APPLE-STRUCTURED-LOCATION;VALUE=URI;X-ADDRESS=Exeter Area YMCA 56 Linden St Exeter NH 03833 United States;X-APPLE-RADIUS=500;X-TITLE=56 Linden St:geo:-70.9595119,42.9732683
END:VEVENT
BEGIN:VEVENT
DTSTART;TZID=America/New_York:20231201T130000
DTEND;TZID=America/New_York:20231201T150000
DTSTAMP:20260425T093723
CREATED:20231026T144039Z
LAST-MODIFIED:20231026T144039Z
UID:10004445-1701435600-1701442800@adaptivesportsne.org
SUMMARY:Indoor Archery - NEP (Rochester\, NH)
DESCRIPTION:
URL:https://adaptivesportsne.org/event/indoor-archery-nep-rochester-nh-2/2023-12-01/
LOCATION:Rochester\, NH\, Rochester\, NH\, United States
CATEGORIES:Other Para Sports
ORGANIZER;CN="Northeast Passage":MAILTO:northeast.passage@unh.edu
END:VEVENT
BEGIN:VEVENT
DTSTART;TZID=America/New_York:20231203T110000
DTEND;TZID=America/New_York:20231203T120000
DTSTAMP:20260425T093723
CREATED:20231101T165553Z
LAST-MODIFIED:20231101T165553Z
UID:10004457-1701601200-1701604800@adaptivesportsne.org
SUMMARY:Adaptive Crossfit - AIM Therapy (Needham)
DESCRIPTION:
URL:https://adaptivesportsne.org/event/adaptive-crossfit-aim-therapy-needham/2023-12-03/
LOCATION:Crossfit One Nation\, 10 Charles St\, Needham\, MA\, 02494
CATEGORIES:Other Para Sports
END:VEVENT
BEGIN:VEVENT
DTSTART;TZID=America/New_York:20231205T093000
DTEND;TZID=America/New_York:20231205T120000
DTSTAMP:20260425T093723
CREATED:20231026T142842Z
LAST-MODIFIED:20231026T142842Z
UID:10004428-1701768600-1701777600@adaptivesportsne.org
SUMMARY:Pickleball - NEP (Exeter\, NH)
DESCRIPTION:
URL:https://adaptivesportsne.org/event/pickleball-nep-exeter-nh/2023-12-05/
LOCATION:Exeter Area YMCA\, 56 Linden St\, Exeter\, NH\, 03833\, United States
CATEGORIES:Other Para Sports
ORGANIZER;CN="Northeast Passage":MAILTO:northeast.passage@unh.edu
GEO:42.9732683;-70.9595119
X-APPLE-STRUCTURED-LOCATION;VALUE=URI;X-ADDRESS=Exeter Area YMCA 56 Linden St Exeter NH 03833 United States;X-APPLE-RADIUS=500;X-TITLE=56 Linden St:geo:-70.9595119,42.9732683
END:VEVENT
BEGIN:VEVENT
DTSTART;TZID=America/New_York:20231209T090000
DTEND;TZID=America/New_York:20231209T120000
DTSTAMP:20260425T093723
CREATED:20231205T164507Z
LAST-MODIFIED:20231205T164507Z
UID:10004477-1702112400-1702123200@adaptivesportsne.org
SUMMARY:Adaptive Sports Clinic - OSCIL (Providence\, RI)
DESCRIPTION:
URL:https://adaptivesportsne.org/event/adaptive-sports-clinic-oscil-providence-ri/
LOCATION:Johnson & Wales Wildcat Centre\, 305 Shipyard St\, Providence\, RI
CATEGORIES:Other Para Sports
END:VEVENT
BEGIN:VEVENT
DTSTART;TZID=America/New_York:20231210T110000
DTEND;TZID=America/New_York:20231210T120000
DTSTAMP:20260425T093723
CREATED:20231101T165553Z
LAST-MODIFIED:20231101T165553Z
UID:10004458-1702206000-1702209600@adaptivesportsne.org
SUMMARY:Adaptive Crossfit - AIM Therapy (Needham)
DESCRIPTION:
URL:https://adaptivesportsne.org/event/adaptive-crossfit-aim-therapy-needham/2023-12-10/
LOCATION:Crossfit One Nation\, 10 Charles St\, Needham\, MA\, 02494
CATEGORIES:Other Para Sports
END:VEVENT
BEGIN:VEVENT
DTSTART;TZID=America/New_York:20231212T093000
DTEND;TZID=America/New_York:20231212T120000
DTSTAMP:20260425T093723
CREATED:20231026T142842Z
LAST-MODIFIED:20231026T142842Z
UID:10004429-1702373400-1702382400@adaptivesportsne.org
SUMMARY:Pickleball - NEP (Exeter\, NH)
DESCRIPTION:
URL:https://adaptivesportsne.org/event/pickleball-nep-exeter-nh/2023-12-12/
LOCATION:Exeter Area YMCA\, 56 Linden St\, Exeter\, NH\, 03833\, United States
CATEGORIES:Other Para Sports
ORGANIZER;CN="Northeast Passage":MAILTO:northeast.passage@unh.edu
GEO:42.9732683;-70.9595119
X-APPLE-STRUCTURED-LOCATION;VALUE=URI;X-ADDRESS=Exeter Area YMCA 56 Linden St Exeter NH 03833 United States;X-APPLE-RADIUS=500;X-TITLE=56 Linden St:geo:-70.9595119,42.9732683
END:VEVENT
BEGIN:VEVENT
DTSTART;TZID=America/New_York:20231215T130000
DTEND;TZID=America/New_York:20231215T150000
DTSTAMP:20260425T093723
CREATED:20231026T144039Z
LAST-MODIFIED:20231026T144039Z
UID:10004446-1702645200-1702652400@adaptivesportsne.org
SUMMARY:Indoor Archery - NEP (Rochester\, NH)
DESCRIPTION:
URL:https://adaptivesportsne.org/event/indoor-archery-nep-rochester-nh-2/2023-12-15/
LOCATION:Rochester\, NH\, Rochester\, NH\, United States
CATEGORIES:Other Para Sports
ORGANIZER;CN="Northeast Passage":MAILTO:northeast.passage@unh.edu
END:VEVENT
BEGIN:VEVENT
DTSTART;TZID=America/New_York:20231217T110000
DTEND;TZID=America/New_York:20231217T120000
DTSTAMP:20260425T093723
CREATED:20231101T165553Z
LAST-MODIFIED:20231101T165553Z
UID:10004459-1702810800-1702814400@adaptivesportsne.org
SUMMARY:Adaptive Crossfit - AIM Therapy (Needham)
DESCRIPTION:
URL:https://adaptivesportsne.org/event/adaptive-crossfit-aim-therapy-needham/2023-12-17/
LOCATION:Crossfit One Nation\, 10 Charles St\, Needham\, MA\, 02494
CATEGORIES:Other Para Sports
END:VEVENT
BEGIN:VEVENT
DTSTART;TZID=America/New_York:20231219T093000
DTEND;TZID=America/New_York:20231219T120000
DTSTAMP:20260425T093723
CREATED:20231026T142842Z
LAST-MODIFIED:20231026T142842Z
UID:10004430-1702978200-1702987200@adaptivesportsne.org
SUMMARY:Pickleball - NEP (Exeter\, NH)
DESCRIPTION:
URL:https://adaptivesportsne.org/event/pickleball-nep-exeter-nh/2023-12-19/
LOCATION:Exeter Area YMCA\, 56 Linden St\, Exeter\, NH\, 03833\, United States
CATEGORIES:Other Para Sports
ORGANIZER;CN="Northeast Passage":MAILTO:northeast.passage@unh.edu
GEO:42.9732683;-70.9595119
X-APPLE-STRUCTURED-LOCATION;VALUE=URI;X-ADDRESS=Exeter Area YMCA 56 Linden St Exeter NH 03833 United States;X-APPLE-RADIUS=500;X-TITLE=56 Linden St:geo:-70.9595119,42.9732683
END:VEVENT
BEGIN:VEVENT
DTSTART;TZID=America/New_York:20240102T093000
DTEND;TZID=America/New_York:20240102T120000
DTSTAMP:20260425T093723
CREATED:20231026T142842Z
LAST-MODIFIED:20231026T142842Z
UID:10004431-1704187800-1704196800@adaptivesportsne.org
SUMMARY:Pickleball - NEP (Exeter\, NH)
DESCRIPTION:
URL:https://adaptivesportsne.org/event/pickleball-nep-exeter-nh/2024-01-02/
LOCATION:Exeter Area YMCA\, 56 Linden St\, Exeter\, NH\, 03833\, United States
CATEGORIES:Other Para Sports
ORGANIZER;CN="Northeast Passage":MAILTO:northeast.passage@unh.edu
GEO:42.9732683;-70.9595119
X-APPLE-STRUCTURED-LOCATION;VALUE=URI;X-ADDRESS=Exeter Area YMCA 56 Linden St Exeter NH 03833 United States;X-APPLE-RADIUS=500;X-TITLE=56 Linden St:geo:-70.9595119,42.9732683
END:VEVENT
BEGIN:VEVENT
DTSTART;TZID=America/New_York:20240105T130000
DTEND;TZID=America/New_York:20240105T150000
DTSTAMP:20260425T093723
CREATED:20231026T144039Z
LAST-MODIFIED:20231026T144039Z
UID:10004447-1704459600-1704466800@adaptivesportsne.org
SUMMARY:Indoor Archery - NEP (Rochester\, NH)
DESCRIPTION:
URL:https://adaptivesportsne.org/event/indoor-archery-nep-rochester-nh-2/2024-01-05/
LOCATION:Rochester\, NH\, Rochester\, NH\, United States
CATEGORIES:Other Para Sports
ORGANIZER;CN="Northeast Passage":MAILTO:northeast.passage@unh.edu
END:VEVENT
BEGIN:VEVENT
DTSTART;TZID=America/New_York:20240109T093000
DTEND;TZID=America/New_York:20240109T120000
DTSTAMP:20260425T093723
CREATED:20231026T142842Z
LAST-MODIFIED:20231026T142842Z
UID:10004432-1704792600-1704801600@adaptivesportsne.org
SUMMARY:Pickleball - NEP (Exeter\, NH)
DESCRIPTION:
URL:https://adaptivesportsne.org/event/pickleball-nep-exeter-nh/2024-01-09/
LOCATION:Exeter Area YMCA\, 56 Linden St\, Exeter\, NH\, 03833\, United States
CATEGORIES:Other Para Sports
ORGANIZER;CN="Northeast Passage":MAILTO:northeast.passage@unh.edu
GEO:42.9732683;-70.9595119
X-APPLE-STRUCTURED-LOCATION;VALUE=URI;X-ADDRESS=Exeter Area YMCA 56 Linden St Exeter NH 03833 United States;X-APPLE-RADIUS=500;X-TITLE=56 Linden St:geo:-70.9595119,42.9732683
END:VEVENT
BEGIN:VEVENT
DTSTART;VALUE=DATE:20240116
DTEND;VALUE=DATE:20240119
DTSTAMP:20260425T093723
CREATED:20231213T154850Z
LAST-MODIFIED:20231213T154850Z
UID:10004589-1705363200-1705622399@adaptivesportsne.org
SUMMARY:Nordic Ski Camps - NEDS (Bretton Woods)
DESCRIPTION:
URL:https://adaptivesportsne.org/event/nordic-ski-camps-neds-bretton-woods/
LOCATION:Bretton Woods Nordic Center\, 210 Mt. Washington Hotel Rd\, Bretton Woods\, NH\, 03575\, United States
CATEGORIES:Other Para Sports
ORGANIZER;CN="New England Disabled Sports":MAILTO:info@nedisabledsports.org
GEO:44.2544692;-71.4379694
X-APPLE-STRUCTURED-LOCATION;VALUE=URI;X-ADDRESS=Bretton Woods Nordic Center 210 Mt. Washington Hotel Rd Bretton Woods NH 03575 United States;X-APPLE-RADIUS=500;X-TITLE=210 Mt. Washington Hotel Rd:geo:-71.4379694,44.2544692
END:VEVENT
BEGIN:VEVENT
DTSTART;TZID=America/New_York:20240116T093000
DTEND;TZID=America/New_York:20240116T120000
DTSTAMP:20260425T093723
CREATED:20231026T142842Z
LAST-MODIFIED:20231026T142842Z
UID:10004433-1705397400-1705406400@adaptivesportsne.org
SUMMARY:Pickleball - NEP (Exeter\, NH)
DESCRIPTION:
URL:https://adaptivesportsne.org/event/pickleball-nep-exeter-nh/2024-01-16/
LOCATION:Exeter Area YMCA\, 56 Linden St\, Exeter\, NH\, 03833\, United States
CATEGORIES:Other Para Sports
ORGANIZER;CN="Northeast Passage":MAILTO:northeast.passage@unh.edu
GEO:42.9732683;-70.9595119
X-APPLE-STRUCTURED-LOCATION;VALUE=URI;X-ADDRESS=Exeter Area YMCA 56 Linden St Exeter NH 03833 United States;X-APPLE-RADIUS=500;X-TITLE=56 Linden St:geo:-70.9595119,42.9732683
END:VEVENT
BEGIN:VEVENT
DTSTART;TZID=America/New_York:20240119T130000
DTEND;TZID=America/New_York:20240119T150000
DTSTAMP:20260425T093723
CREATED:20231026T144039Z
LAST-MODIFIED:20231026T144039Z
UID:10004448-1705669200-1705676400@adaptivesportsne.org
SUMMARY:Indoor Archery - NEP (Rochester\, NH)
DESCRIPTION:
URL:https://adaptivesportsne.org/event/indoor-archery-nep-rochester-nh-2/2024-01-19/
LOCATION:Rochester\, NH\, Rochester\, NH\, United States
CATEGORIES:Other Para Sports
ORGANIZER;CN="Northeast Passage":MAILTO:northeast.passage@unh.edu
END:VEVENT
BEGIN:VEVENT
DTSTART;TZID=America/New_York:20240123T093000
DTEND;TZID=America/New_York:20240123T120000
DTSTAMP:20260425T093723
CREATED:20231026T142842Z
LAST-MODIFIED:20231026T142842Z
UID:10004434-1706002200-1706011200@adaptivesportsne.org
SUMMARY:Pickleball - NEP (Exeter\, NH)
DESCRIPTION:
URL:https://adaptivesportsne.org/event/pickleball-nep-exeter-nh/2024-01-23/
LOCATION:Exeter Area YMCA\, 56 Linden St\, Exeter\, NH\, 03833\, United States
CATEGORIES:Other Para Sports
ORGANIZER;CN="Northeast Passage":MAILTO:northeast.passage@unh.edu
GEO:42.9732683;-70.9595119
X-APPLE-STRUCTURED-LOCATION;VALUE=URI;X-ADDRESS=Exeter Area YMCA 56 Linden St Exeter NH 03833 United States;X-APPLE-RADIUS=500;X-TITLE=56 Linden St:geo:-70.9595119,42.9732683
END:VEVENT
BEGIN:VEVENT
DTSTART;TZID=America/New_York:20240128T130000
DTEND;TZID=America/New_York:20240128T170000
DTSTAMP:20260425T093723
CREATED:20231212T181403Z
LAST-MODIFIED:20231212T181403Z
UID:10004478-1706446800-1706461200@adaptivesportsne.org
SUMMARY:Parafencing - BFC (Brighton)
DESCRIPTION:
URL:https://adaptivesportsne.org/event/parafencing-bfc-brighton/2024-01-28/
LOCATION:Boston Fencing Club\, 100 Holton Street\, Brighton\, MA\, 02135\, United States
CATEGORIES:Other Para Sports
ORGANIZER;CN="Boston Fencing Club":MAILTO:info@bostonfencingclub.org
END:VEVENT
BEGIN:VEVENT
DTSTART;TZID=America/New_York:20240130T093000
DTEND;TZID=America/New_York:20240130T120000
DTSTAMP:20260425T093723
CREATED:20231026T142842Z
LAST-MODIFIED:20231026T142842Z
UID:10004435-1706607000-1706616000@adaptivesportsne.org
SUMMARY:Pickleball - NEP (Exeter\, NH)
DESCRIPTION:
URL:https://adaptivesportsne.org/event/pickleball-nep-exeter-nh/2024-01-30/
LOCATION:Exeter Area YMCA\, 56 Linden St\, Exeter\, NH\, 03833\, United States
CATEGORIES:Other Para Sports
ORGANIZER;CN="Northeast Passage":MAILTO:northeast.passage@unh.edu
GEO:42.9732683;-70.9595119
X-APPLE-STRUCTURED-LOCATION;VALUE=URI;X-ADDRESS=Exeter Area YMCA 56 Linden St Exeter NH 03833 United States;X-APPLE-RADIUS=500;X-TITLE=56 Linden St:geo:-70.9595119,42.9732683
END:VEVENT
END:VCALENDAR