BEGIN:VCALENDAR
VERSION:2.0
PRODID:-//Adaptive Sports New England - ECPv6.15.20//NONSGML v1.0//EN
CALSCALE:GREGORIAN
METHOD:PUBLISH
X-ORIGINAL-URL:https://adaptivesportsne.org
X-WR-CALDESC:Events for Adaptive Sports New England
REFRESH-INTERVAL;VALUE=DURATION:PT1H
X-Robots-Tag:noindex
X-PUBLISHED-TTL:PT1H
BEGIN:VTIMEZONE
TZID:America/Halifax
BEGIN:DAYLIGHT
TZOFFSETFROM:-0400
TZOFFSETTO:-0300
TZNAME:ADT
DTSTART:20210314T060000
END:DAYLIGHT
BEGIN:STANDARD
TZOFFSETFROM:-0300
TZOFFSETTO:-0400
TZNAME:AST
DTSTART:20211107T050000
END:STANDARD
BEGIN:DAYLIGHT
TZOFFSETFROM:-0400
TZOFFSETTO:-0300
TZNAME:ADT
DTSTART:20220313T060000
END:DAYLIGHT
BEGIN:STANDARD
TZOFFSETFROM:-0300
TZOFFSETTO:-0400
TZNAME:AST
DTSTART:20221106T050000
END:STANDARD
BEGIN:DAYLIGHT
TZOFFSETFROM:-0400
TZOFFSETTO:-0300
TZNAME:ADT
DTSTART:20230312T060000
END:DAYLIGHT
BEGIN:STANDARD
TZOFFSETFROM:-0300
TZOFFSETTO:-0400
TZNAME:AST
DTSTART:20231105T050000
END:STANDARD
END:VTIMEZONE
BEGIN:VTIMEZONE
TZID:America/New_York
BEGIN:DAYLIGHT
TZOFFSETFROM:-0500
TZOFFSETTO:-0400
TZNAME:EDT
DTSTART:20220313T070000
END:DAYLIGHT
BEGIN:STANDARD
TZOFFSETFROM:-0400
TZOFFSETTO:-0500
TZNAME:EST
DTSTART:20221106T060000
END:STANDARD
BEGIN:DAYLIGHT
TZOFFSETFROM:-0500
TZOFFSETTO:-0400
TZNAME:EDT
DTSTART:20230312T070000
END:DAYLIGHT
BEGIN:STANDARD
TZOFFSETFROM:-0400
TZOFFSETTO:-0500
TZNAME:EST
DTSTART:20231105T060000
END:STANDARD
BEGIN:DAYLIGHT
TZOFFSETFROM:-0500
TZOFFSETTO:-0400
TZNAME:EDT
DTSTART:20240310T070000
END:DAYLIGHT
BEGIN:STANDARD
TZOFFSETFROM:-0400
TZOFFSETTO:-0500
TZNAME:EST
DTSTART:20241103T060000
END:STANDARD
END:VTIMEZONE
BEGIN:VEVENT
DTSTART;TZID=America/Halifax:20220725T173000
DTEND;TZID=America/Halifax:20220725T203000
DTSTAMP:20260420T041552
CREATED:20220602T171856Z
LAST-MODIFIED:20220831T131755Z
UID:10003910-1658770200-1658781000@adaptivesportsne.org
SUMMARY:Wheelchair Tennis - SCWT (Westport)
DESCRIPTION:
URL:https://adaptivesportsne.org/event/summer-tennis-clinics-scwt-westport/2022-07-25/
LOCATION:Dianne B. Snyder Tennis Complex\, 400 Old County Road\, Westport\, MA\, United States
CATEGORIES:Other Para Sports
ORGANIZER;CN="South Coast Wheelchair Tennis Foundation":MAILTO:thomasd10@aol.com
GEO:41.6213271;-71.0643864
X-APPLE-STRUCTURED-LOCATION;VALUE=URI;X-ADDRESS=Dianne B. Snyder Tennis Complex 400 Old County Road Westport MA United States;X-APPLE-RADIUS=500;X-TITLE=400 Old County Road:geo:-71.0643864,41.6213271
END:VEVENT
BEGIN:VEVENT
DTSTART;TZID=America/Halifax:20220730T110000
DTEND;TZID=America/Halifax:20220730T130000
DTSTAMP:20260420T041552
CREATED:20220629T142111Z
LAST-MODIFIED:20220629T142204Z
UID:10003928-1659178800-1659186000@adaptivesportsne.org
SUMMARY:Beep Baseball - ASNE (Medford)
DESCRIPTION:
URL:https://adaptivesportsne.org/event/beep-baseball-asne-medford/2022-07-30/
LOCATION:Tufts University – Field F\, 160F College Ave\, Medford\, MA\, 02155\, United States
CATEGORIES:Other Para Sports
ORGANIZER;CN="Adaptive Sports New England":MAILTO:joe.walsh@adaptivesportsne.org
END:VEVENT
BEGIN:VEVENT
DTSTART;TZID=America/Halifax:20220801T173000
DTEND;TZID=America/Halifax:20220801T203000
DTSTAMP:20260420T041552
CREATED:20220602T171856Z
LAST-MODIFIED:20220831T131755Z
UID:10003911-1659375000-1659385800@adaptivesportsne.org
SUMMARY:Wheelchair Tennis - SCWT (Westport)
DESCRIPTION:
URL:https://adaptivesportsne.org/event/summer-tennis-clinics-scwt-westport/2022-08-01/
LOCATION:Dianne B. Snyder Tennis Complex\, 400 Old County Road\, Westport\, MA\, United States
CATEGORIES:Other Para Sports
ORGANIZER;CN="South Coast Wheelchair Tennis Foundation":MAILTO:thomasd10@aol.com
GEO:41.6213271;-71.0643864
X-APPLE-STRUCTURED-LOCATION;VALUE=URI;X-ADDRESS=Dianne B. Snyder Tennis Complex 400 Old County Road Westport MA United States;X-APPLE-RADIUS=500;X-TITLE=400 Old County Road:geo:-71.0643864,41.6213271
END:VEVENT
BEGIN:VEVENT
DTSTART;TZID=America/Halifax:20220805T090000
DTEND;TZID=America/Halifax:20220805T110000
DTSTAMP:20260420T041552
CREATED:20220503T165442Z
LAST-MODIFIED:20220503T165442Z
UID:10001861-1659690000-1659697200@adaptivesportsne.org
SUMMARY:Outdoor Archery - NEP (Durham\, NH)
DESCRIPTION:
URL:https://adaptivesportsne.org/event/outdoor-archery-nep-durham-nh/2022-08-05/
LOCATION:Durham\, Durham\, NH\, United States
CATEGORIES:Other Para Sports
ORGANIZER;CN="Northeast Passage":MAILTO:northeast.passage@unh.edu
END:VEVENT
BEGIN:VEVENT
DTSTART;TZID=America/Halifax:20220806T110000
DTEND;TZID=America/Halifax:20220806T130000
DTSTAMP:20260420T041552
CREATED:20220629T142111Z
LAST-MODIFIED:20220629T142204Z
UID:10003929-1659783600-1659790800@adaptivesportsne.org
SUMMARY:Beep Baseball - ASNE (Medford)
DESCRIPTION:
URL:https://adaptivesportsne.org/event/beep-baseball-asne-medford/2022-08-06/
LOCATION:Tufts University – Field F\, 160F College Ave\, Medford\, MA\, 02155\, United States
CATEGORIES:Other Para Sports
ORGANIZER;CN="Adaptive Sports New England":MAILTO:joe.walsh@adaptivesportsne.org
END:VEVENT
BEGIN:VEVENT
DTSTART;TZID=America/Halifax:20220808T173000
DTEND;TZID=America/Halifax:20220808T203000
DTSTAMP:20260420T041552
CREATED:20220602T171856Z
LAST-MODIFIED:20220831T131755Z
UID:10003912-1659979800-1659990600@adaptivesportsne.org
SUMMARY:Wheelchair Tennis - SCWT (Westport)
DESCRIPTION:
URL:https://adaptivesportsne.org/event/summer-tennis-clinics-scwt-westport/2022-08-08/
LOCATION:Dianne B. Snyder Tennis Complex\, 400 Old County Road\, Westport\, MA\, United States
CATEGORIES:Other Para Sports
ORGANIZER;CN="South Coast Wheelchair Tennis Foundation":MAILTO:thomasd10@aol.com
GEO:41.6213271;-71.0643864
X-APPLE-STRUCTURED-LOCATION;VALUE=URI;X-ADDRESS=Dianne B. Snyder Tennis Complex 400 Old County Road Westport MA United States;X-APPLE-RADIUS=500;X-TITLE=400 Old County Road:geo:-71.0643864,41.6213271
END:VEVENT
BEGIN:VEVENT
DTSTART;TZID=America/Halifax:20220813T110000
DTEND;TZID=America/Halifax:20220813T130000
DTSTAMP:20260420T041552
CREATED:20220629T142111Z
LAST-MODIFIED:20220629T142204Z
UID:10003930-1660388400-1660395600@adaptivesportsne.org
SUMMARY:Beep Baseball - ASNE (Medford)
DESCRIPTION:
URL:https://adaptivesportsne.org/event/beep-baseball-asne-medford/2022-08-13/
LOCATION:Tufts University – Field F\, 160F College Ave\, Medford\, MA\, 02155\, United States
CATEGORIES:Other Para Sports
ORGANIZER;CN="Adaptive Sports New England":MAILTO:joe.walsh@adaptivesportsne.org
END:VEVENT
BEGIN:VEVENT
DTSTART;TZID=America/Halifax:20220815T173000
DTEND;TZID=America/Halifax:20220815T203000
DTSTAMP:20260420T041552
CREATED:20220602T171856Z
LAST-MODIFIED:20220831T131755Z
UID:10003913-1660584600-1660595400@adaptivesportsne.org
SUMMARY:Wheelchair Tennis - SCWT (Westport)
DESCRIPTION:
URL:https://adaptivesportsne.org/event/summer-tennis-clinics-scwt-westport/2022-08-15/
LOCATION:Dianne B. Snyder Tennis Complex\, 400 Old County Road\, Westport\, MA\, United States
CATEGORIES:Other Para Sports
ORGANIZER;CN="South Coast Wheelchair Tennis Foundation":MAILTO:thomasd10@aol.com
GEO:41.6213271;-71.0643864
X-APPLE-STRUCTURED-LOCATION;VALUE=URI;X-ADDRESS=Dianne B. Snyder Tennis Complex 400 Old County Road Westport MA United States;X-APPLE-RADIUS=500;X-TITLE=400 Old County Road:geo:-71.0643864,41.6213271
END:VEVENT
BEGIN:VEVENT
DTSTART;TZID=America/Halifax:20220822T173000
DTEND;TZID=America/Halifax:20220822T203000
DTSTAMP:20260420T041552
CREATED:20220602T171856Z
LAST-MODIFIED:20220831T131755Z
UID:10003914-1661189400-1661200200@adaptivesportsne.org
SUMMARY:Wheelchair Tennis - SCWT (Westport)
DESCRIPTION:
URL:https://adaptivesportsne.org/event/summer-tennis-clinics-scwt-westport/2022-08-22/
LOCATION:Dianne B. Snyder Tennis Complex\, 400 Old County Road\, Westport\, MA\, United States
CATEGORIES:Other Para Sports
ORGANIZER;CN="South Coast Wheelchair Tennis Foundation":MAILTO:thomasd10@aol.com
GEO:41.6213271;-71.0643864
X-APPLE-STRUCTURED-LOCATION;VALUE=URI;X-ADDRESS=Dianne B. Snyder Tennis Complex 400 Old County Road Westport MA United States;X-APPLE-RADIUS=500;X-TITLE=400 Old County Road:geo:-71.0643864,41.6213271
END:VEVENT
BEGIN:VEVENT
DTSTART;TZID=America/Halifax:20220829T173000
DTEND;TZID=America/Halifax:20220829T203000
DTSTAMP:20260420T041552
CREATED:20220602T171856Z
LAST-MODIFIED:20220831T131755Z
UID:10003915-1661794200-1661805000@adaptivesportsne.org
SUMMARY:Wheelchair Tennis - SCWT (Westport)
DESCRIPTION:
URL:https://adaptivesportsne.org/event/summer-tennis-clinics-scwt-westport/2022-08-29/
LOCATION:Dianne B. Snyder Tennis Complex\, 400 Old County Road\, Westport\, MA\, United States
CATEGORIES:Other Para Sports
ORGANIZER;CN="South Coast Wheelchair Tennis Foundation":MAILTO:thomasd10@aol.com
GEO:41.6213271;-71.0643864
X-APPLE-STRUCTURED-LOCATION;VALUE=URI;X-ADDRESS=Dianne B. Snyder Tennis Complex 400 Old County Road Westport MA United States;X-APPLE-RADIUS=500;X-TITLE=400 Old County Road:geo:-71.0643864,41.6213271
END:VEVENT
BEGIN:VEVENT
DTSTART;TZID=America/Halifax:20220902T090000
DTEND;TZID=America/Halifax:20220902T110000
DTSTAMP:20260420T041552
CREATED:20220503T165442Z
LAST-MODIFIED:20220503T165442Z
UID:10001862-1662109200-1662116400@adaptivesportsne.org
SUMMARY:Outdoor Archery - NEP (Durham\, NH)
DESCRIPTION:
URL:https://adaptivesportsne.org/event/outdoor-archery-nep-durham-nh/2022-09-02/
LOCATION:Durham\, Durham\, NH\, United States
CATEGORIES:Other Para Sports
ORGANIZER;CN="Northeast Passage":MAILTO:northeast.passage@unh.edu
END:VEVENT
BEGIN:VEVENT
DTSTART;TZID=America/Halifax:20220905T173000
DTEND;TZID=America/Halifax:20220905T203000
DTSTAMP:20260420T041552
CREATED:20220602T171856Z
LAST-MODIFIED:20220831T131755Z
UID:10003916-1662399000-1662409800@adaptivesportsne.org
SUMMARY:Wheelchair Tennis - SCWT (Westport)
DESCRIPTION:
URL:https://adaptivesportsne.org/event/summer-tennis-clinics-scwt-westport/2022-09-05/
LOCATION:Dianne B. Snyder Tennis Complex\, 400 Old County Road\, Westport\, MA\, United States
CATEGORIES:Other Para Sports
ORGANIZER;CN="South Coast Wheelchair Tennis Foundation":MAILTO:thomasd10@aol.com
GEO:41.6213271;-71.0643864
X-APPLE-STRUCTURED-LOCATION;VALUE=URI;X-ADDRESS=Dianne B. Snyder Tennis Complex 400 Old County Road Westport MA United States;X-APPLE-RADIUS=500;X-TITLE=400 Old County Road:geo:-71.0643864,41.6213271
END:VEVENT
BEGIN:VEVENT
DTSTART;TZID=America/Halifax:20220911T123000
DTEND;TZID=America/Halifax:20220911T140000
DTSTAMP:20260420T041552
CREATED:20220824T184538Z
LAST-MODIFIED:20220831T131835Z
UID:10003982-1662899400-1662904800@adaptivesportsne.org
SUMMARY:CP Soccer - NECPS (Framingham)
DESCRIPTION:
URL:https://adaptivesportsne.org/event/cp-soccer-cps-framingham/2022-09-11/
LOCATION:Merchant Field\, 65 Merchant Rd\, Framingham\, MA\, 01702\, United States
CATEGORIES:Other Para Sports
ORGANIZER;CN="CP Soccer New England":MAILTO:newengland@cpsoccer.us
END:VEVENT
BEGIN:VEVENT
DTSTART;TZID=America/Halifax:20220912T173000
DTEND;TZID=America/Halifax:20220912T203000
DTSTAMP:20260420T041552
CREATED:20220602T171856Z
LAST-MODIFIED:20220831T131755Z
UID:10003917-1663003800-1663014600@adaptivesportsne.org
SUMMARY:Wheelchair Tennis - SCWT (Westport)
DESCRIPTION:
URL:https://adaptivesportsne.org/event/summer-tennis-clinics-scwt-westport/2022-09-12/
LOCATION:Dianne B. Snyder Tennis Complex\, 400 Old County Road\, Westport\, MA\, United States
CATEGORIES:Other Para Sports
ORGANIZER;CN="South Coast Wheelchair Tennis Foundation":MAILTO:thomasd10@aol.com
GEO:41.6213271;-71.0643864
X-APPLE-STRUCTURED-LOCATION;VALUE=URI;X-ADDRESS=Dianne B. Snyder Tennis Complex 400 Old County Road Westport MA United States;X-APPLE-RADIUS=500;X-TITLE=400 Old County Road:geo:-71.0643864,41.6213271
END:VEVENT
BEGIN:VEVENT
DTSTART;TZID=America/Halifax:20220918T093000
DTEND;TZID=America/Halifax:20220918T160000
DTSTAMP:20260420T041552
CREATED:20220824T171617Z
LAST-MODIFIED:20220824T171617Z
UID:10003981-1663493400-1663516800@adaptivesportsne.org
SUMMARY:Wheelchair Tennis Tournament - SCWT (Hanover)
DESCRIPTION:
URL:https://adaptivesportsne.org/event/wheelchair-tennis-tournament-scwt-hanover/
LOCATION:South Shore YMCA Emilson\, 75 Mill St\, Hanover\, MA\, 02339\, United States
CATEGORIES:Other Para Sports
ORGANIZER;CN="South Coast Wheelchair Tennis Foundation":MAILTO:thomasd10@aol.com
END:VEVENT
BEGIN:VEVENT
DTSTART;TZID=America/Halifax:20220918T123000
DTEND;TZID=America/Halifax:20220918T140000
DTSTAMP:20260420T041552
CREATED:20220824T184538Z
LAST-MODIFIED:20220831T131835Z
UID:10003983-1663504200-1663509600@adaptivesportsne.org
SUMMARY:CP Soccer - NECPS (Framingham)
DESCRIPTION:
URL:https://adaptivesportsne.org/event/cp-soccer-cps-framingham/2022-09-18/
LOCATION:Merchant Field\, 65 Merchant Rd\, Framingham\, MA\, 01702\, United States
CATEGORIES:Other Para Sports
ORGANIZER;CN="CP Soccer New England":MAILTO:newengland@cpsoccer.us
END:VEVENT
BEGIN:VEVENT
DTSTART;TZID=America/Halifax:20220919T173000
DTEND;TZID=America/Halifax:20220919T203000
DTSTAMP:20260420T041552
CREATED:20220602T171856Z
LAST-MODIFIED:20220831T131755Z
UID:10003918-1663608600-1663619400@adaptivesportsne.org
SUMMARY:Wheelchair Tennis - SCWT (Westport)
DESCRIPTION:
URL:https://adaptivesportsne.org/event/summer-tennis-clinics-scwt-westport/2022-09-19/
LOCATION:Dianne B. Snyder Tennis Complex\, 400 Old County Road\, Westport\, MA\, United States
CATEGORIES:Other Para Sports
ORGANIZER;CN="South Coast Wheelchair Tennis Foundation":MAILTO:thomasd10@aol.com
GEO:41.6213271;-71.0643864
X-APPLE-STRUCTURED-LOCATION;VALUE=URI;X-ADDRESS=Dianne B. Snyder Tennis Complex 400 Old County Road Westport MA United States;X-APPLE-RADIUS=500;X-TITLE=400 Old County Road:geo:-71.0643864,41.6213271
END:VEVENT
BEGIN:VEVENT
DTSTART;TZID=America/Halifax:20220925T123000
DTEND;TZID=America/Halifax:20220925T140000
DTSTAMP:20260420T041552
CREATED:20220824T184538Z
LAST-MODIFIED:20220831T131835Z
UID:10003984-1664109000-1664114400@adaptivesportsne.org
SUMMARY:CP Soccer - NECPS (Framingham)
DESCRIPTION:
URL:https://adaptivesportsne.org/event/cp-soccer-cps-framingham/2022-09-25/
LOCATION:Merchant Field\, 65 Merchant Rd\, Framingham\, MA\, 01702\, United States
CATEGORIES:Other Para Sports
ORGANIZER;CN="CP Soccer New England":MAILTO:newengland@cpsoccer.us
END:VEVENT
BEGIN:VEVENT
DTSTART;TZID=America/Halifax:20220926T173000
DTEND;TZID=America/Halifax:20220926T203000
DTSTAMP:20260420T041552
CREATED:20220602T171856Z
LAST-MODIFIED:20220831T131755Z
UID:10003919-1664213400-1664224200@adaptivesportsne.org
SUMMARY:Wheelchair Tennis - SCWT (Westport)
DESCRIPTION:
URL:https://adaptivesportsne.org/event/summer-tennis-clinics-scwt-westport/2022-09-26/
LOCATION:Dianne B. Snyder Tennis Complex\, 400 Old County Road\, Westport\, MA\, United States
CATEGORIES:Other Para Sports
ORGANIZER;CN="South Coast Wheelchair Tennis Foundation":MAILTO:thomasd10@aol.com
GEO:41.6213271;-71.0643864
X-APPLE-STRUCTURED-LOCATION;VALUE=URI;X-ADDRESS=Dianne B. Snyder Tennis Complex 400 Old County Road Westport MA United States;X-APPLE-RADIUS=500;X-TITLE=400 Old County Road:geo:-71.0643864,41.6213271
END:VEVENT
BEGIN:VEVENT
DTSTART;TZID=America/Halifax:20221003T173000
DTEND;TZID=America/Halifax:20221003T203000
DTSTAMP:20260420T041552
CREATED:20220602T171856Z
LAST-MODIFIED:20220831T131755Z
UID:10003920-1664818200-1664829000@adaptivesportsne.org
SUMMARY:Wheelchair Tennis - SCWT (Westport)
DESCRIPTION:
URL:https://adaptivesportsne.org/event/summer-tennis-clinics-scwt-westport/2022-10-03/
LOCATION:Dianne B. Snyder Tennis Complex\, 400 Old County Road\, Westport\, MA\, United States
CATEGORIES:Other Para Sports
ORGANIZER;CN="South Coast Wheelchair Tennis Foundation":MAILTO:thomasd10@aol.com
GEO:41.6213271;-71.0643864
X-APPLE-STRUCTURED-LOCATION;VALUE=URI;X-ADDRESS=Dianne B. Snyder Tennis Complex 400 Old County Road Westport MA United States;X-APPLE-RADIUS=500;X-TITLE=400 Old County Road:geo:-71.0643864,41.6213271
END:VEVENT
BEGIN:VEVENT
DTSTART;TZID=America/Halifax:20221010T173000
DTEND;TZID=America/Halifax:20221010T203000
DTSTAMP:20260420T041552
CREATED:20220602T171856Z
LAST-MODIFIED:20220831T131755Z
UID:10003921-1665423000-1665433800@adaptivesportsne.org
SUMMARY:Wheelchair Tennis - SCWT (Westport)
DESCRIPTION:
URL:https://adaptivesportsne.org/event/summer-tennis-clinics-scwt-westport/2022-10-10/
LOCATION:Dianne B. Snyder Tennis Complex\, 400 Old County Road\, Westport\, MA\, United States
CATEGORIES:Other Para Sports
ORGANIZER;CN="South Coast Wheelchair Tennis Foundation":MAILTO:thomasd10@aol.com
GEO:41.6213271;-71.0643864
X-APPLE-STRUCTURED-LOCATION;VALUE=URI;X-ADDRESS=Dianne B. Snyder Tennis Complex 400 Old County Road Westport MA United States;X-APPLE-RADIUS=500;X-TITLE=400 Old County Road:geo:-71.0643864,41.6213271
END:VEVENT
BEGIN:VEVENT
DTSTART;TZID=America/Halifax:20221016T123000
DTEND;TZID=America/Halifax:20221016T140000
DTSTAMP:20260420T041552
CREATED:20220824T184538Z
LAST-MODIFIED:20220831T131835Z
UID:10003985-1665923400-1665928800@adaptivesportsne.org
SUMMARY:CP Soccer - NECPS (Framingham)
DESCRIPTION:
URL:https://adaptivesportsne.org/event/cp-soccer-cps-framingham/2022-10-16/
LOCATION:Merchant Field\, 65 Merchant Rd\, Framingham\, MA\, 01702\, United States
CATEGORIES:Other Para Sports
ORGANIZER;CN="CP Soccer New England":MAILTO:newengland@cpsoccer.us
END:VEVENT
BEGIN:VEVENT
DTSTART;TZID=America/Halifax:20221017T173000
DTEND;TZID=America/Halifax:20221017T203000
DTSTAMP:20260420T041552
CREATED:20220602T171856Z
LAST-MODIFIED:20220831T131755Z
UID:10003922-1666027800-1666038600@adaptivesportsne.org
SUMMARY:Wheelchair Tennis - SCWT (Westport)
DESCRIPTION:
URL:https://adaptivesportsne.org/event/summer-tennis-clinics-scwt-westport/2022-10-17/
LOCATION:Dianne B. Snyder Tennis Complex\, 400 Old County Road\, Westport\, MA\, United States
CATEGORIES:Other Para Sports
ORGANIZER;CN="South Coast Wheelchair Tennis Foundation":MAILTO:thomasd10@aol.com
GEO:41.6213271;-71.0643864
X-APPLE-STRUCTURED-LOCATION;VALUE=URI;X-ADDRESS=Dianne B. Snyder Tennis Complex 400 Old County Road Westport MA United States;X-APPLE-RADIUS=500;X-TITLE=400 Old County Road:geo:-71.0643864,41.6213271
END:VEVENT
BEGIN:VEVENT
DTSTART;TZID=America/Halifax:20221023T123000
DTEND;TZID=America/Halifax:20221023T140000
DTSTAMP:20260420T041552
CREATED:20220824T184538Z
LAST-MODIFIED:20220831T131835Z
UID:10003986-1666528200-1666533600@adaptivesportsne.org
SUMMARY:CP Soccer - NECPS (Framingham)
DESCRIPTION:
URL:https://adaptivesportsne.org/event/cp-soccer-cps-framingham/2022-10-23/
LOCATION:Merchant Field\, 65 Merchant Rd\, Framingham\, MA\, 01702\, United States
CATEGORIES:Other Para Sports
ORGANIZER;CN="CP Soccer New England":MAILTO:newengland@cpsoccer.us
END:VEVENT
BEGIN:VEVENT
DTSTART;TZID=America/Halifax:20221024T173000
DTEND;TZID=America/Halifax:20221024T203000
DTSTAMP:20260420T041552
CREATED:20220602T171856Z
LAST-MODIFIED:20220831T131755Z
UID:10003923-1666632600-1666643400@adaptivesportsne.org
SUMMARY:Wheelchair Tennis - SCWT (Westport)
DESCRIPTION:
URL:https://adaptivesportsne.org/event/summer-tennis-clinics-scwt-westport/2022-10-24/
LOCATION:Dianne B. Snyder Tennis Complex\, 400 Old County Road\, Westport\, MA\, United States
CATEGORIES:Other Para Sports
ORGANIZER;CN="South Coast Wheelchair Tennis Foundation":MAILTO:thomasd10@aol.com
GEO:41.6213271;-71.0643864
X-APPLE-STRUCTURED-LOCATION;VALUE=URI;X-ADDRESS=Dianne B. Snyder Tennis Complex 400 Old County Road Westport MA United States;X-APPLE-RADIUS=500;X-TITLE=400 Old County Road:geo:-71.0643864,41.6213271
END:VEVENT
BEGIN:VEVENT
DTSTART;TZID=America/Halifax:20221030T123000
DTEND;TZID=America/Halifax:20221030T140000
DTSTAMP:20260420T041552
CREATED:20220824T184538Z
LAST-MODIFIED:20220831T131835Z
UID:10003987-1667133000-1667138400@adaptivesportsne.org
SUMMARY:CP Soccer - NECPS (Framingham)
DESCRIPTION:
URL:https://adaptivesportsne.org/event/cp-soccer-cps-framingham/2022-10-30/
LOCATION:Merchant Field\, 65 Merchant Rd\, Framingham\, MA\, 01702\, United States
CATEGORIES:Other Para Sports
ORGANIZER;CN="CP Soccer New England":MAILTO:newengland@cpsoccer.us
END:VEVENT
BEGIN:VEVENT
DTSTART;TZID=America/Halifax:20221106T123000
DTEND;TZID=America/Halifax:20221106T140000
DTSTAMP:20260420T041552
CREATED:20220824T184538Z
LAST-MODIFIED:20220831T131835Z
UID:10003988-1667737800-1667743200@adaptivesportsne.org
SUMMARY:CP Soccer - NECPS (Framingham)
DESCRIPTION:
URL:https://adaptivesportsne.org/event/cp-soccer-cps-framingham/2022-11-06/
LOCATION:Merchant Field\, 65 Merchant Rd\, Framingham\, MA\, 01702\, United States
CATEGORIES:Other Para Sports
ORGANIZER;CN="CP Soccer New England":MAILTO:newengland@cpsoccer.us
END:VEVENT
BEGIN:VEVENT
DTSTART;TZID=America/Halifax:20221113T123000
DTEND;TZID=America/Halifax:20221113T140000
DTSTAMP:20260420T041552
CREATED:20220824T184538Z
LAST-MODIFIED:20220831T131835Z
UID:10003989-1668342600-1668348000@adaptivesportsne.org
SUMMARY:CP Soccer - NECPS (Framingham)
DESCRIPTION:
URL:https://adaptivesportsne.org/event/cp-soccer-cps-framingham/2022-11-13/
LOCATION:Merchant Field\, 65 Merchant Rd\, Framingham\, MA\, 01702\, United States
CATEGORIES:Other Para Sports
ORGANIZER;CN="CP Soccer New England":MAILTO:newengland@cpsoccer.us
END:VEVENT
BEGIN:VEVENT
DTSTART;TZID=America/Halifax:20221120T123000
DTEND;TZID=America/Halifax:20221120T140000
DTSTAMP:20260420T041552
CREATED:20220824T184538Z
LAST-MODIFIED:20220831T131835Z
UID:10003990-1668947400-1668952800@adaptivesportsne.org
SUMMARY:CP Soccer - NECPS (Framingham)
DESCRIPTION:
URL:https://adaptivesportsne.org/event/cp-soccer-cps-framingham/2022-11-20/
LOCATION:Merchant Field\, 65 Merchant Rd\, Framingham\, MA\, 01702\, United States
CATEGORIES:Other Para Sports
ORGANIZER;CN="CP Soccer New England":MAILTO:newengland@cpsoccer.us
END:VEVENT
BEGIN:VEVENT
DTSTART;TZID=America/New_York:20230104T130000
DTEND;TZID=America/New_York:20230104T150000
DTSTAMP:20260420T041552
CREATED:20221206T162352Z
LAST-MODIFIED:20221206T162352Z
UID:10001900-1672837200-1672844400@adaptivesportsne.org
SUMMARY:Indoor Archery - NEP (Rochester\, NH)
DESCRIPTION:
URL:https://adaptivesportsne.org/event/indoor-archery-nep-rochester-nh/2023-01-04/
LOCATION:Rochester\, NH\, Rochester\, NH\, United States
CATEGORIES:Other Para Sports
ORGANIZER;CN="Northeast Passage":MAILTO:northeast.passage@unh.edu
END:VEVENT
END:VCALENDAR