BEGIN:VCALENDAR
VERSION:2.0
PRODID:-//Adaptive Sports New England - ECPv6.15.20//NONSGML v1.0//EN
CALSCALE:GREGORIAN
METHOD:PUBLISH
X-ORIGINAL-URL:https://adaptivesportsne.org
X-WR-CALDESC:Events for Adaptive Sports New England
REFRESH-INTERVAL;VALUE=DURATION:PT1H
X-Robots-Tag:noindex
X-PUBLISHED-TTL:PT1H
BEGIN:VTIMEZONE
TZID:America/Halifax
BEGIN:DAYLIGHT
TZOFFSETFROM:-0400
TZOFFSETTO:-0300
TZNAME:ADT
DTSTART:20210314T060000
END:DAYLIGHT
BEGIN:STANDARD
TZOFFSETFROM:-0300
TZOFFSETTO:-0400
TZNAME:AST
DTSTART:20211107T050000
END:STANDARD
BEGIN:DAYLIGHT
TZOFFSETFROM:-0400
TZOFFSETTO:-0300
TZNAME:ADT
DTSTART:20220313T060000
END:DAYLIGHT
BEGIN:STANDARD
TZOFFSETFROM:-0300
TZOFFSETTO:-0400
TZNAME:AST
DTSTART:20221106T050000
END:STANDARD
BEGIN:DAYLIGHT
TZOFFSETFROM:-0400
TZOFFSETTO:-0300
TZNAME:ADT
DTSTART:20230312T060000
END:DAYLIGHT
BEGIN:STANDARD
TZOFFSETFROM:-0300
TZOFFSETTO:-0400
TZNAME:AST
DTSTART:20231105T050000
END:STANDARD
END:VTIMEZONE
BEGIN:VTIMEZONE
TZID:America/New_York
BEGIN:DAYLIGHT
TZOFFSETFROM:-0500
TZOFFSETTO:-0400
TZNAME:EDT
DTSTART:20220313T070000
END:DAYLIGHT
BEGIN:STANDARD
TZOFFSETFROM:-0400
TZOFFSETTO:-0500
TZNAME:EST
DTSTART:20221106T060000
END:STANDARD
BEGIN:DAYLIGHT
TZOFFSETFROM:-0500
TZOFFSETTO:-0400
TZNAME:EDT
DTSTART:20230312T070000
END:DAYLIGHT
BEGIN:STANDARD
TZOFFSETFROM:-0400
TZOFFSETTO:-0500
TZNAME:EST
DTSTART:20231105T060000
END:STANDARD
BEGIN:DAYLIGHT
TZOFFSETFROM:-0500
TZOFFSETTO:-0400
TZNAME:EDT
DTSTART:20240310T070000
END:DAYLIGHT
BEGIN:STANDARD
TZOFFSETFROM:-0400
TZOFFSETTO:-0500
TZNAME:EST
DTSTART:20241103T060000
END:STANDARD
END:VTIMEZONE
BEGIN:VEVENT
DTSTART;TZID=America/Halifax:20220919T173000
DTEND;TZID=America/Halifax:20220919T203000
DTSTAMP:20260420T161236
CREATED:20220602T171856Z
LAST-MODIFIED:20220831T131755Z
UID:10003918-1663608600-1663619400@adaptivesportsne.org
SUMMARY:Wheelchair Tennis - SCWT (Westport)
DESCRIPTION:
URL:https://adaptivesportsne.org/event/summer-tennis-clinics-scwt-westport/2022-09-19/
LOCATION:Dianne B. Snyder Tennis Complex\, 400 Old County Road\, Westport\, MA\, United States
CATEGORIES:Other Para Sports
ORGANIZER;CN="South Coast Wheelchair Tennis Foundation":MAILTO:thomasd10@aol.com
GEO:41.6213271;-71.0643864
X-APPLE-STRUCTURED-LOCATION;VALUE=URI;X-ADDRESS=Dianne B. Snyder Tennis Complex 400 Old County Road Westport MA United States;X-APPLE-RADIUS=500;X-TITLE=400 Old County Road:geo:-71.0643864,41.6213271
END:VEVENT
BEGIN:VEVENT
DTSTART;TZID=America/Halifax:20220925T123000
DTEND;TZID=America/Halifax:20220925T140000
DTSTAMP:20260420T161236
CREATED:20220824T184538Z
LAST-MODIFIED:20220831T131835Z
UID:10003984-1664109000-1664114400@adaptivesportsne.org
SUMMARY:CP Soccer - NECPS (Framingham)
DESCRIPTION:
URL:https://adaptivesportsne.org/event/cp-soccer-cps-framingham/2022-09-25/
LOCATION:Merchant Field\, 65 Merchant Rd\, Framingham\, MA\, 01702\, United States
CATEGORIES:Other Para Sports
ORGANIZER;CN="CP Soccer New England":MAILTO:newengland@cpsoccer.us
END:VEVENT
BEGIN:VEVENT
DTSTART;TZID=America/Halifax:20220926T173000
DTEND;TZID=America/Halifax:20220926T203000
DTSTAMP:20260420T161236
CREATED:20220602T171856Z
LAST-MODIFIED:20220831T131755Z
UID:10003919-1664213400-1664224200@adaptivesportsne.org
SUMMARY:Wheelchair Tennis - SCWT (Westport)
DESCRIPTION:
URL:https://adaptivesportsne.org/event/summer-tennis-clinics-scwt-westport/2022-09-26/
LOCATION:Dianne B. Snyder Tennis Complex\, 400 Old County Road\, Westport\, MA\, United States
CATEGORIES:Other Para Sports
ORGANIZER;CN="South Coast Wheelchair Tennis Foundation":MAILTO:thomasd10@aol.com
GEO:41.6213271;-71.0643864
X-APPLE-STRUCTURED-LOCATION;VALUE=URI;X-ADDRESS=Dianne B. Snyder Tennis Complex 400 Old County Road Westport MA United States;X-APPLE-RADIUS=500;X-TITLE=400 Old County Road:geo:-71.0643864,41.6213271
END:VEVENT
BEGIN:VEVENT
DTSTART;TZID=America/Halifax:20221003T173000
DTEND;TZID=America/Halifax:20221003T203000
DTSTAMP:20260420T161236
CREATED:20220602T171856Z
LAST-MODIFIED:20220831T131755Z
UID:10003920-1664818200-1664829000@adaptivesportsne.org
SUMMARY:Wheelchair Tennis - SCWT (Westport)
DESCRIPTION:
URL:https://adaptivesportsne.org/event/summer-tennis-clinics-scwt-westport/2022-10-03/
LOCATION:Dianne B. Snyder Tennis Complex\, 400 Old County Road\, Westport\, MA\, United States
CATEGORIES:Other Para Sports
ORGANIZER;CN="South Coast Wheelchair Tennis Foundation":MAILTO:thomasd10@aol.com
GEO:41.6213271;-71.0643864
X-APPLE-STRUCTURED-LOCATION;VALUE=URI;X-ADDRESS=Dianne B. Snyder Tennis Complex 400 Old County Road Westport MA United States;X-APPLE-RADIUS=500;X-TITLE=400 Old County Road:geo:-71.0643864,41.6213271
END:VEVENT
BEGIN:VEVENT
DTSTART;TZID=America/Halifax:20221010T173000
DTEND;TZID=America/Halifax:20221010T203000
DTSTAMP:20260420T161236
CREATED:20220602T171856Z
LAST-MODIFIED:20220831T131755Z
UID:10003921-1665423000-1665433800@adaptivesportsne.org
SUMMARY:Wheelchair Tennis - SCWT (Westport)
DESCRIPTION:
URL:https://adaptivesportsne.org/event/summer-tennis-clinics-scwt-westport/2022-10-10/
LOCATION:Dianne B. Snyder Tennis Complex\, 400 Old County Road\, Westport\, MA\, United States
CATEGORIES:Other Para Sports
ORGANIZER;CN="South Coast Wheelchair Tennis Foundation":MAILTO:thomasd10@aol.com
GEO:41.6213271;-71.0643864
X-APPLE-STRUCTURED-LOCATION;VALUE=URI;X-ADDRESS=Dianne B. Snyder Tennis Complex 400 Old County Road Westport MA United States;X-APPLE-RADIUS=500;X-TITLE=400 Old County Road:geo:-71.0643864,41.6213271
END:VEVENT
BEGIN:VEVENT
DTSTART;TZID=America/Halifax:20221016T123000
DTEND;TZID=America/Halifax:20221016T140000
DTSTAMP:20260420T161236
CREATED:20220824T184538Z
LAST-MODIFIED:20220831T131835Z
UID:10003985-1665923400-1665928800@adaptivesportsne.org
SUMMARY:CP Soccer - NECPS (Framingham)
DESCRIPTION:
URL:https://adaptivesportsne.org/event/cp-soccer-cps-framingham/2022-10-16/
LOCATION:Merchant Field\, 65 Merchant Rd\, Framingham\, MA\, 01702\, United States
CATEGORIES:Other Para Sports
ORGANIZER;CN="CP Soccer New England":MAILTO:newengland@cpsoccer.us
END:VEVENT
BEGIN:VEVENT
DTSTART;TZID=America/Halifax:20221017T173000
DTEND;TZID=America/Halifax:20221017T203000
DTSTAMP:20260420T161236
CREATED:20220602T171856Z
LAST-MODIFIED:20220831T131755Z
UID:10003922-1666027800-1666038600@adaptivesportsne.org
SUMMARY:Wheelchair Tennis - SCWT (Westport)
DESCRIPTION:
URL:https://adaptivesportsne.org/event/summer-tennis-clinics-scwt-westport/2022-10-17/
LOCATION:Dianne B. Snyder Tennis Complex\, 400 Old County Road\, Westport\, MA\, United States
CATEGORIES:Other Para Sports
ORGANIZER;CN="South Coast Wheelchair Tennis Foundation":MAILTO:thomasd10@aol.com
GEO:41.6213271;-71.0643864
X-APPLE-STRUCTURED-LOCATION;VALUE=URI;X-ADDRESS=Dianne B. Snyder Tennis Complex 400 Old County Road Westport MA United States;X-APPLE-RADIUS=500;X-TITLE=400 Old County Road:geo:-71.0643864,41.6213271
END:VEVENT
BEGIN:VEVENT
DTSTART;TZID=America/Halifax:20221023T123000
DTEND;TZID=America/Halifax:20221023T140000
DTSTAMP:20260420T161236
CREATED:20220824T184538Z
LAST-MODIFIED:20220831T131835Z
UID:10003986-1666528200-1666533600@adaptivesportsne.org
SUMMARY:CP Soccer - NECPS (Framingham)
DESCRIPTION:
URL:https://adaptivesportsne.org/event/cp-soccer-cps-framingham/2022-10-23/
LOCATION:Merchant Field\, 65 Merchant Rd\, Framingham\, MA\, 01702\, United States
CATEGORIES:Other Para Sports
ORGANIZER;CN="CP Soccer New England":MAILTO:newengland@cpsoccer.us
END:VEVENT
BEGIN:VEVENT
DTSTART;TZID=America/Halifax:20221024T173000
DTEND;TZID=America/Halifax:20221024T203000
DTSTAMP:20260420T161236
CREATED:20220602T171856Z
LAST-MODIFIED:20220831T131755Z
UID:10003923-1666632600-1666643400@adaptivesportsne.org
SUMMARY:Wheelchair Tennis - SCWT (Westport)
DESCRIPTION:
URL:https://adaptivesportsne.org/event/summer-tennis-clinics-scwt-westport/2022-10-24/
LOCATION:Dianne B. Snyder Tennis Complex\, 400 Old County Road\, Westport\, MA\, United States
CATEGORIES:Other Para Sports
ORGANIZER;CN="South Coast Wheelchair Tennis Foundation":MAILTO:thomasd10@aol.com
GEO:41.6213271;-71.0643864
X-APPLE-STRUCTURED-LOCATION;VALUE=URI;X-ADDRESS=Dianne B. Snyder Tennis Complex 400 Old County Road Westport MA United States;X-APPLE-RADIUS=500;X-TITLE=400 Old County Road:geo:-71.0643864,41.6213271
END:VEVENT
BEGIN:VEVENT
DTSTART;TZID=America/Halifax:20221030T123000
DTEND;TZID=America/Halifax:20221030T140000
DTSTAMP:20260420T161236
CREATED:20220824T184538Z
LAST-MODIFIED:20220831T131835Z
UID:10003987-1667133000-1667138400@adaptivesportsne.org
SUMMARY:CP Soccer - NECPS (Framingham)
DESCRIPTION:
URL:https://adaptivesportsne.org/event/cp-soccer-cps-framingham/2022-10-30/
LOCATION:Merchant Field\, 65 Merchant Rd\, Framingham\, MA\, 01702\, United States
CATEGORIES:Other Para Sports
ORGANIZER;CN="CP Soccer New England":MAILTO:newengland@cpsoccer.us
END:VEVENT
BEGIN:VEVENT
DTSTART;TZID=America/Halifax:20221106T123000
DTEND;TZID=America/Halifax:20221106T140000
DTSTAMP:20260420T161236
CREATED:20220824T184538Z
LAST-MODIFIED:20220831T131835Z
UID:10003988-1667737800-1667743200@adaptivesportsne.org
SUMMARY:CP Soccer - NECPS (Framingham)
DESCRIPTION:
URL:https://adaptivesportsne.org/event/cp-soccer-cps-framingham/2022-11-06/
LOCATION:Merchant Field\, 65 Merchant Rd\, Framingham\, MA\, 01702\, United States
CATEGORIES:Other Para Sports
ORGANIZER;CN="CP Soccer New England":MAILTO:newengland@cpsoccer.us
END:VEVENT
BEGIN:VEVENT
DTSTART;TZID=America/Halifax:20221113T123000
DTEND;TZID=America/Halifax:20221113T140000
DTSTAMP:20260420T161236
CREATED:20220824T184538Z
LAST-MODIFIED:20220831T131835Z
UID:10003989-1668342600-1668348000@adaptivesportsne.org
SUMMARY:CP Soccer - NECPS (Framingham)
DESCRIPTION:
URL:https://adaptivesportsne.org/event/cp-soccer-cps-framingham/2022-11-13/
LOCATION:Merchant Field\, 65 Merchant Rd\, Framingham\, MA\, 01702\, United States
CATEGORIES:Other Para Sports
ORGANIZER;CN="CP Soccer New England":MAILTO:newengland@cpsoccer.us
END:VEVENT
BEGIN:VEVENT
DTSTART;TZID=America/Halifax:20221120T123000
DTEND;TZID=America/Halifax:20221120T140000
DTSTAMP:20260420T161236
CREATED:20220824T184538Z
LAST-MODIFIED:20220831T131835Z
UID:10003990-1668947400-1668952800@adaptivesportsne.org
SUMMARY:CP Soccer - NECPS (Framingham)
DESCRIPTION:
URL:https://adaptivesportsne.org/event/cp-soccer-cps-framingham/2022-11-20/
LOCATION:Merchant Field\, 65 Merchant Rd\, Framingham\, MA\, 01702\, United States
CATEGORIES:Other Para Sports
ORGANIZER;CN="CP Soccer New England":MAILTO:newengland@cpsoccer.us
END:VEVENT
BEGIN:VEVENT
DTSTART;TZID=America/New_York:20230104T130000
DTEND;TZID=America/New_York:20230104T150000
DTSTAMP:20260420T161236
CREATED:20221206T162352Z
LAST-MODIFIED:20221206T162352Z
UID:10001900-1672837200-1672844400@adaptivesportsne.org
SUMMARY:Indoor Archery - NEP (Rochester\, NH)
DESCRIPTION:
URL:https://adaptivesportsne.org/event/indoor-archery-nep-rochester-nh/2023-01-04/
LOCATION:Rochester\, NH\, Rochester\, NH\, United States
CATEGORIES:Other Para Sports
ORGANIZER;CN="Northeast Passage":MAILTO:northeast.passage@unh.edu
END:VEVENT
BEGIN:VEVENT
DTSTART;TZID=America/New_York:20230118T130000
DTEND;TZID=America/New_York:20230118T150000
DTSTAMP:20260420T161236
CREATED:20221206T162352Z
LAST-MODIFIED:20221206T162352Z
UID:10001901-1674046800-1674054000@adaptivesportsne.org
SUMMARY:Indoor Archery - NEP (Rochester\, NH)
DESCRIPTION:
URL:https://adaptivesportsne.org/event/indoor-archery-nep-rochester-nh/2023-01-18/
LOCATION:Rochester\, NH\, Rochester\, NH\, United States
CATEGORIES:Other Para Sports
ORGANIZER;CN="Northeast Passage":MAILTO:northeast.passage@unh.edu
END:VEVENT
BEGIN:VEVENT
DTSTART;TZID=America/New_York:20230201T130000
DTEND;TZID=America/New_York:20230201T150000
DTSTAMP:20260420T161236
CREATED:20221206T162352Z
LAST-MODIFIED:20221206T162352Z
UID:10001902-1675256400-1675263600@adaptivesportsne.org
SUMMARY:Indoor Archery - NEP (Rochester\, NH)
DESCRIPTION:
URL:https://adaptivesportsne.org/event/indoor-archery-nep-rochester-nh/2023-02-01/
LOCATION:Rochester\, NH\, Rochester\, NH\, United States
CATEGORIES:Other Para Sports
ORGANIZER;CN="Northeast Passage":MAILTO:northeast.passage@unh.edu
END:VEVENT
BEGIN:VEVENT
DTSTART;TZID=America/New_York:20230215T130000
DTEND;TZID=America/New_York:20230215T150000
DTSTAMP:20260420T161236
CREATED:20221206T162352Z
LAST-MODIFIED:20221206T162352Z
UID:10001903-1676466000-1676473200@adaptivesportsne.org
SUMMARY:Indoor Archery - NEP (Rochester\, NH)
DESCRIPTION:
URL:https://adaptivesportsne.org/event/indoor-archery-nep-rochester-nh/2023-02-15/
LOCATION:Rochester\, NH\, Rochester\, NH\, United States
CATEGORIES:Other Para Sports
ORGANIZER;CN="Northeast Passage":MAILTO:northeast.passage@unh.edu
END:VEVENT
BEGIN:VEVENT
DTSTART;TZID=America/New_York:20230301T130000
DTEND;TZID=America/New_York:20230301T150000
DTSTAMP:20260420T161236
CREATED:20221206T162352Z
LAST-MODIFIED:20221206T162352Z
UID:10001904-1677675600-1677682800@adaptivesportsne.org
SUMMARY:Indoor Archery - NEP (Rochester\, NH)
DESCRIPTION:
URL:https://adaptivesportsne.org/event/indoor-archery-nep-rochester-nh/2023-03-01/
LOCATION:Rochester\, NH\, Rochester\, NH\, United States
CATEGORIES:Other Para Sports
ORGANIZER;CN="Northeast Passage":MAILTO:northeast.passage@unh.edu
END:VEVENT
BEGIN:VEVENT
DTSTART;TZID=America/New_York:20230315T130000
DTEND;TZID=America/New_York:20230315T150000
DTSTAMP:20260420T161236
CREATED:20221206T162352Z
LAST-MODIFIED:20221206T162352Z
UID:10001905-1678885200-1678892400@adaptivesportsne.org
SUMMARY:Indoor Archery - NEP (Rochester\, NH)
DESCRIPTION:
URL:https://adaptivesportsne.org/event/indoor-archery-nep-rochester-nh/2023-03-15/
LOCATION:Rochester\, NH\, Rochester\, NH\, United States
CATEGORIES:Other Para Sports
ORGANIZER;CN="Northeast Passage":MAILTO:northeast.passage@unh.edu
END:VEVENT
BEGIN:VEVENT
DTSTART;TZID=America/New_York:20230329T130000
DTEND;TZID=America/New_York:20230329T150000
DTSTAMP:20260420T161236
CREATED:20221206T162352Z
LAST-MODIFIED:20221206T162352Z
UID:10001906-1680094800-1680102000@adaptivesportsne.org
SUMMARY:Indoor Archery - NEP (Rochester\, NH)
DESCRIPTION:
URL:https://adaptivesportsne.org/event/indoor-archery-nep-rochester-nh/2023-03-29/
LOCATION:Rochester\, NH\, Rochester\, NH\, United States
CATEGORIES:Other Para Sports
ORGANIZER;CN="Northeast Passage":MAILTO:northeast.passage@unh.edu
END:VEVENT
BEGIN:VEVENT
DTSTART;TZID=America/New_York:20230430T100000
DTEND;TZID=America/New_York:20230430T123000
DTSTAMP:20260420T161236
CREATED:20230406T161018Z
LAST-MODIFIED:20230614T134539Z
UID:10004160-1682848800-1682857800@adaptivesportsne.org
SUMMARY:Beep Baseball - ASNE (Medford)
DESCRIPTION:
URL:https://adaptivesportsne.org/event/beep-baseball-asne-medford-2/2023-04-30/
LOCATION:Fletcher Field\, 91 Professors Row\, Medford\, MA\, 02155\, United States
CATEGORIES:Other Para Sports
ORGANIZER;CN="Adaptive Sports New England":MAILTO:joe.walsh@adaptivesportsne.org
END:VEVENT
BEGIN:VEVENT
DTSTART;TZID=America/New_York:20230430T123000
DTEND;TZID=America/New_York:20230430T140000
DTSTAMP:20260420T161236
CREATED:20230427T174254Z
LAST-MODIFIED:20230427T174254Z
UID:10004155-1682857800-1682863200@adaptivesportsne.org
SUMMARY:CP Soccer - CPSNE (Framingham)
DESCRIPTION:
URL:https://adaptivesportsne.org/event/cp-soccer-cpsne-framingham/2023-04-30/
LOCATION:Merchant Field\, 65 Merchant Rd\, Framingham\, MA\, 01702\, United States
CATEGORIES:Other Para Sports
ORGANIZER;CN="CP Soccer New England":MAILTO:newengland@cpsoccer.us
END:VEVENT
BEGIN:VEVENT
DTSTART;TZID=America/New_York:20230507T100000
DTEND;TZID=America/New_York:20230507T123000
DTSTAMP:20260420T161236
CREATED:20230406T161018Z
LAST-MODIFIED:20230614T134539Z
UID:10004161-1683453600-1683462600@adaptivesportsne.org
SUMMARY:Beep Baseball - ASNE (Medford)
DESCRIPTION:
URL:https://adaptivesportsne.org/event/beep-baseball-asne-medford-2/2023-05-07/
LOCATION:Fletcher Field\, 91 Professors Row\, Medford\, MA\, 02155\, United States
CATEGORIES:Other Para Sports
ORGANIZER;CN="Adaptive Sports New England":MAILTO:joe.walsh@adaptivesportsne.org
END:VEVENT
BEGIN:VEVENT
DTSTART;TZID=America/New_York:20230507T123000
DTEND;TZID=America/New_York:20230507T140000
DTSTAMP:20260420T161236
CREATED:20230427T174254Z
LAST-MODIFIED:20230427T174254Z
UID:10004156-1683462600-1683468000@adaptivesportsne.org
SUMMARY:CP Soccer - CPSNE (Framingham)
DESCRIPTION:
URL:https://adaptivesportsne.org/event/cp-soccer-cpsne-framingham/2023-05-07/
LOCATION:Merchant Field\, 65 Merchant Rd\, Framingham\, MA\, 01702\, United States
CATEGORIES:Other Para Sports
ORGANIZER;CN="CP Soccer New England":MAILTO:newengland@cpsoccer.us
END:VEVENT
BEGIN:VEVENT
DTSTART;TZID=America/New_York:20230514T100000
DTEND;TZID=America/New_York:20230514T123000
DTSTAMP:20260420T161236
CREATED:20230406T161018Z
LAST-MODIFIED:20230614T134539Z
UID:10004162-1684058400-1684067400@adaptivesportsne.org
SUMMARY:Beep Baseball - ASNE (Medford)
DESCRIPTION:
URL:https://adaptivesportsne.org/event/beep-baseball-asne-medford-2/2023-05-14/
LOCATION:Fletcher Field\, 91 Professors Row\, Medford\, MA\, 02155\, United States
CATEGORIES:Other Para Sports
ORGANIZER;CN="Adaptive Sports New England":MAILTO:joe.walsh@adaptivesportsne.org
END:VEVENT
BEGIN:VEVENT
DTSTART;TZID=America/New_York:20230514T123000
DTEND;TZID=America/New_York:20230514T140000
DTSTAMP:20260420T161236
CREATED:20230427T174254Z
LAST-MODIFIED:20230427T174254Z
UID:10004157-1684067400-1684072800@adaptivesportsne.org
SUMMARY:CP Soccer - CPSNE (Framingham)
DESCRIPTION:
URL:https://adaptivesportsne.org/event/cp-soccer-cpsne-framingham/2023-05-14/
LOCATION:Merchant Field\, 65 Merchant Rd\, Framingham\, MA\, 01702\, United States
CATEGORIES:Other Para Sports
ORGANIZER;CN="CP Soccer New England":MAILTO:newengland@cpsoccer.us
END:VEVENT
BEGIN:VEVENT
DTSTART;TZID=America/New_York:20230519T090000
DTEND;TZID=America/New_York:20230521T130000
DTSTAMP:20260420T161236
CREATED:20230411T190752Z
LAST-MODIFIED:20230411T190752Z
UID:10004129-1684486800-1684674000@adaptivesportsne.org
SUMMARY:All Comers Wheelchair Tennis Training - SCWT (Haverhill)
DESCRIPTION:
URL:https://adaptivesportsne.org/event/all-comers-wheelchair-tennis-training-scwt-haverhill/
LOCATION:Cedardale Health & Fitness\, 931 Boston Rd\, Haverhill\, MA\, 01835\, United States
CATEGORIES:Other Para Sports
ORGANIZER;CN="South Coast Wheelchair Tennis Foundation":MAILTO:thomasd10@aol.com
END:VEVENT
BEGIN:VEVENT
DTSTART;TZID=America/New_York:20230521T100000
DTEND;TZID=America/New_York:20230521T123000
DTSTAMP:20260420T161236
CREATED:20230406T161018Z
LAST-MODIFIED:20230614T134539Z
UID:10004163-1684663200-1684672200@adaptivesportsne.org
SUMMARY:Beep Baseball - ASNE (Medford)
DESCRIPTION:
URL:https://adaptivesportsne.org/event/beep-baseball-asne-medford-2/2023-05-21/
LOCATION:Fletcher Field\, 91 Professors Row\, Medford\, MA\, 02155\, United States
CATEGORIES:Other Para Sports
ORGANIZER;CN="Adaptive Sports New England":MAILTO:joe.walsh@adaptivesportsne.org
END:VEVENT
BEGIN:VEVENT
DTSTART;TZID=America/New_York:20230521T123000
DTEND;TZID=America/New_York:20230521T140000
DTSTAMP:20260420T161236
CREATED:20230427T174254Z
LAST-MODIFIED:20230427T174254Z
UID:10004158-1684672200-1684677600@adaptivesportsne.org
SUMMARY:CP Soccer - CPSNE (Framingham)
DESCRIPTION:
URL:https://adaptivesportsne.org/event/cp-soccer-cpsne-framingham/2023-05-21/
LOCATION:Merchant Field\, 65 Merchant Rd\, Framingham\, MA\, 01702\, United States
CATEGORIES:Other Para Sports
ORGANIZER;CN="CP Soccer New England":MAILTO:newengland@cpsoccer.us
END:VEVENT
BEGIN:VEVENT
DTSTART;TZID=America/New_York:20230528T100000
DTEND;TZID=America/New_York:20230528T123000
DTSTAMP:20260420T161236
CREATED:20230406T161018Z
LAST-MODIFIED:20230614T134539Z
UID:10004164-1685268000-1685277000@adaptivesportsne.org
SUMMARY:Beep Baseball - ASNE (Medford)
DESCRIPTION:
URL:https://adaptivesportsne.org/event/beep-baseball-asne-medford-2/2023-05-28/
LOCATION:Fletcher Field\, 91 Professors Row\, Medford\, MA\, 02155\, United States
CATEGORIES:Other Para Sports
ORGANIZER;CN="Adaptive Sports New England":MAILTO:joe.walsh@adaptivesportsne.org
END:VEVENT
END:VCALENDAR