BEGIN:VCALENDAR
VERSION:2.0
PRODID:-//Adaptive Sports New England - ECPv6.15.20//NONSGML v1.0//EN
CALSCALE:GREGORIAN
METHOD:PUBLISH
X-WR-CALNAME:Adaptive Sports New England
X-ORIGINAL-URL:https://adaptivesportsne.org
X-WR-CALDESC:Events for Adaptive Sports New England
REFRESH-INTERVAL;VALUE=DURATION:PT1H
X-Robots-Tag:noindex
X-PUBLISHED-TTL:PT1H
BEGIN:VTIMEZONE
TZID:America/New_York
BEGIN:DAYLIGHT
TZOFFSETFROM:-0500
TZOFFSETTO:-0400
TZNAME:EDT
DTSTART:20290311T070000
END:DAYLIGHT
BEGIN:STANDARD
TZOFFSETFROM:-0400
TZOFFSETTO:-0500
TZNAME:EST
DTSTART:20291104T060000
END:STANDARD
BEGIN:DAYLIGHT
TZOFFSETFROM:-0500
TZOFFSETTO:-0400
TZNAME:EDT
DTSTART:20300310T070000
END:DAYLIGHT
BEGIN:STANDARD
TZOFFSETFROM:-0400
TZOFFSETTO:-0500
TZNAME:EST
DTSTART:20301103T060000
END:STANDARD
BEGIN:DAYLIGHT
TZOFFSETFROM:-0500
TZOFFSETTO:-0400
TZNAME:EDT
DTSTART:20310309T070000
END:DAYLIGHT
BEGIN:STANDARD
TZOFFSETFROM:-0400
TZOFFSETTO:-0500
TZNAME:EST
DTSTART:20311102T060000
END:STANDARD
END:VTIMEZONE
BEGIN:VEVENT
DTSTART;TZID=America/New_York:20300302T090000
DTEND;TZID=America/New_York:20300302T110000
DTSTAMP:20260424T115124
CREATED:20240925T184107Z
LAST-MODIFIED:20251220T152657Z
UID:10005522-1898672400-1898679600@adaptivesportsne.org
SUMMARY:Group Run - Achilles (Boston)
DESCRIPTION:
URL:https://adaptivesportsne.org/event/achilles-international-runs-aib-boston-2/2030-03-02/
LOCATION:276 Newbury St\, 276 Newbury St\, Boston\, MA\, 02116
CATEGORIES:Track/Running
ORGANIZER;CN="Achilles Boston":MAILTO:AchillesBoston@gmail.com
END:VEVENT
BEGIN:VEVENT
DTSTART;TZID=America/New_York:20300305T180000
DTEND;TZID=America/New_York:20300305T200000
DTSTAMP:20260424T115124
CREATED:20240925T184001Z
LAST-MODIFIED:20251223T165811Z
UID:10006220-1898964000-1898971200@adaptivesportsne.org
SUMMARY:Group Run - Achilles (Boston)
DESCRIPTION:
URL:https://adaptivesportsne.org/event/achilles-international-runs-aib-boston/2030-03-05/
LOCATION:276 Newbury St\, 276 Newbury St\, Boston\, MA\, 02116
CATEGORIES:Track/Running
ORGANIZER;CN="Achilles Boston":MAILTO:AchillesBoston@gmail.com
END:VEVENT
BEGIN:VEVENT
DTSTART;TZID=America/New_York:20300309T090000
DTEND;TZID=America/New_York:20300309T110000
DTSTAMP:20260424T115124
CREATED:20240925T184107Z
LAST-MODIFIED:20251220T152657Z
UID:10005523-1899277200-1899284400@adaptivesportsne.org
SUMMARY:Group Run - Achilles (Boston)
DESCRIPTION:
URL:https://adaptivesportsne.org/event/achilles-international-runs-aib-boston-2/2030-03-09/
LOCATION:276 Newbury St\, 276 Newbury St\, Boston\, MA\, 02116
CATEGORIES:Track/Running
ORGANIZER;CN="Achilles Boston":MAILTO:AchillesBoston@gmail.com
END:VEVENT
BEGIN:VEVENT
DTSTART;TZID=America/New_York:20300312T180000
DTEND;TZID=America/New_York:20300312T200000
DTSTAMP:20260424T115124
CREATED:20240925T184001Z
LAST-MODIFIED:20251223T165811Z
UID:10006221-1899568800-1899576000@adaptivesportsne.org
SUMMARY:Group Run - Achilles (Boston)
DESCRIPTION:
URL:https://adaptivesportsne.org/event/achilles-international-runs-aib-boston/2030-03-12/
LOCATION:276 Newbury St\, 276 Newbury St\, Boston\, MA\, 02116
CATEGORIES:Track/Running
ORGANIZER;CN="Achilles Boston":MAILTO:AchillesBoston@gmail.com
END:VEVENT
BEGIN:VEVENT
DTSTART;TZID=America/New_York:20300316T090000
DTEND;TZID=America/New_York:20300316T110000
DTSTAMP:20260424T115124
CREATED:20240925T184107Z
LAST-MODIFIED:20251220T152657Z
UID:10005524-1899882000-1899889200@adaptivesportsne.org
SUMMARY:Group Run - Achilles (Boston)
DESCRIPTION:
URL:https://adaptivesportsne.org/event/achilles-international-runs-aib-boston-2/2030-03-16/
LOCATION:276 Newbury St\, 276 Newbury St\, Boston\, MA\, 02116
CATEGORIES:Track/Running
ORGANIZER;CN="Achilles Boston":MAILTO:AchillesBoston@gmail.com
END:VEVENT
BEGIN:VEVENT
DTSTART;TZID=America/New_York:20300319T180000
DTEND;TZID=America/New_York:20300319T200000
DTSTAMP:20260424T115124
CREATED:20240925T184001Z
LAST-MODIFIED:20251223T165811Z
UID:10006222-1900173600-1900180800@adaptivesportsne.org
SUMMARY:Group Run - Achilles (Boston)
DESCRIPTION:
URL:https://adaptivesportsne.org/event/achilles-international-runs-aib-boston/2030-03-19/
LOCATION:276 Newbury St\, 276 Newbury St\, Boston\, MA\, 02116
CATEGORIES:Track/Running
ORGANIZER;CN="Achilles Boston":MAILTO:AchillesBoston@gmail.com
END:VEVENT
BEGIN:VEVENT
DTSTART;TZID=America/New_York:20300323T090000
DTEND;TZID=America/New_York:20300323T110000
DTSTAMP:20260424T115124
CREATED:20240925T184107Z
LAST-MODIFIED:20251220T152657Z
UID:10005525-1900486800-1900494000@adaptivesportsne.org
SUMMARY:Group Run - Achilles (Boston)
DESCRIPTION:
URL:https://adaptivesportsne.org/event/achilles-international-runs-aib-boston-2/2030-03-23/
LOCATION:276 Newbury St\, 276 Newbury St\, Boston\, MA\, 02116
CATEGORIES:Track/Running
ORGANIZER;CN="Achilles Boston":MAILTO:AchillesBoston@gmail.com
END:VEVENT
BEGIN:VEVENT
DTSTART;TZID=America/New_York:20300326T180000
DTEND;TZID=America/New_York:20300326T200000
DTSTAMP:20260424T115124
CREATED:20240925T184001Z
LAST-MODIFIED:20251223T165811Z
UID:10006223-1900778400-1900785600@adaptivesportsne.org
SUMMARY:Group Run - Achilles (Boston)
DESCRIPTION:
URL:https://adaptivesportsne.org/event/achilles-international-runs-aib-boston/2030-03-26/
LOCATION:276 Newbury St\, 276 Newbury St\, Boston\, MA\, 02116
CATEGORIES:Track/Running
ORGANIZER;CN="Achilles Boston":MAILTO:AchillesBoston@gmail.com
END:VEVENT
BEGIN:VEVENT
DTSTART;TZID=America/New_York:20300330T090000
DTEND;TZID=America/New_York:20300330T110000
DTSTAMP:20260424T115124
CREATED:20240925T184107Z
LAST-MODIFIED:20251220T152657Z
UID:10005526-1901091600-1901098800@adaptivesportsne.org
SUMMARY:Group Run - Achilles (Boston)
DESCRIPTION:
URL:https://adaptivesportsne.org/event/achilles-international-runs-aib-boston-2/2030-03-30/
LOCATION:276 Newbury St\, 276 Newbury St\, Boston\, MA\, 02116
CATEGORIES:Track/Running
ORGANIZER;CN="Achilles Boston":MAILTO:AchillesBoston@gmail.com
END:VEVENT
END:VCALENDAR