BEGIN:VCALENDAR
VERSION:2.0
PRODID:-//Adaptive Sports New England - ECPv6.15.20//NONSGML v1.0//EN
CALSCALE:GREGORIAN
METHOD:PUBLISH
X-WR-CALNAME:Adaptive Sports New England
X-ORIGINAL-URL:https://adaptivesportsne.org
X-WR-CALDESC:Events for Adaptive Sports New England
REFRESH-INTERVAL;VALUE=DURATION:PT1H
X-Robots-Tag:noindex
X-PUBLISHED-TTL:PT1H
BEGIN:VTIMEZONE
TZID:America/New_York
BEGIN:DAYLIGHT
TZOFFSETFROM:-0500
TZOFFSETTO:-0400
TZNAME:EDT
DTSTART:20290311T070000
END:DAYLIGHT
BEGIN:STANDARD
TZOFFSETFROM:-0400
TZOFFSETTO:-0500
TZNAME:EST
DTSTART:20291104T060000
END:STANDARD
BEGIN:DAYLIGHT
TZOFFSETFROM:-0500
TZOFFSETTO:-0400
TZNAME:EDT
DTSTART:20300310T070000
END:DAYLIGHT
BEGIN:STANDARD
TZOFFSETFROM:-0400
TZOFFSETTO:-0500
TZNAME:EST
DTSTART:20301103T060000
END:STANDARD
BEGIN:DAYLIGHT
TZOFFSETFROM:-0500
TZOFFSETTO:-0400
TZNAME:EDT
DTSTART:20310309T070000
END:DAYLIGHT
BEGIN:STANDARD
TZOFFSETFROM:-0400
TZOFFSETTO:-0500
TZNAME:EST
DTSTART:20311102T060000
END:STANDARD
END:VTIMEZONE
BEGIN:VEVENT
DTSTART;TZID=America/New_York:20300903T180000
DTEND;TZID=America/New_York:20300903T200000
DTSTAMP:20260425T113809
CREATED:20240925T184001Z
LAST-MODIFIED:20251223T165811Z
UID:10006246-1914688800-1914696000@adaptivesportsne.org
SUMMARY:Group Run - Achilles (Boston)
DESCRIPTION:
URL:https://adaptivesportsne.org/event/achilles-international-runs-aib-boston/2030-09-03/
LOCATION:276 Newbury St\, 276 Newbury St\, Boston\, MA\, 02116
CATEGORIES:Track/Running
ORGANIZER;CN="Achilles Boston":MAILTO:AchillesBoston@gmail.com
END:VEVENT
BEGIN:VEVENT
DTSTART;TZID=America/New_York:20300907T090000
DTEND;TZID=America/New_York:20300907T110000
DTSTAMP:20260425T113809
CREATED:20240925T184107Z
LAST-MODIFIED:20251220T152657Z
UID:10006171-1915002000-1915009200@adaptivesportsne.org
SUMMARY:Group Run - Achilles (Boston)
DESCRIPTION:
URL:https://adaptivesportsne.org/event/achilles-international-runs-aib-boston-2/2030-09-07/
LOCATION:276 Newbury St\, 276 Newbury St\, Boston\, MA\, 02116
CATEGORIES:Track/Running
ORGANIZER;CN="Achilles Boston":MAILTO:AchillesBoston@gmail.com
END:VEVENT
BEGIN:VEVENT
DTSTART;TZID=America/New_York:20300910T180000
DTEND;TZID=America/New_York:20300910T200000
DTSTAMP:20260425T113809
CREATED:20240925T184001Z
LAST-MODIFIED:20251223T165811Z
UID:10006247-1915293600-1915300800@adaptivesportsne.org
SUMMARY:Group Run - Achilles (Boston)
DESCRIPTION:
URL:https://adaptivesportsne.org/event/achilles-international-runs-aib-boston/2030-09-10/
LOCATION:276 Newbury St\, 276 Newbury St\, Boston\, MA\, 02116
CATEGORIES:Track/Running
ORGANIZER;CN="Achilles Boston":MAILTO:AchillesBoston@gmail.com
END:VEVENT
BEGIN:VEVENT
DTSTART;TZID=America/New_York:20300914T090000
DTEND;TZID=America/New_York:20300914T110000
DTSTAMP:20260425T113809
CREATED:20240925T184107Z
LAST-MODIFIED:20251220T152657Z
UID:10006172-1915606800-1915614000@adaptivesportsne.org
SUMMARY:Group Run - Achilles (Boston)
DESCRIPTION:
URL:https://adaptivesportsne.org/event/achilles-international-runs-aib-boston-2/2030-09-14/
LOCATION:276 Newbury St\, 276 Newbury St\, Boston\, MA\, 02116
CATEGORIES:Track/Running
ORGANIZER;CN="Achilles Boston":MAILTO:AchillesBoston@gmail.com
END:VEVENT
BEGIN:VEVENT
DTSTART;TZID=America/New_York:20300917T180000
DTEND;TZID=America/New_York:20300917T200000
DTSTAMP:20260425T113809
CREATED:20240925T184001Z
LAST-MODIFIED:20251223T165811Z
UID:10006248-1915898400-1915905600@adaptivesportsne.org
SUMMARY:Group Run - Achilles (Boston)
DESCRIPTION:
URL:https://adaptivesportsne.org/event/achilles-international-runs-aib-boston/2030-09-17/
LOCATION:276 Newbury St\, 276 Newbury St\, Boston\, MA\, 02116
CATEGORIES:Track/Running
ORGANIZER;CN="Achilles Boston":MAILTO:AchillesBoston@gmail.com
END:VEVENT
BEGIN:VEVENT
DTSTART;TZID=America/New_York:20300921T090000
DTEND;TZID=America/New_York:20300921T110000
DTSTAMP:20260425T113809
CREATED:20240925T184107Z
LAST-MODIFIED:20251220T152657Z
UID:10006173-1916211600-1916218800@adaptivesportsne.org
SUMMARY:Group Run - Achilles (Boston)
DESCRIPTION:
URL:https://adaptivesportsne.org/event/achilles-international-runs-aib-boston-2/2030-09-21/
LOCATION:276 Newbury St\, 276 Newbury St\, Boston\, MA\, 02116
CATEGORIES:Track/Running
ORGANIZER;CN="Achilles Boston":MAILTO:AchillesBoston@gmail.com
END:VEVENT
BEGIN:VEVENT
DTSTART;TZID=America/New_York:20300924T180000
DTEND;TZID=America/New_York:20300924T200000
DTSTAMP:20260425T113809
CREATED:20240925T184001Z
LAST-MODIFIED:20251223T165811Z
UID:10006249-1916503200-1916510400@adaptivesportsne.org
SUMMARY:Group Run - Achilles (Boston)
DESCRIPTION:
URL:https://adaptivesportsne.org/event/achilles-international-runs-aib-boston/2030-09-24/
LOCATION:276 Newbury St\, 276 Newbury St\, Boston\, MA\, 02116
CATEGORIES:Track/Running
ORGANIZER;CN="Achilles Boston":MAILTO:AchillesBoston@gmail.com
END:VEVENT
BEGIN:VEVENT
DTSTART;TZID=America/New_York:20300928T090000
DTEND;TZID=America/New_York:20300928T110000
DTSTAMP:20260425T113809
CREATED:20240925T184107Z
LAST-MODIFIED:20251220T152657Z
UID:10006174-1916816400-1916823600@adaptivesportsne.org
SUMMARY:Group Run - Achilles (Boston)
DESCRIPTION:
URL:https://adaptivesportsne.org/event/achilles-international-runs-aib-boston-2/2030-09-28/
LOCATION:276 Newbury St\, 276 Newbury St\, Boston\, MA\, 02116
CATEGORIES:Track/Running
ORGANIZER;CN="Achilles Boston":MAILTO:AchillesBoston@gmail.com
END:VEVENT
END:VCALENDAR