BEGIN:VCALENDAR
VERSION:2.0
PRODID:-//Adaptive Sports New England - ECPv6.15.20//NONSGML v1.0//EN
CALSCALE:GREGORIAN
METHOD:PUBLISH
X-ORIGINAL-URL:https://adaptivesportsne.org
X-WR-CALDESC:Events for Adaptive Sports New England
REFRESH-INTERVAL;VALUE=DURATION:PT1H
X-Robots-Tag:noindex
X-PUBLISHED-TTL:PT1H
BEGIN:VTIMEZONE
TZID:America/New_York
BEGIN:DAYLIGHT
TZOFFSETFROM:-0500
TZOFFSETTO:-0400
TZNAME:EDT
DTSTART:20250309T070000
END:DAYLIGHT
BEGIN:STANDARD
TZOFFSETFROM:-0400
TZOFFSETTO:-0500
TZNAME:EST
DTSTART:20251102T060000
END:STANDARD
BEGIN:DAYLIGHT
TZOFFSETFROM:-0500
TZOFFSETTO:-0400
TZNAME:EDT
DTSTART:20260308T070000
END:DAYLIGHT
BEGIN:STANDARD
TZOFFSETFROM:-0400
TZOFFSETTO:-0500
TZNAME:EST
DTSTART:20261101T060000
END:STANDARD
BEGIN:DAYLIGHT
TZOFFSETFROM:-0500
TZOFFSETTO:-0400
TZNAME:EDT
DTSTART:20270314T070000
END:DAYLIGHT
BEGIN:STANDARD
TZOFFSETFROM:-0400
TZOFFSETTO:-0500
TZNAME:EST
DTSTART:20271107T060000
END:STANDARD
END:VTIMEZONE
BEGIN:VEVENT
DTSTART;TZID=America/New_York:20260421T180000
DTEND;TZID=America/New_York:20260421T200000
DTSTAMP:20260425T081230
CREATED:20240925T184001Z
LAST-MODIFIED:20251223T165811Z
UID:10004918-1776794400-1776801600@adaptivesportsne.org
SUMMARY:Group Run - Achilles (Boston)
DESCRIPTION:
URL:https://adaptivesportsne.org/event/achilles-international-runs-aib-boston/2026-04-21/
LOCATION:276 Newbury St\, 276 Newbury St\, Boston\, MA\, 02116
CATEGORIES:Track/Running
ORGANIZER;CN="Achilles Boston":MAILTO:AchillesBoston@gmail.com
END:VEVENT
BEGIN:VEVENT
DTSTART;TZID=America/New_York:20260425T090000
DTEND;TZID=America/New_York:20260425T103000
DTSTAMP:20260425T081230
CREATED:20260320T180917Z
LAST-MODIFIED:20260320T181024Z
UID:10006541-1777107600-1777113000@adaptivesportsne.org
SUMMARY:Wheelchair Track- ASNE (West Roxbury)
DESCRIPTION:
URL:https://adaptivesportsne.org/event/wheelchair-track-west-roxbury/2026-04-25/
LOCATION:Catholic Memorial\, 235 Baker St\, Boston\, MA\, 02132
CATEGORIES:Track/Running
ORGANIZER;CN="Adaptive Sports New England":MAILTO:joe.walsh@adaptivesportsne.org
END:VEVENT
BEGIN:VEVENT
DTSTART;TZID=America/New_York:20260425T090000
DTEND;TZID=America/New_York:20260425T110000
DTSTAMP:20260425T081230
CREATED:20240925T184107Z
LAST-MODIFIED:20251220T152657Z
UID:10005180-1777107600-1777114800@adaptivesportsne.org
SUMMARY:Group Run - Achilles (Boston)
DESCRIPTION:
URL:https://adaptivesportsne.org/event/achilles-international-runs-aib-boston-2/2026-04-25/
LOCATION:276 Newbury St\, 276 Newbury St\, Boston\, MA\, 02116
CATEGORIES:Track/Running
ORGANIZER;CN="Achilles Boston":MAILTO:AchillesBoston@gmail.com
END:VEVENT
BEGIN:VEVENT
DTSTART;TZID=America/New_York:20260428T180000
DTEND;TZID=America/New_York:20260428T200000
DTSTAMP:20260425T081230
CREATED:20240925T184001Z
LAST-MODIFIED:20251223T165811Z
UID:10004919-1777399200-1777406400@adaptivesportsne.org
SUMMARY:Group Run - Achilles (Boston)
DESCRIPTION:
URL:https://adaptivesportsne.org/event/achilles-international-runs-aib-boston/2026-04-28/
LOCATION:276 Newbury St\, 276 Newbury St\, Boston\, MA\, 02116
CATEGORIES:Track/Running
ORGANIZER;CN="Achilles Boston":MAILTO:AchillesBoston@gmail.com
END:VEVENT
BEGIN:VEVENT
DTSTART;TZID=America/New_York:20260502T090000
DTEND;TZID=America/New_York:20260502T103000
DTSTAMP:20260425T081230
CREATED:20260320T180917Z
LAST-MODIFIED:20260320T181024Z
UID:10006542-1777712400-1777717800@adaptivesportsne.org
SUMMARY:Wheelchair Track- ASNE (West Roxbury)
DESCRIPTION:
URL:https://adaptivesportsne.org/event/wheelchair-track-west-roxbury/2026-05-02/
LOCATION:Catholic Memorial\, 235 Baker St\, Boston\, MA\, 02132
CATEGORIES:Track/Running
ORGANIZER;CN="Adaptive Sports New England":MAILTO:joe.walsh@adaptivesportsne.org
END:VEVENT
BEGIN:VEVENT
DTSTART;TZID=America/New_York:20260502T090000
DTEND;TZID=America/New_York:20260502T110000
DTSTAMP:20260425T081230
CREATED:20240925T184107Z
LAST-MODIFIED:20251220T152657Z
UID:10005181-1777712400-1777719600@adaptivesportsne.org
SUMMARY:Group Run - Achilles (Boston)
DESCRIPTION:
URL:https://adaptivesportsne.org/event/achilles-international-runs-aib-boston-2/2026-05-02/
LOCATION:276 Newbury St\, 276 Newbury St\, Boston\, MA\, 02116
CATEGORIES:Track/Running
ORGANIZER;CN="Achilles Boston":MAILTO:AchillesBoston@gmail.com
END:VEVENT
BEGIN:VEVENT
DTSTART;TZID=America/New_York:20260505T180000
DTEND;TZID=America/New_York:20260505T200000
DTSTAMP:20260425T081230
CREATED:20240925T184001Z
LAST-MODIFIED:20251223T165811Z
UID:10004920-1778004000-1778011200@adaptivesportsne.org
SUMMARY:Group Run - Achilles (Boston)
DESCRIPTION:
URL:https://adaptivesportsne.org/event/achilles-international-runs-aib-boston/2026-05-05/
LOCATION:276 Newbury St\, 276 Newbury St\, Boston\, MA\, 02116
CATEGORIES:Track/Running
ORGANIZER;CN="Achilles Boston":MAILTO:AchillesBoston@gmail.com
END:VEVENT
BEGIN:VEVENT
DTSTART;TZID=America/New_York:20260509T090000
DTEND;TZID=America/New_York:20260509T103000
DTSTAMP:20260425T081230
CREATED:20260320T180917Z
LAST-MODIFIED:20260320T181024Z
UID:10006543-1778317200-1778322600@adaptivesportsne.org
SUMMARY:Wheelchair Track- ASNE (West Roxbury)
DESCRIPTION:
URL:https://adaptivesportsne.org/event/wheelchair-track-west-roxbury/2026-05-09/
LOCATION:Catholic Memorial\, 235 Baker St\, Boston\, MA\, 02132
CATEGORIES:Track/Running
ORGANIZER;CN="Adaptive Sports New England":MAILTO:joe.walsh@adaptivesportsne.org
END:VEVENT
BEGIN:VEVENT
DTSTART;TZID=America/New_York:20260509T090000
DTEND;TZID=America/New_York:20260509T110000
DTSTAMP:20260425T081230
CREATED:20240925T184107Z
LAST-MODIFIED:20251220T152657Z
UID:10005182-1778317200-1778324400@adaptivesportsne.org
SUMMARY:Group Run - Achilles (Boston)
DESCRIPTION:
URL:https://adaptivesportsne.org/event/achilles-international-runs-aib-boston-2/2026-05-09/
LOCATION:276 Newbury St\, 276 Newbury St\, Boston\, MA\, 02116
CATEGORIES:Track/Running
ORGANIZER;CN="Achilles Boston":MAILTO:AchillesBoston@gmail.com
END:VEVENT
BEGIN:VEVENT
DTSTART;TZID=America/New_York:20260512T180000
DTEND;TZID=America/New_York:20260512T200000
DTSTAMP:20260425T081230
CREATED:20240925T184001Z
LAST-MODIFIED:20251223T165811Z
UID:10004921-1778608800-1778616000@adaptivesportsne.org
SUMMARY:Group Run - Achilles (Boston)
DESCRIPTION:
URL:https://adaptivesportsne.org/event/achilles-international-runs-aib-boston/2026-05-12/
LOCATION:276 Newbury St\, 276 Newbury St\, Boston\, MA\, 02116
CATEGORIES:Track/Running
ORGANIZER;CN="Achilles Boston":MAILTO:AchillesBoston@gmail.com
END:VEVENT
BEGIN:VEVENT
DTSTART;TZID=America/New_York:20260516T090000
DTEND;TZID=America/New_York:20260516T103000
DTSTAMP:20260425T081230
CREATED:20260320T180917Z
LAST-MODIFIED:20260320T181024Z
UID:10006544-1778922000-1778927400@adaptivesportsne.org
SUMMARY:Wheelchair Track- ASNE (West Roxbury)
DESCRIPTION:
URL:https://adaptivesportsne.org/event/wheelchair-track-west-roxbury/2026-05-16/
LOCATION:Catholic Memorial\, 235 Baker St\, Boston\, MA\, 02132
CATEGORIES:Track/Running
ORGANIZER;CN="Adaptive Sports New England":MAILTO:joe.walsh@adaptivesportsne.org
END:VEVENT
BEGIN:VEVENT
DTSTART;TZID=America/New_York:20260516T090000
DTEND;TZID=America/New_York:20260516T110000
DTSTAMP:20260425T081230
CREATED:20240925T184107Z
LAST-MODIFIED:20251220T152657Z
UID:10005183-1778922000-1778929200@adaptivesportsne.org
SUMMARY:Group Run - Achilles (Boston)
DESCRIPTION:
URL:https://adaptivesportsne.org/event/achilles-international-runs-aib-boston-2/2026-05-16/
LOCATION:276 Newbury St\, 276 Newbury St\, Boston\, MA\, 02116
CATEGORIES:Track/Running
ORGANIZER;CN="Achilles Boston":MAILTO:AchillesBoston@gmail.com
END:VEVENT
BEGIN:VEVENT
DTSTART;TZID=America/New_York:20260519T180000
DTEND;TZID=America/New_York:20260519T200000
DTSTAMP:20260425T081230
CREATED:20240925T184001Z
LAST-MODIFIED:20251223T165811Z
UID:10004922-1779213600-1779220800@adaptivesportsne.org
SUMMARY:Group Run - Achilles (Boston)
DESCRIPTION:
URL:https://adaptivesportsne.org/event/achilles-international-runs-aib-boston/2026-05-19/
LOCATION:276 Newbury St\, 276 Newbury St\, Boston\, MA\, 02116
CATEGORIES:Track/Running
ORGANIZER;CN="Achilles Boston":MAILTO:AchillesBoston@gmail.com
END:VEVENT
BEGIN:VEVENT
DTSTART;TZID=America/New_York:20260523T090000
DTEND;TZID=America/New_York:20260523T103000
DTSTAMP:20260425T081230
CREATED:20260320T180917Z
LAST-MODIFIED:20260320T181024Z
UID:10006545-1779526800-1779532200@adaptivesportsne.org
SUMMARY:Wheelchair Track- ASNE (West Roxbury)
DESCRIPTION:
URL:https://adaptivesportsne.org/event/wheelchair-track-west-roxbury/2026-05-23/
LOCATION:Catholic Memorial\, 235 Baker St\, Boston\, MA\, 02132
CATEGORIES:Track/Running
ORGANIZER;CN="Adaptive Sports New England":MAILTO:joe.walsh@adaptivesportsne.org
END:VEVENT
BEGIN:VEVENT
DTSTART;TZID=America/New_York:20260523T090000
DTEND;TZID=America/New_York:20260523T110000
DTSTAMP:20260425T081230
CREATED:20240925T184107Z
LAST-MODIFIED:20251220T152657Z
UID:10005184-1779526800-1779534000@adaptivesportsne.org
SUMMARY:Group Run - Achilles (Boston)
DESCRIPTION:
URL:https://adaptivesportsne.org/event/achilles-international-runs-aib-boston-2/2026-05-23/
LOCATION:276 Newbury St\, 276 Newbury St\, Boston\, MA\, 02116
CATEGORIES:Track/Running
ORGANIZER;CN="Achilles Boston":MAILTO:AchillesBoston@gmail.com
END:VEVENT
BEGIN:VEVENT
DTSTART;TZID=America/New_York:20260526T180000
DTEND;TZID=America/New_York:20260526T200000
DTSTAMP:20260425T081230
CREATED:20240925T184001Z
LAST-MODIFIED:20251223T165811Z
UID:10004923-1779818400-1779825600@adaptivesportsne.org
SUMMARY:Group Run - Achilles (Boston)
DESCRIPTION:
URL:https://adaptivesportsne.org/event/achilles-international-runs-aib-boston/2026-05-26/
LOCATION:276 Newbury St\, 276 Newbury St\, Boston\, MA\, 02116
CATEGORIES:Track/Running
ORGANIZER;CN="Achilles Boston":MAILTO:AchillesBoston@gmail.com
END:VEVENT
BEGIN:VEVENT
DTSTART;TZID=America/New_York:20260530T090000
DTEND;TZID=America/New_York:20260530T103000
DTSTAMP:20260425T081230
CREATED:20260320T180917Z
LAST-MODIFIED:20260320T181024Z
UID:10006546-1780131600-1780137000@adaptivesportsne.org
SUMMARY:Wheelchair Track- ASNE (West Roxbury)
DESCRIPTION:
URL:https://adaptivesportsne.org/event/wheelchair-track-west-roxbury/2026-05-30/
LOCATION:Catholic Memorial\, 235 Baker St\, Boston\, MA\, 02132
CATEGORIES:Track/Running
ORGANIZER;CN="Adaptive Sports New England":MAILTO:joe.walsh@adaptivesportsne.org
END:VEVENT
BEGIN:VEVENT
DTSTART;TZID=America/New_York:20260530T090000
DTEND;TZID=America/New_York:20260530T110000
DTSTAMP:20260425T081230
CREATED:20240925T184107Z
LAST-MODIFIED:20251220T152657Z
UID:10005185-1780131600-1780138800@adaptivesportsne.org
SUMMARY:Group Run - Achilles (Boston)
DESCRIPTION:
URL:https://adaptivesportsne.org/event/achilles-international-runs-aib-boston-2/2026-05-30/
LOCATION:276 Newbury St\, 276 Newbury St\, Boston\, MA\, 02116
CATEGORIES:Track/Running
ORGANIZER;CN="Achilles Boston":MAILTO:AchillesBoston@gmail.com
END:VEVENT
BEGIN:VEVENT
DTSTART;TZID=America/New_York:20260602T180000
DTEND;TZID=America/New_York:20260602T200000
DTSTAMP:20260425T081230
CREATED:20240925T184001Z
LAST-MODIFIED:20251223T165811Z
UID:10004924-1780423200-1780430400@adaptivesportsne.org
SUMMARY:Group Run - Achilles (Boston)
DESCRIPTION:
URL:https://adaptivesportsne.org/event/achilles-international-runs-aib-boston/2026-06-02/
LOCATION:276 Newbury St\, 276 Newbury St\, Boston\, MA\, 02116
CATEGORIES:Track/Running
ORGANIZER;CN="Achilles Boston":MAILTO:AchillesBoston@gmail.com
END:VEVENT
BEGIN:VEVENT
DTSTART;TZID=America/New_York:20260606T090000
DTEND;TZID=America/New_York:20260606T103000
DTSTAMP:20260425T081230
CREATED:20260320T180917Z
LAST-MODIFIED:20260320T181024Z
UID:10006547-1780736400-1780741800@adaptivesportsne.org
SUMMARY:Wheelchair Track- ASNE (West Roxbury)
DESCRIPTION:
URL:https://adaptivesportsne.org/event/wheelchair-track-west-roxbury/2026-06-06/
LOCATION:Catholic Memorial\, 235 Baker St\, Boston\, MA\, 02132
CATEGORIES:Track/Running
ORGANIZER;CN="Adaptive Sports New England":MAILTO:joe.walsh@adaptivesportsne.org
END:VEVENT
BEGIN:VEVENT
DTSTART;TZID=America/New_York:20260606T090000
DTEND;TZID=America/New_York:20260606T110000
DTSTAMP:20260425T081230
CREATED:20240925T184107Z
LAST-MODIFIED:20251220T152657Z
UID:10005186-1780736400-1780743600@adaptivesportsne.org
SUMMARY:Group Run - Achilles (Boston)
DESCRIPTION:
URL:https://adaptivesportsne.org/event/achilles-international-runs-aib-boston-2/2026-06-06/
LOCATION:276 Newbury St\, 276 Newbury St\, Boston\, MA\, 02116
CATEGORIES:Track/Running
ORGANIZER;CN="Achilles Boston":MAILTO:AchillesBoston@gmail.com
END:VEVENT
BEGIN:VEVENT
DTSTART;TZID=America/New_York:20260609T180000
DTEND;TZID=America/New_York:20260609T200000
DTSTAMP:20260425T081230
CREATED:20240925T184001Z
LAST-MODIFIED:20251223T165811Z
UID:10004925-1781028000-1781035200@adaptivesportsne.org
SUMMARY:Group Run - Achilles (Boston)
DESCRIPTION:
URL:https://adaptivesportsne.org/event/achilles-international-runs-aib-boston/2026-06-09/
LOCATION:276 Newbury St\, 276 Newbury St\, Boston\, MA\, 02116
CATEGORIES:Track/Running
ORGANIZER;CN="Achilles Boston":MAILTO:AchillesBoston@gmail.com
END:VEVENT
BEGIN:VEVENT
DTSTART;TZID=America/New_York:20260613T090000
DTEND;TZID=America/New_York:20260613T103000
DTSTAMP:20260425T081230
CREATED:20260320T180917Z
LAST-MODIFIED:20260320T181024Z
UID:10006548-1781341200-1781346600@adaptivesportsne.org
SUMMARY:Wheelchair Track- ASNE (West Roxbury)
DESCRIPTION:
URL:https://adaptivesportsne.org/event/wheelchair-track-west-roxbury/2026-06-13/
LOCATION:Catholic Memorial\, 235 Baker St\, Boston\, MA\, 02132
CATEGORIES:Track/Running
ORGANIZER;CN="Adaptive Sports New England":MAILTO:joe.walsh@adaptivesportsne.org
END:VEVENT
BEGIN:VEVENT
DTSTART;TZID=America/New_York:20260613T090000
DTEND;TZID=America/New_York:20260613T110000
DTSTAMP:20260425T081230
CREATED:20240925T184107Z
LAST-MODIFIED:20251220T152657Z
UID:10005187-1781341200-1781348400@adaptivesportsne.org
SUMMARY:Group Run - Achilles (Boston)
DESCRIPTION:
URL:https://adaptivesportsne.org/event/achilles-international-runs-aib-boston-2/2026-06-13/
LOCATION:276 Newbury St\, 276 Newbury St\, Boston\, MA\, 02116
CATEGORIES:Track/Running
ORGANIZER;CN="Achilles Boston":MAILTO:AchillesBoston@gmail.com
END:VEVENT
BEGIN:VEVENT
DTSTART;TZID=America/New_York:20260616T180000
DTEND;TZID=America/New_York:20260616T200000
DTSTAMP:20260425T081230
CREATED:20240925T184001Z
LAST-MODIFIED:20251223T165811Z
UID:10004926-1781632800-1781640000@adaptivesportsne.org
SUMMARY:Group Run - Achilles (Boston)
DESCRIPTION:
URL:https://adaptivesportsne.org/event/achilles-international-runs-aib-boston/2026-06-16/
LOCATION:276 Newbury St\, 276 Newbury St\, Boston\, MA\, 02116
CATEGORIES:Track/Running
ORGANIZER;CN="Achilles Boston":MAILTO:AchillesBoston@gmail.com
END:VEVENT
BEGIN:VEVENT
DTSTART;TZID=America/New_York:20260620T090000
DTEND;TZID=America/New_York:20260620T110000
DTSTAMP:20260425T081230
CREATED:20240925T184107Z
LAST-MODIFIED:20251220T152657Z
UID:10005188-1781946000-1781953200@adaptivesportsne.org
SUMMARY:Group Run - Achilles (Boston)
DESCRIPTION:
URL:https://adaptivesportsne.org/event/achilles-international-runs-aib-boston-2/2026-06-20/
LOCATION:276 Newbury St\, 276 Newbury St\, Boston\, MA\, 02116
CATEGORIES:Track/Running
ORGANIZER;CN="Achilles Boston":MAILTO:AchillesBoston@gmail.com
END:VEVENT
BEGIN:VEVENT
DTSTART;TZID=America/New_York:20260623T180000
DTEND;TZID=America/New_York:20260623T200000
DTSTAMP:20260425T081230
CREATED:20240925T184001Z
LAST-MODIFIED:20251223T165811Z
UID:10004927-1782237600-1782244800@adaptivesportsne.org
SUMMARY:Group Run - Achilles (Boston)
DESCRIPTION:
URL:https://adaptivesportsne.org/event/achilles-international-runs-aib-boston/2026-06-23/
LOCATION:276 Newbury St\, 276 Newbury St\, Boston\, MA\, 02116
CATEGORIES:Track/Running
ORGANIZER;CN="Achilles Boston":MAILTO:AchillesBoston@gmail.com
END:VEVENT
BEGIN:VEVENT
DTSTART;TZID=America/New_York:20260627T090000
DTEND;TZID=America/New_York:20260627T103000
DTSTAMP:20260425T081230
CREATED:20260320T180917Z
LAST-MODIFIED:20260320T181024Z
UID:10006549-1782550800-1782556200@adaptivesportsne.org
SUMMARY:Wheelchair Track- ASNE (West Roxbury)
DESCRIPTION:
URL:https://adaptivesportsne.org/event/wheelchair-track-west-roxbury/2026-06-27/
LOCATION:Catholic Memorial\, 235 Baker St\, Boston\, MA\, 02132
CATEGORIES:Track/Running
ORGANIZER;CN="Adaptive Sports New England":MAILTO:joe.walsh@adaptivesportsne.org
END:VEVENT
BEGIN:VEVENT
DTSTART;TZID=America/New_York:20260627T090000
DTEND;TZID=America/New_York:20260627T110000
DTSTAMP:20260425T081230
CREATED:20240925T184107Z
LAST-MODIFIED:20251220T152657Z
UID:10005189-1782550800-1782558000@adaptivesportsne.org
SUMMARY:Group Run - Achilles (Boston)
DESCRIPTION:
URL:https://adaptivesportsne.org/event/achilles-international-runs-aib-boston-2/2026-06-27/
LOCATION:276 Newbury St\, 276 Newbury St\, Boston\, MA\, 02116
CATEGORIES:Track/Running
ORGANIZER;CN="Achilles Boston":MAILTO:AchillesBoston@gmail.com
END:VEVENT
BEGIN:VEVENT
DTSTART;TZID=America/New_York:20260630T180000
DTEND;TZID=America/New_York:20260630T200000
DTSTAMP:20260425T081230
CREATED:20240925T184001Z
LAST-MODIFIED:20251223T165811Z
UID:10004928-1782842400-1782849600@adaptivesportsne.org
SUMMARY:Group Run - Achilles (Boston)
DESCRIPTION:
URL:https://adaptivesportsne.org/event/achilles-international-runs-aib-boston/2026-06-30/
LOCATION:276 Newbury St\, 276 Newbury St\, Boston\, MA\, 02116
CATEGORIES:Track/Running
ORGANIZER;CN="Achilles Boston":MAILTO:AchillesBoston@gmail.com
END:VEVENT
END:VCALENDAR