BEGIN:VCALENDAR
VERSION:2.0
PRODID:-//Adaptive Sports New England - ECPv6.15.20//NONSGML v1.0//EN
CALSCALE:GREGORIAN
METHOD:PUBLISH
X-WR-CALNAME:Adaptive Sports New England
X-ORIGINAL-URL:https://adaptivesportsne.org
X-WR-CALDESC:Events for Adaptive Sports New England
REFRESH-INTERVAL;VALUE=DURATION:PT1H
X-Robots-Tag:noindex
X-PUBLISHED-TTL:PT1H
BEGIN:VTIMEZONE
TZID:America/Halifax
BEGIN:DAYLIGHT
TZOFFSETFROM:-0400
TZOFFSETTO:-0300
TZNAME:ADT
DTSTART:20160313T060000
END:DAYLIGHT
BEGIN:STANDARD
TZOFFSETFROM:-0300
TZOFFSETTO:-0400
TZNAME:AST
DTSTART:20161106T050000
END:STANDARD
BEGIN:DAYLIGHT
TZOFFSETFROM:-0400
TZOFFSETTO:-0300
TZNAME:ADT
DTSTART:20170312T060000
END:DAYLIGHT
BEGIN:STANDARD
TZOFFSETFROM:-0300
TZOFFSETTO:-0400
TZNAME:AST
DTSTART:20171105T050000
END:STANDARD
BEGIN:DAYLIGHT
TZOFFSETFROM:-0400
TZOFFSETTO:-0300
TZNAME:ADT
DTSTART:20180311T060000
END:DAYLIGHT
BEGIN:STANDARD
TZOFFSETFROM:-0300
TZOFFSETTO:-0400
TZNAME:AST
DTSTART:20181104T050000
END:STANDARD
END:VTIMEZONE
BEGIN:VEVENT
DTSTART;TZID=America/Halifax:20170607T100000
DTEND;TZID=America/Halifax:20170607T143000
DTSTAMP:20260424T113127
CREATED:20170505T033214Z
LAST-MODIFIED:20170619T152821Z
UID:10002050-1496829600-1496845800@adaptivesportsne.org
SUMMARY:Cycling - SASC (Peabody)
DESCRIPTION:Spaulding Adaptive Sports Centers offers cycling on the North Shore and provides a fleet of 3-wheeled adaptive cycles including handcycles\, recumbent leg cycles and tandems for you to ride. All abilities welcome. \n\n\n\n\nEquipment provided:Cycle\, flag\, and helmet \n\nWednesdays: June 7\, July 5\, August 2\,\nSeptember 6\nSession A: 10:00 AM to 12:00 PM\nSession B: 12:30 PM to 2:30 PM\nPeabody Bike Path (meet at Ross Playground behind 32 Johnson Street)\nCost: $20 per person
URL:https://adaptivesportsne.org/event/cycling-sasc-peabody/2017-06-07/
LOCATION:Peabody Bike Trail\, Peabody\, MA\, United States
ORGANIZER;CN="Spaulding Adaptive Sports Centers":MAILTO:scarper@partners.org
GEO:42.5278731;-70.9286609
END:VEVENT
BEGIN:VEVENT
DTSTART;TZID=America/Halifax:20170607T170000
DTEND;TZID=America/Halifax:20170607T183000
DTSTAMP:20260424T113127
CREATED:20170527T164120Z
LAST-MODIFIED:20170527T164337Z
UID:10002068-1496854800-1496860200@adaptivesportsne.org
SUMMARY:Golf Advanced-NEP (Windham)
DESCRIPTION:
URL:https://adaptivesportsne.org/event/golf-advanced-nep-windham-nh/2017-06-07/
LOCATION:Windham Country Club\, Windham\, MA\, United States
ORGANIZER;CN="Northeast Passage":MAILTO:northeast.passage@unh.edu
GEO:42.604261;-70.8911612
END:VEVENT
BEGIN:VEVENT
DTSTART;TZID=America/Halifax:20170607T170000
DTEND;TZID=America/Halifax:20170607T210000
DTSTAMP:20260424T113127
CREATED:20170504T143755Z
LAST-MODIFIED:20170504T143755Z
UID:10002012-1496854800-1496869200@adaptivesportsne.org
SUMMARY:Kayaing - SASC (East Sandwich)
DESCRIPTION:KAYAKING\nEvening Kayaking Series\nCamp Lyndon\, East Sandwich\, MA\n5:00 PM to Sunset\nWednesdays: June 7\, 21\, July 5\, 19\nAugust 2\, 16\, 30\nCost: $20
URL:https://adaptivesportsne.org/event/kayaing-sasc-east-sandwich/2017-06-07/
LOCATION:Camp Lyndon\, Sandwich\, MA\, United States
ORGANIZER;CN="Spaulding Adaptive Sports Centers":MAILTO:scarper@partners.org
GEO:41.7589615;-70.4939317
END:VEVENT
BEGIN:VEVENT
DTSTART;VALUE=DATE:20170608
DTEND;VALUE=DATE:20170613
DTSTAMP:20260424T113127
CREATED:20170220T213042Z
LAST-MODIFIED:20170220T213042Z
UID:10001987-1496880000-1497311999@adaptivesportsne.org
SUMMARY:Para Rowing LTA Camp - CRI (Brighton)
DESCRIPTION:National Development Camp for athletes eligible for the Legs\, Trunk and Arms Sport Class including athletes who are blind/VI\, amputees\, athletes with Cerebral Palsy and similar mobility impairments. This is a competitive/selective camp\, though no previous rowing experience is necessary.
URL:https://adaptivesportsne.org/event/para-rowing-lta-camp-cri-brighton/
LOCATION:Harry Parker Boathouse\, 20 Nonantum Road\, Brighton\, MA\, 02135\, United States
ORGANIZER;CN="Community Rowing%2C Inc.":MAILTO:jenny@communityrowing.org
GEO:42.3587003;-71.1656869
X-APPLE-STRUCTURED-LOCATION;VALUE=URI;X-ADDRESS=Harry Parker Boathouse 20 Nonantum Road Brighton MA 02135 United States;X-APPLE-RADIUS=500;X-TITLE=20 Nonantum Road:geo:-71.1656869,42.3587003
END:VEVENT
BEGIN:VEVENT
DTSTART;TZID=America/Halifax:20170610T123000
DTEND;TZID=America/Halifax:20170610T153000
DTSTAMP:20260424T113127
CREATED:20170504T232900Z
LAST-MODIFIED:20170504T232900Z
UID:10002032-1497097800-1497108600@adaptivesportsne.org
SUMMARY:Sailing - SASC (Charlestown)
DESCRIPTION:ADAPTIVE SAILING Adaptive Sailing with Courageous and Piers Park Sailing Harbor View Apartment Dock 250 First Avenue\, Charlestown Navy Yard Sundays: June 10 and September 2 12:30 PM to 3:30 PM To register\, please call Courageous Sailing at 617-242-3821.
URL:https://adaptivesportsne.org/event/sailing-sasc-charlestown/2017-06-10/
LOCATION:Harbor View Apartment Dock\, 250 First Avenue\, Charlestown\, MA\, United States
ORGANIZER;CN="Spaulding Adaptive Sports Centers":MAILTO:scarper@partners.org
GEO:42.3772044;-71.0503045
X-APPLE-STRUCTURED-LOCATION;VALUE=URI;X-ADDRESS=Harbor View Apartment Dock 250 First Avenue Charlestown MA United States;X-APPLE-RADIUS=500;X-TITLE=250 First Avenue:geo:-71.0503045,42.3772044
END:VEVENT
BEGIN:VEVENT
DTSTART;TZID=America/Halifax:20170612T073000
DTEND;TZID=America/Halifax:20170612T090000
DTSTAMP:20260424T113127
CREATED:20170706T170542Z
LAST-MODIFIED:20170706T170837Z
UID:10002109-1497252600-1497258000@adaptivesportsne.org
SUMMARY:Adv. Rowing - CRI (Brighton)
DESCRIPTION:For those who have completed at least one season of General Adaptive\, and are interested in national level competition in the FISA para-rowing classes\, AS 1x; TA 2x\, LTA 2x\, and LTA 4+. Training is performance based\, geared toward participation in selection events.
URL:https://adaptivesportsne.org/event/adv-rowing-cri-brighton-2/2017-06-12/
LOCATION:Harry Parker Boathouse\, 20 Nonantum Road\, Brighton\, MA\, 02135\, United States
ORGANIZER;CN="Community Rowing%2C Inc.":MAILTO:jenny@communityrowing.org
GEO:42.3587003;-71.1656869
X-APPLE-STRUCTURED-LOCATION;VALUE=URI;X-ADDRESS=Harry Parker Boathouse 20 Nonantum Road Brighton MA 02135 United States;X-APPLE-RADIUS=500;X-TITLE=20 Nonantum Road:geo:-71.1656869,42.3587003
END:VEVENT
BEGIN:VEVENT
DTSTART;TZID=America/Halifax:20170612T180000
DTEND;TZID=America/Halifax:20170612T193000
DTSTAMP:20260424T113127
CREATED:20170527T190827Z
LAST-MODIFIED:20170527T190827Z
UID:10002078-1497290400-1497295800@adaptivesportsne.org
SUMMARY:Track & Field - YES (Boston)
DESCRIPTION:Inclusive Program – Contact email hidden; JavaScript is required for inclusion solution support.
URL:https://adaptivesportsne.org/event/track-field-yes-boston/2017-06-12/
LOCATION:Saunders Stadium\, Joe Moakley Park\, 1005 Columbia Road\, Boston\, MA\, 02127\, United States
ORGANIZER;CN="Youth Enrichment Services (YES)":MAILTO:info@yeskids.org
GEO:42.3303397;-71.0493152
X-APPLE-STRUCTURED-LOCATION;VALUE=URI;X-ADDRESS=Saunders Stadium Joe Moakley Park 1005 Columbia Road Boston MA 02127 United States;X-APPLE-RADIUS=500;X-TITLE=1005 Columbia Road:geo:-71.0493152,42.3303397
END:VEVENT
BEGIN:VEVENT
DTSTART;TZID=America/Halifax:20170613T170000
DTEND;TZID=America/Halifax:20170613T200000
DTSTAMP:20260424T113127
CREATED:20170706T173024Z
LAST-MODIFIED:20170706T174234Z
UID:10002130-1497373200-1497384000@adaptivesportsne.org
SUMMARY:Rowing T/TH- CRI (Brighton)
DESCRIPTION:5:00-6:30 PM Youth/ U26 LTA\n6:30 – 8:00 PM Open Para \nThis program is ideal for new rowers and recreational rowers with physical and/or intellectual disabilities. The focus is on learning and improving the rowing stroke\, increasing knowledge\, skills and independence in equipment set up\, rigging and building experience in a variety of team and individual rowing shells.
URL:https://adaptivesportsne.org/event/rowing-tth-cri-brighton/2017-06-13/
LOCATION:Harry Parker Boathouse\, 20 Nonantum Road\, Brighton\, MA\, 02135\, United States
ORGANIZER;CN="Community Rowing%2C Inc.":MAILTO:jenny@communityrowing.org
GEO:42.3587003;-71.1656869
X-APPLE-STRUCTURED-LOCATION;VALUE=URI;X-ADDRESS=Harry Parker Boathouse 20 Nonantum Road Brighton MA 02135 United States;X-APPLE-RADIUS=500;X-TITLE=20 Nonantum Road:geo:-71.1656869,42.3587003
END:VEVENT
BEGIN:VEVENT
DTSTART;TZID=America/Halifax:20170614T090000
DTEND;TZID=America/Halifax:20170614T120000
DTSTAMP:20260424T113127
CREATED:20170706T173613Z
LAST-MODIFIED:20170706T173613Z
UID:10002141-1497430800-1497441600@adaptivesportsne.org
SUMMARY:Rowing W/F - CRI (Brighton)
DESCRIPTION:9:00- 10:30 AM Early Open Para Rowing\n10:30 – 12:00 PM Midday Open Para Rowing \nThis program is ideal for new rowers and recreational rowers with physical and/or intellectual disabilities. The focus is on learning and improving the rowing stroke\, increasing knowledge\, skills and independence in equipment set up\, rigging and building experience in a variety of team and individual rowing shells.
URL:https://adaptivesportsne.org/event/rowing-wf-cri-brighton/2017-06-14/
LOCATION:Harry Parker Boathouse\, 20 Nonantum Road\, Brighton\, MA\, 02135\, United States
ORGANIZER;CN="Community Rowing%2C Inc.":MAILTO:jenny@communityrowing.org
GEO:42.3587003;-71.1656869
X-APPLE-STRUCTURED-LOCATION;VALUE=URI;X-ADDRESS=Harry Parker Boathouse 20 Nonantum Road Brighton MA 02135 United States;X-APPLE-RADIUS=500;X-TITLE=20 Nonantum Road:geo:-71.1656869,42.3587003
END:VEVENT
BEGIN:VEVENT
DTSTART;TZID=America/Halifax:20170614T100000
DTEND;TZID=America/Halifax:20170614T143000
DTSTAMP:20260424T113127
CREATED:20170506T190849Z
LAST-MODIFIED:20170506T190849Z
UID:10002053-1497434400-1497450600@adaptivesportsne.org
SUMMARY:Kayaking - SASC (Hamilton)
DESCRIPTION:KAYAKING\nWednesdays: June 14\, July 12\, August 9\,\nSeptember 13\nSession A: 10:00 AM to 12:00 PM\nSession B: 12:30 PM to 2:30 PM\nLake Chebacco Boat Ramp\,\n340 Chebacco Road\, Hamilton\, MA\nCost: $20 per session
URL:https://adaptivesportsne.org/event/kayaking-sasc-hamilton/2017-06-14/
LOCATION:Lake Chebacco\, Hamilton\, MA\, United States
ORGANIZER;CN="Spaulding Adaptive Sports Centers":MAILTO:scarper@partners.org
GEO:42.6362052;-70.8431049
END:VEVENT
BEGIN:VEVENT
DTSTART;TZID=America/Halifax:20170614T130000
DTEND;TZID=America/Halifax:20170614T150000
DTSTAMP:20260424T113127
CREATED:20170527T165302Z
LAST-MODIFIED:20170527T165358Z
UID:10002075-1497445200-1497452400@adaptivesportsne.org
SUMMARY:Cycling - NEP (Windham)
DESCRIPTION:
URL:https://adaptivesportsne.org/event/cycling-nep-windham/2017-06-14/
LOCATION:Windham Rail Trail\, Windham\, NH\, 03087\, United States
ORGANIZER;CN="Northeast Passage":MAILTO:northeast.passage@unh.edu
GEO:42.8006441;-71.304229
END:VEVENT
BEGIN:VEVENT
DTSTART;TZID=America/Halifax:20170614T170000
DTEND;TZID=America/Halifax:20170614T193000
DTSTAMP:20260424T113127
CREATED:20170527T164746Z
LAST-MODIFIED:20170527T164746Z
UID:10002072-1497459600-1497468600@adaptivesportsne.org
SUMMARY:Golf Beginner - NEP (Windham)
DESCRIPTION:
URL:https://adaptivesportsne.org/event/golf-beginner-nep-windham/2017-06-14/
LOCATION:Windham Country Club\, Windham\, MA\, United States
ORGANIZER;CN="Northeast Passage":MAILTO:northeast.passage@unh.edu
GEO:42.604261;-70.8911612
END:VEVENT
BEGIN:VEVENT
DTSTART;TZID=America/Halifax:20170617T110000
DTEND;TZID=America/Halifax:20170617T150000
DTSTAMP:20260424T113127
CREATED:20170504T135637Z
LAST-MODIFIED:20170504T135637Z
UID:10002001-1497697200-1497711600@adaptivesportsne.org
SUMMARY:McGraw Center Grand Opening - SASC (Brewster)
DESCRIPTION:SATURDAY\, JUNE 17\n11:00 AM to 3:00 PM\nTOUR – land and water operations centers\nTRY – adaptive equipment for cycling and\nkayaking\nTASTE! – BBQ lunch\nWe are proud to announce the official opening of the McGraw Center for Adaptive Sports at Nickerson State Park in Brewster\, MA this summer! Programs will run from May through October\, and registration will open on April 17. \nActivities offered:\nCycling Swimming\nKayaking Paddle Boarding\nHiking/Walking Picnic Socials\nFishing Yoga\nCourt Sports \nMay: Tuesday and Thursday\nJune: Tuesday and Thursday\nJuly: Tuesday\, Thursday\, and Saturday\nAugust: Tuesday\, Thursday\, and Saturday\nSeptember: Tuesday and Thursday\nOctober: Tuesdays and Thursdays
URL:https://adaptivesportsne.org/event/mcgraw-center-grand-opening-sasc-brewster/
LOCATION:Nickerson State Park\, 3488 Main Street\, Brewster\, MA\, 02631\, United States
ORGANIZER;CN="Spaulding Adaptive Sports Centers":MAILTO:scarper@partners.org
GEO:41.7751174;-70.0309702
X-APPLE-STRUCTURED-LOCATION;VALUE=URI;X-ADDRESS=Nickerson State Park 3488 Main Street Brewster MA 02631 United States;X-APPLE-RADIUS=500;X-TITLE=3488 Main Street:geo:-70.0309702,41.7751174
END:VEVENT
END:VCALENDAR