BEGIN:VCALENDAR
VERSION:2.0
PRODID:-//Adaptive Sports New England - ECPv6.15.20//NONSGML v1.0//EN
CALSCALE:GREGORIAN
METHOD:PUBLISH
X-WR-CALNAME:Adaptive Sports New England
X-ORIGINAL-URL:https://adaptivesportsne.org
X-WR-CALDESC:Events for Adaptive Sports New England
REFRESH-INTERVAL;VALUE=DURATION:PT1H
X-Robots-Tag:noindex
X-PUBLISHED-TTL:PT1H
BEGIN:VTIMEZONE
TZID:America/Halifax
BEGIN:DAYLIGHT
TZOFFSETFROM:-0400
TZOFFSETTO:-0300
TZNAME:ADT
DTSTART:20160313T060000
END:DAYLIGHT
BEGIN:STANDARD
TZOFFSETFROM:-0300
TZOFFSETTO:-0400
TZNAME:AST
DTSTART:20161106T050000
END:STANDARD
BEGIN:DAYLIGHT
TZOFFSETFROM:-0400
TZOFFSETTO:-0300
TZNAME:ADT
DTSTART:20170312T060000
END:DAYLIGHT
BEGIN:STANDARD
TZOFFSETFROM:-0300
TZOFFSETTO:-0400
TZNAME:AST
DTSTART:20171105T050000
END:STANDARD
BEGIN:DAYLIGHT
TZOFFSETFROM:-0400
TZOFFSETTO:-0300
TZNAME:ADT
DTSTART:20180311T060000
END:DAYLIGHT
BEGIN:STANDARD
TZOFFSETFROM:-0300
TZOFFSETTO:-0400
TZNAME:AST
DTSTART:20181104T050000
END:STANDARD
END:VTIMEZONE
BEGIN:VEVENT
DTSTART;TZID=America/Halifax:20170612T073000
DTEND;TZID=America/Halifax:20170612T090000
DTSTAMP:20260419T202448
CREATED:20170706T170542Z
LAST-MODIFIED:20170706T170837Z
UID:10002109-1497252600-1497258000@adaptivesportsne.org
SUMMARY:Adv. Rowing - CRI (Brighton)
DESCRIPTION:For those who have completed at least one season of General Adaptive\, and are interested in national level competition in the FISA para-rowing classes\, AS 1x; TA 2x\, LTA 2x\, and LTA 4+. Training is performance based\, geared toward participation in selection events.
URL:https://adaptivesportsne.org/event/adv-rowing-cri-brighton-2/2017-06-12/
LOCATION:Harry Parker Boathouse\, 20 Nonantum Road\, Brighton\, MA\, 02135\, United States
ORGANIZER;CN="Community Rowing%2C Inc.":MAILTO:jenny@communityrowing.org
GEO:42.3587003;-71.1656869
X-APPLE-STRUCTURED-LOCATION;VALUE=URI;X-ADDRESS=Harry Parker Boathouse 20 Nonantum Road Brighton MA 02135 United States;X-APPLE-RADIUS=500;X-TITLE=20 Nonantum Road:geo:-71.1656869,42.3587003
END:VEVENT
BEGIN:VEVENT
DTSTART;TZID=America/Halifax:20170612T180000
DTEND;TZID=America/Halifax:20170612T193000
DTSTAMP:20260419T202448
CREATED:20170527T190827Z
LAST-MODIFIED:20170527T190827Z
UID:10002078-1497290400-1497295800@adaptivesportsne.org
SUMMARY:Track & Field - YES (Boston)
DESCRIPTION:Inclusive Program – Contact email hidden; JavaScript is required for inclusion solution support.
URL:https://adaptivesportsne.org/event/track-field-yes-boston/2017-06-12/
LOCATION:Saunders Stadium\, Joe Moakley Park\, 1005 Columbia Road\, Boston\, MA\, 02127\, United States
ORGANIZER;CN="Youth Enrichment Services (YES)":MAILTO:info@yeskids.org
GEO:42.3303397;-71.0493152
X-APPLE-STRUCTURED-LOCATION;VALUE=URI;X-ADDRESS=Saunders Stadium Joe Moakley Park 1005 Columbia Road Boston MA 02127 United States;X-APPLE-RADIUS=500;X-TITLE=1005 Columbia Road:geo:-71.0493152,42.3303397
END:VEVENT
BEGIN:VEVENT
DTSTART;TZID=America/Halifax:20170613T170000
DTEND;TZID=America/Halifax:20170613T200000
DTSTAMP:20260419T202448
CREATED:20170706T173024Z
LAST-MODIFIED:20170706T174234Z
UID:10002130-1497373200-1497384000@adaptivesportsne.org
SUMMARY:Rowing T/TH- CRI (Brighton)
DESCRIPTION:5:00-6:30 PM Youth/ U26 LTA\n6:30 – 8:00 PM Open Para \nThis program is ideal for new rowers and recreational rowers with physical and/or intellectual disabilities. The focus is on learning and improving the rowing stroke\, increasing knowledge\, skills and independence in equipment set up\, rigging and building experience in a variety of team and individual rowing shells.
URL:https://adaptivesportsne.org/event/rowing-tth-cri-brighton/2017-06-13/
LOCATION:Harry Parker Boathouse\, 20 Nonantum Road\, Brighton\, MA\, 02135\, United States
ORGANIZER;CN="Community Rowing%2C Inc.":MAILTO:jenny@communityrowing.org
GEO:42.3587003;-71.1656869
X-APPLE-STRUCTURED-LOCATION;VALUE=URI;X-ADDRESS=Harry Parker Boathouse 20 Nonantum Road Brighton MA 02135 United States;X-APPLE-RADIUS=500;X-TITLE=20 Nonantum Road:geo:-71.1656869,42.3587003
END:VEVENT
END:VCALENDAR