BEGIN:VCALENDAR
VERSION:2.0
PRODID:-//Adaptive Sports New England - ECPv6.15.20//NONSGML v1.0//EN
CALSCALE:GREGORIAN
METHOD:PUBLISH
X-WR-CALNAME:Adaptive Sports New England
X-ORIGINAL-URL:https://adaptivesportsne.org
X-WR-CALDESC:Events for Adaptive Sports New England
REFRESH-INTERVAL;VALUE=DURATION:PT1H
X-Robots-Tag:noindex
X-PUBLISHED-TTL:PT1H
BEGIN:VTIMEZONE
TZID:America/Halifax
BEGIN:DAYLIGHT
TZOFFSETFROM:-0400
TZOFFSETTO:-0300
TZNAME:ADT
DTSTART:20140309T060000
END:DAYLIGHT
BEGIN:STANDARD
TZOFFSETFROM:-0300
TZOFFSETTO:-0400
TZNAME:AST
DTSTART:20141102T050000
END:STANDARD
BEGIN:DAYLIGHT
TZOFFSETFROM:-0400
TZOFFSETTO:-0300
TZNAME:ADT
DTSTART:20150308T060000
END:DAYLIGHT
BEGIN:STANDARD
TZOFFSETFROM:-0300
TZOFFSETTO:-0400
TZNAME:AST
DTSTART:20151101T050000
END:STANDARD
BEGIN:DAYLIGHT
TZOFFSETFROM:-0400
TZOFFSETTO:-0300
TZNAME:ADT
DTSTART:20160313T060000
END:DAYLIGHT
BEGIN:STANDARD
TZOFFSETFROM:-0300
TZOFFSETTO:-0400
TZNAME:AST
DTSTART:20161106T050000
END:STANDARD
END:VTIMEZONE
BEGIN:VTIMEZONE
TZID:UTC
BEGIN:STANDARD
TZOFFSETFROM:+0000
TZOFFSETTO:+0000
TZNAME:UTC
DTSTART:20140101T000000
END:STANDARD
END:VTIMEZONE
BEGIN:VEVENT
DTSTART;TZID=America/Halifax:20150314T100000
DTEND;TZID=America/Halifax:20150314T120000
DTSTAMP:20260422T180803
CREATED:20150315T173932Z
LAST-MODIFIED:20150315T174526Z
UID:10000090-1426327200-1426334400@adaptivesportsne.org
SUMMARY:Blind/VI Run
DESCRIPTION:Paralympic Sport Club Boston – Jr. Team with a Vision
URL:https://adaptivesportsne.org/event/blindvi-run-2/2015-03-14/
LOCATION:Boston University Fitness & Recreation Center\, 915 Commonwealth Ave\, Boston\, MA\, 02215\, United States
ORGANIZER;CN="Adaptive Sports New England":MAILTO:joe.walsh@adaptivesportsne.org
GEO:42.3518233;-71.1162821
X-APPLE-STRUCTURED-LOCATION;VALUE=URI;X-ADDRESS=Boston University Fitness & Recreation Center 915 Commonwealth Ave Boston MA 02215 United States;X-APPLE-RADIUS=500;X-TITLE=915 Commonwealth Ave:geo:-71.1162821,42.3518233
END:VEVENT
BEGIN:VEVENT
DTSTART;TZID=America/Halifax:20150314T100000
DTEND;TZID=America/Halifax:20150314T150000
DTSTAMP:20260422T180803
CREATED:20141129T002622Z
LAST-MODIFIED:20141129T002708Z
UID:10000231-1426327200-1426345200@adaptivesportsne.org
SUMMARY:Rock Climbing
DESCRIPTION:with Spaulding Adaptive Sports Centers and Waypoint Adventures \nOne hour sessions (pre-registered)
URL:https://adaptivesportsne.org/event/rock-climbing-3/
LOCATION:Gleason Family YMCA\, 33 Charge Pond Road\, Wareham\, MA\, United States
ORGANIZER;CN="Spaulding Adaptive Sports Centers":MAILTO:scarper@partners.org
GEO:41.7736149;-70.7120749
X-APPLE-STRUCTURED-LOCATION;VALUE=URI;X-ADDRESS=Gleason Family YMCA 33 Charge Pond Road Wareham MA United States;X-APPLE-RADIUS=500;X-TITLE=33 Charge Pond Road:geo:-70.7120749,41.7736149
END:VEVENT
BEGIN:VEVENT
DTSTART;TZID=America/Halifax:20150314T120000
DTEND;TZID=America/Halifax:20150314T160000
DTSTAMP:20260422T180803
CREATED:20141214T022635Z
LAST-MODIFIED:20141214T022635Z
UID:10000072-1426334400-1426348800@adaptivesportsne.org
SUMMARY:Nordic Skiing
DESCRIPTION:with Northeast Passage
URL:https://adaptivesportsne.org/event/nordic-skiing-4/
LOCATION:Bretton Woods Ski Resort\, 99 Ski Area\, Carroll\, NH\, United States
ORGANIZER;CN="Northeast Passage":MAILTO:northeast.passage@unh.edu
GEO:44.2983959;-71.540637
X-APPLE-STRUCTURED-LOCATION;VALUE=URI;X-ADDRESS=Bretton Woods Ski Resort 99 Ski Area Carroll NH United States;X-APPLE-RADIUS=500;X-TITLE=99 Ski Area:geo:-71.540637,44.2983959
END:VEVENT
BEGIN:VEVENT
DTSTART;VALUE=DATE:20150321
DTEND;VALUE=DATE:20150323
DTSTAMP:20260422T180803
CREATED:20141128T231717Z
LAST-MODIFIED:20141128T232020Z
UID:10000062-1426896000-1427068799@adaptivesportsne.org
SUMMARY:Alpine Skiing
DESCRIPTION:with Spaulding Adaptive Sports Centers bus from Boston \nAdditional overnight fees
URL:https://adaptivesportsne.org/event/alpine-skiing-2015-03-21/
LOCATION:Stowe Mountain Resort\, Stowe\, VT\, United States
ORGANIZER;CN="Spaulding Adaptive Sports Centers":MAILTO:scarper@partners.org
GEO:44.475278;-72.702222
END:VEVENT
BEGIN:VEVENT
DTSTART;TZID=America/Halifax:20150322T140000
DTEND;TZID=America/Halifax:20150322T160000
DTSTAMP:20260422T180803
CREATED:20150318T120618Z
LAST-MODIFIED:20150318T120618Z
UID:10000285-1427032800-1427040000@adaptivesportsne.org
SUMMARY:XC Skiing/Weston
DESCRIPTION:With New England Nordic Ski Association
URL:https://adaptivesportsne.org/event/xc-skiingweston/
LOCATION:Leo J. Martin Golf Course\, 190 Park Rd\, Weston\, MA\, United States
ORGANIZER;CN="New England Nordic Ski Association (NENSA)":MAILTO:adaptive@nensa.net
GEO:42.3323889;-71.2676391
X-APPLE-STRUCTURED-LOCATION;VALUE=URI;X-ADDRESS=Leo J. Martin Golf Course 190 Park Rd Weston MA United States;X-APPLE-RADIUS=500;X-TITLE=190 Park Rd:geo:-71.2676391,42.3323889
END:VEVENT
BEGIN:VEVENT
DTSTART;TZID=America/Halifax:20150325T180000
DTEND;TZID=America/Halifax:20150325T210000
DTSTAMP:20260422T180803
CREATED:20141214T025520Z
LAST-MODIFIED:20141214T025520Z
UID:10000077-1427306400-1427317200@adaptivesportsne.org
SUMMARY:WC Basketball
DESCRIPTION:with Northeast Passage – UNH Intramural open to public
URL:https://adaptivesportsne.org/event/wc-basketball-4/2015-03-25/
LOCATION:UNH Hamel Recreation Center\, Durham\, NH\, United States
ORGANIZER;CN="Northeast Passage":MAILTO:northeast.passage@unh.edu
END:VEVENT
BEGIN:VEVENT
DTSTART;VALUE=DATE:20150409
DTEND;VALUE=DATE:20150413
DTSTAMP:20260422T180803
CREATED:20141222T194631Z
LAST-MODIFIED:20141222T194631Z
UID:10000267-1428537600-1428883199@adaptivesportsne.org
SUMMARY:USA Adaptive Hockey Festival
DESCRIPTION:with USA Hockey
URL:https://adaptivesportsne.org/event/usa-adaptive-hockey-festival/
LOCATION:Unnamed Venue\, Buffalo\, NY\, United States
ORGANIZER;CN="USA Hockey":MAILTO:usah@usahockey.org
GEO:42.8864468;-78.8783689
END:VEVENT
BEGIN:VEVENT
DTSTART;TZID=America/Halifax:20150409T170000
DTEND;TZID=America/Halifax:20150409T180000
DTSTAMP:20260422T180803
CREATED:20150315T173016Z
LAST-MODIFIED:20150315T174853Z
UID:10000088-1428598800-1428602400@adaptivesportsne.org
SUMMARY:Blind/VI Run
DESCRIPTION:Paralympic Sport Club Boston – Jr. Team with a Vision
URL:https://adaptivesportsne.org/event/blindvi-run-2015-04-09/
LOCATION:Boston University Fitness & Recreation Center\, 915 Commonwealth Ave\, Boston\, MA\, 02215\, United States
ORGANIZER;CN="Adaptive Sports New England":MAILTO:joe.walsh@adaptivesportsne.org
GEO:42.3518233;-71.1162821
X-APPLE-STRUCTURED-LOCATION;VALUE=URI;X-ADDRESS=Boston University Fitness & Recreation Center 915 Commonwealth Ave Boston MA 02215 United States;X-APPLE-RADIUS=500;X-TITLE=915 Commonwealth Ave:geo:-71.1162821,42.3518233
END:VEVENT
BEGIN:VEVENT
DTSTART;TZID=America/Halifax:20150413T120000
DTEND;TZID=America/Halifax:20150413T130000
DTSTAMP:20260422T180803
CREATED:20141128T235044Z
LAST-MODIFIED:20141128T235044Z
UID:10000065-1428926400-1428930000@adaptivesportsne.org
SUMMARY:Therapeutic Riding Series
DESCRIPTION:with Spaulding Adaptive Sports Centers
URL:https://adaptivesportsne.org/event/therapeutic-riding-series/2015-04-13/
LOCATION:Windrush Farm\, 479 Lacy St.\, North Andover\, MA\, 01845\, United States
ORGANIZER;CN="Spaulding Adaptive Sports Centers":MAILTO:scarper@partners.org
GEO:42.6612948;-71.0341919
X-APPLE-STRUCTURED-LOCATION;VALUE=URI;X-ADDRESS=Windrush Farm 479 Lacy St. North Andover MA 01845 United States;X-APPLE-RADIUS=500;X-TITLE=479 Lacy St.:geo:-71.0341919,42.6612948
END:VEVENT
BEGIN:VEVENT
DTSTART;TZID=America/Halifax:20150415T200000
DTEND;TZID=America/Halifax:20150415T220000
DTSTAMP:20260422T180803
CREATED:20141214T021420Z
LAST-MODIFIED:20150127T150726Z
UID:10000253-1429128000-1429135200@adaptivesportsne.org
SUMMARY:Indoor Archery
DESCRIPTION:with Northeast Passage – registration required
URL:https://adaptivesportsne.org/event/indoor-archery-2015-02-10-2015-04-08/
LOCATION:UNH Field House\, Durham\, NH\, 03824\, United States
ORGANIZER;CN="Northeast Passage":MAILTO:northeast.passage@unh.edu
GEO:43.1339545;-70.9264393
END:VEVENT
BEGIN:VEVENT
DTSTART;VALUE=DATE:20150418
DTEND;VALUE=DATE:20150419
DTSTAMP:20260422T180803
CREATED:20141207T001855Z
LAST-MODIFIED:20141207T001855Z
UID:10000246-1429315200-1429401599@adaptivesportsne.org
SUMMARY:BAA 5K
DESCRIPTION:
URL:https://adaptivesportsne.org/event/baa-5k/
LOCATION:Boston Common
END:VEVENT
BEGIN:VEVENT
DTSTART;VALUE=DATE:20150420
DTEND;VALUE=DATE:20150421
DTSTAMP:20260422T180803
CREATED:20141207T001735Z
LAST-MODIFIED:20141207T001735Z
UID:10000244-1429488000-1429574399@adaptivesportsne.org
SUMMARY:Boston Marathon
DESCRIPTION:
URL:https://adaptivesportsne.org/event/boston-marathon/
LOCATION:NH
END:VEVENT
BEGIN:VEVENT
DTSTART;TZID=America/Halifax:20150425T100000
DTEND;TZID=America/Halifax:20150425T150000
DTSTAMP:20260422T180803
CREATED:20141129T002840Z
LAST-MODIFIED:20141129T002840Z
UID:10000237-1429956000-1429974000@adaptivesportsne.org
SUMMARY:Rock Climbing
DESCRIPTION:with Spaulding Adaptive Sports Centers and Waypoint Adventures \nOne hour sessions (pre-registered)
URL:https://adaptivesportsne.org/event/rock-climbing-4/
LOCATION:Quincy Quarries\, Quincy\, MA\, United States
ORGANIZER;CN="Spaulding Adaptive Sports Centers":MAILTO:scarper@partners.org
GEO:42.2528772;-71.0022705
END:VEVENT
BEGIN:VEVENT
DTSTART;VALUE=DATE:20150502
DTEND;VALUE=DATE:20150504
DTSTAMP:20260422T180803
CREATED:20141229T231513Z
LAST-MODIFIED:20141229T231513Z
UID:10000277-1430524800-1430697599@adaptivesportsne.org
SUMMARY:NJ Track Meet
DESCRIPTION:Tri-State Wheelchair and Ambulatory Sports
URL:https://adaptivesportsne.org/event/nj-track-meet-3/
LOCATION:NH
ORGANIZER;CN="Adaptive Sports New England":MAILTO:joe.walsh@adaptivesportsne.org
END:VEVENT
BEGIN:VEVENT
DTSTART;TZID=UTC:20150502T090000
DTEND;TZID=UTC:20150502T110000
DTSTAMP:20260422T180803
CREATED:20150429T175040Z
LAST-MODIFIED:20150429T175040Z
UID:10000299-1430557200-1430564400@adaptivesportsne.org
SUMMARY:WC Track
DESCRIPTION:Paralympic Sport Club Boston WC Track Training Group for all ages and experience.  Coaching and camaraderie\, preparation for local\, regional and national races on the track and on the road. May 2nd for racers with your own equipment.  Open practice including with equipment to try/borrow begins May 16. \n 
URL:https://adaptivesportsne.org/event/wc-track-2/
LOCATION:Regis College\, 235 Wellesley Street\, Weston\, MA\, 02493\, United States
ORGANIZER;CN="Adaptive Sports New England":MAILTO:joe.walsh@adaptivesportsne.org
GEO:42.3514614;-71.308245
X-APPLE-STRUCTURED-LOCATION;VALUE=URI;X-ADDRESS=Regis College 235 Wellesley Street Weston MA 02493 United States;X-APPLE-RADIUS=500;X-TITLE=235 Wellesley Street:geo:-71.308245,42.3514614
END:VEVENT
BEGIN:VEVENT
DTSTART;TZID=America/Halifax:20150506T140000
DTEND;TZID=America/Halifax:20150506T160000
DTSTAMP:20260422T180803
CREATED:20150517T165239Z
LAST-MODIFIED:20150517T173206Z
UID:10000329-1430920800-1430928000@adaptivesportsne.org
SUMMARY:Golf
DESCRIPTION:with Spaulding Adaptive Sport’s Veteran Adaptive Golf Series ($5 per session/$50 for season pass)
URL:https://adaptivesportsne.org/event/golf-7/2015-05-06/
LOCATION:Granite Links Golf Club\, 100 Quarry Hill Drive\, Quincy\, MA\, 02169\, United States
ORGANIZER;CN="Spaulding Adaptive Sports Centers":MAILTO:scarper@partners.org
GEO:42.2442907;-71.0487929
X-APPLE-STRUCTURED-LOCATION;VALUE=URI;X-ADDRESS=Granite Links Golf Club 100 Quarry Hill Drive Quincy MA 02169 United States;X-APPLE-RADIUS=500;X-TITLE=100 Quarry Hill Drive:geo:-71.0487929,42.2442907
END:VEVENT
BEGIN:VEVENT
DTSTART;TZID=America/Halifax:20150508T100000
DTEND;TZID=America/Halifax:20150508T120000
DTSTAMP:20260422T180803
CREATED:20150517T172005Z
LAST-MODIFIED:20150517T173326Z
UID:10000110-1431079200-1431086400@adaptivesportsne.org
SUMMARY:Sailing
DESCRIPTION:with Community Boating (Free for registered participants)
URL:https://adaptivesportsne.org/event/sailing-3/2015-05-08/
LOCATION:Community Boating\, 21 David G. Mugar Way\, Boston\, MA\, United States
ORGANIZER;CN="Spaulding Adaptive Sports Centers":MAILTO:scarper@partners.org
GEO:42.3598546;-71.073094
X-APPLE-STRUCTURED-LOCATION;VALUE=URI;X-ADDRESS=Community Boating 21 David G. Mugar Way Boston MA United States;X-APPLE-RADIUS=500;X-TITLE=21 David G. Mugar Way:geo:-71.073094,42.3598546
END:VEVENT
END:VCALENDAR