BEGIN:VCALENDAR
VERSION:2.0
PRODID:-//Adaptive Sports New England - ECPv6.15.20//NONSGML v1.0//EN
CALSCALE:GREGORIAN
METHOD:PUBLISH
X-WR-CALNAME:Adaptive Sports New England
X-ORIGINAL-URL:https://adaptivesportsne.org
X-WR-CALDESC:Events for Adaptive Sports New England
REFRESH-INTERVAL;VALUE=DURATION:PT1H
X-Robots-Tag:noindex
X-PUBLISHED-TTL:PT1H
BEGIN:VTIMEZONE
TZID:America/Halifax
BEGIN:DAYLIGHT
TZOFFSETFROM:-0400
TZOFFSETTO:-0300
TZNAME:ADT
DTSTART:20140309T060000
END:DAYLIGHT
BEGIN:STANDARD
TZOFFSETFROM:-0300
TZOFFSETTO:-0400
TZNAME:AST
DTSTART:20141102T050000
END:STANDARD
BEGIN:DAYLIGHT
TZOFFSETFROM:-0400
TZOFFSETTO:-0300
TZNAME:ADT
DTSTART:20150308T060000
END:DAYLIGHT
BEGIN:STANDARD
TZOFFSETFROM:-0300
TZOFFSETTO:-0400
TZNAME:AST
DTSTART:20151101T050000
END:STANDARD
BEGIN:DAYLIGHT
TZOFFSETFROM:-0400
TZOFFSETTO:-0300
TZNAME:ADT
DTSTART:20160313T060000
END:DAYLIGHT
BEGIN:STANDARD
TZOFFSETFROM:-0300
TZOFFSETTO:-0400
TZNAME:AST
DTSTART:20161106T050000
END:STANDARD
END:VTIMEZONE
BEGIN:VEVENT
DTSTART;VALUE=DATE:20150522
DTEND;VALUE=DATE:20150525
DTSTAMP:20260424T202618
CREATED:20141206T215334Z
LAST-MODIFIED:20141229T230311Z
UID:10000241-1432252800-1432511999@adaptivesportsne.org
SUMMARY:NJ Track Meet
DESCRIPTION:Tri-State Wheelchair and Ambulatory Sports
URL:https://adaptivesportsne.org/event/nj-track-meet/
LOCATION:NH
ORGANIZER;CN="Adaptive Sports New England":MAILTO:joe.walsh@adaptivesportsne.org
END:VEVENT
BEGIN:VEVENT
DTSTART;TZID=America/Halifax:20150527T130000
DTEND;TZID=America/Halifax:20150527T150000
DTSTAMP:20260424T202618
CREATED:20150515T234619Z
LAST-MODIFIED:20150515T234619Z
UID:10000310-1432731600-1432738800@adaptivesportsne.org
SUMMARY:Cycling
DESCRIPTION:
URL:https://adaptivesportsne.org/event/cycling-4/
LOCATION:Windham Rail Trail\, Windham\, NH\, 03087\, United States
ORGANIZER;CN="Northeast Passage":MAILTO:northeast.passage@unh.edu
GEO:42.8006441;-71.304229
END:VEVENT
BEGIN:VEVENT
DTSTART;TZID=America/Halifax:20150527T180000
DTEND;TZID=America/Halifax:20150527T193000
DTSTAMP:20260424T202618
CREATED:20150517T154841Z
LAST-MODIFIED:20150518T165014Z
UID:10000317-1432749600-1432755000@adaptivesportsne.org
SUMMARY:Cycling
DESCRIPTION:with Spaulding Adaptive Sports Centers ($5)
URL:https://adaptivesportsne.org/event/cycling-9/2015-05-27/
LOCATION:Cape Cod Canal Trail\, Sandwich\, MA\, United States
ORGANIZER;CN="Spaulding Adaptive Sports Centers":MAILTO:scarper@partners.org
GEO:41.7589615;-70.4939317
END:VEVENT
BEGIN:VEVENT
DTSTART;TZID=America/Halifax:20150528T173000
DTEND;TZID=America/Halifax:20150528T190000
DTSTAMP:20260424T202618
CREATED:20150517T171330Z
LAST-MODIFIED:20150517T171330Z
UID:10000108-1432834200-1432839600@adaptivesportsne.org
SUMMARY:Cycling
DESCRIPTION:with Spaulding Riders Club ($5 per person)
URL:https://adaptivesportsne.org/event/cycling-10/2015-05-28/
LOCATION:Spaulding Rehabilitation Hospital\, 300 First Avenue\, Charlestown\, MA\, United States
ORGANIZER;CN="Spaulding Adaptive Sports Centers":MAILTO:scarper@partners.org
GEO:42.3785133;-71.049126
X-APPLE-STRUCTURED-LOCATION;VALUE=URI;X-ADDRESS=Spaulding Rehabilitation Hospital 300 First Avenue Charlestown MA United States;X-APPLE-RADIUS=500;X-TITLE=300 First Avenue:geo:-71.049126,42.3785133
END:VEVENT
BEGIN:VEVENT
DTSTART;VALUE=DATE:20150530
DTEND;VALUE=DATE:20150601
DTSTAMP:20260424T202618
CREATED:20150515T233743Z
LAST-MODIFIED:20150515T233743Z
UID:10000302-1432944000-1433116799@adaptivesportsne.org
SUMMARY:Kayak Course
DESCRIPTION:
URL:https://adaptivesportsne.org/event/kayak-course/
LOCATION:UNH\, Durham\, NH\, United States
ORGANIZER;CN="Northeast Passage":MAILTO:northeast.passage@unh.edu
GEO:43.1339545;-70.9264393
END:VEVENT
BEGIN:VEVENT
DTSTART;TZID=America/Halifax:20150530T080000
DTEND;TZID=America/Halifax:20150530T160000
DTSTAMP:20260424T202618
CREATED:20150516T000121Z
LAST-MODIFIED:20150516T000121Z
UID:10000315-1432972800-1433001600@adaptivesportsne.org
SUMMARY:Gateway to Gold
DESCRIPTION:See flyer: HFSC Gateway to Gold Flier 2015
URL:https://adaptivesportsne.org/event/gateway-to-gold-2/
LOCATION:Hospital for Special Care Research & Education Center\, 370 Osgood Avenue\, New Britain\, CT\, 06053\, United States
GEO:41.6842579;-72.8008582
X-APPLE-STRUCTURED-LOCATION;VALUE=URI;X-ADDRESS=Hospital for Special Care Research & Education Center 370 Osgood Avenue New Britain CT 06053 United States;X-APPLE-RADIUS=500;X-TITLE=370 Osgood Avenue:geo:-72.8008582,41.6842579
END:VEVENT
BEGIN:VEVENT
DTSTART;TZID=America/Halifax:20150530T100000
DTEND;TZID=America/Halifax:20150530T150000
DTSTAMP:20260424T202618
CREATED:20141223T154949Z
LAST-MODIFIED:20150426T132503Z
UID:10000271-1432980000-1432998000@adaptivesportsne.org
SUMMARY:DCR Accessible Recreation Fair
DESCRIPTION:More Details:  Artesani Flyer 2015
URL:https://adaptivesportsne.org/event/dcr-accessible-recreation-fair/
LOCATION:Artesani Park\, 1234 Soldier's Field Road\, Brighton\, MA\, 02135\, United States
ORGANIZER;CN="MA DCR Universal Access Program":MAILTO:marcy.marchello@state.ma.gov
GEO:42.3640587;-71.1364589
X-APPLE-STRUCTURED-LOCATION;VALUE=URI;X-ADDRESS=Artesani Park 1234 Soldier's Field Road Brighton MA 02135 United States;X-APPLE-RADIUS=500;X-TITLE=1234 Soldier's Field Road:geo:-71.1364589,42.3640587
END:VEVENT
BEGIN:VEVENT
DTSTART;TZID=America/Halifax:20150601T163000
DTEND;TZID=America/Halifax:20150601T203000
DTSTAMP:20260424T202618
CREATED:20150524T131550Z
LAST-MODIFIED:20150715T173904Z
UID:10000133-1433176200-1433190600@adaptivesportsne.org
SUMMARY:WC Tennis
DESCRIPTION:with Wheelchair Sports Federation in Westport
URL:https://adaptivesportsne.org/event/wc-tennis-4/2015-06-01/
LOCATION:Dianne B. Snyder Tennis Complex\, 400 Old County Road\, Westport\, MA\, United States
ORGANIZER;CN="Wheelchair Sports Federation":MAILTO:thomasd10@aol.com
GEO:41.6213271;-71.0643864
X-APPLE-STRUCTURED-LOCATION;VALUE=URI;X-ADDRESS=Dianne B. Snyder Tennis Complex 400 Old County Road Westport MA United States;X-APPLE-RADIUS=500;X-TITLE=400 Old County Road:geo:-71.0643864,41.6213271
END:VEVENT
BEGIN:VEVENT
DTSTART;TZID=America/Halifax:20150602T120000
DTEND;TZID=America/Halifax:20150602T140000
DTSTAMP:20260424T202618
CREATED:20150517T163948Z
LAST-MODIFIED:20150517T170158Z
UID:10000318-1433246400-1433253600@adaptivesportsne.org
SUMMARY:Golf
DESCRIPTION:with Back in the Swing (3-session series $40 per session)
URL:https://adaptivesportsne.org/event/golf-3/2015-06-02/
LOCATION:Granite Links Golf Club\, 100 Quarry Hill Drive\, Quincy\, MA\, 02169\, United States
ORGANIZER;CN="Spaulding Adaptive Sports Centers":MAILTO:scarper@partners.org
GEO:42.2442907;-71.0487929
X-APPLE-STRUCTURED-LOCATION;VALUE=URI;X-ADDRESS=Granite Links Golf Club 100 Quarry Hill Drive Quincy MA 02169 United States;X-APPLE-RADIUS=500;X-TITLE=100 Quarry Hill Drive:geo:-71.0487929,42.2442907
END:VEVENT
BEGIN:VEVENT
DTSTART;TZID=America/Halifax:20150602T160000
DTEND;TZID=America/Halifax:20150602T180000
DTSTAMP:20260424T202618
CREATED:20150518T013447Z
LAST-MODIFIED:20150518T013447Z
UID:10000121-1433260800-1433268000@adaptivesportsne.org
SUMMARY:Golf
DESCRIPTION:with Back in the Swing Spaudling Adaptive Sports Center Cape Cod  ($40 for any 3-session series)
URL:https://adaptivesportsne.org/event/golf-8/2015-06-02/
LOCATION:Holly Ridge\, Sandwich\, MA\, United States
ORGANIZER;CN="Spaulding Adaptive Sports Centers":MAILTO:scarper@partners.org
GEO:41.7589615;-70.4939317
END:VEVENT
BEGIN:VEVENT
DTSTART;TZID=America/Halifax:20150603T100000
DTEND;TZID=America/Halifax:20150603T120000
DTSTAMP:20260424T202618
CREATED:20150518T173030Z
LAST-MODIFIED:20150603T002620Z
UID:10000343-1433325600-1433332800@adaptivesportsne.org
SUMMARY:Archery
DESCRIPTION:with Spaulding Adaptive Sports Center ($20 per session) Session A 10am-12pm\, Session B 12:30pm-2:30pm
URL:https://adaptivesportsne.org/event/archery-3/2015-06-03/
LOCATION:Endicott Park\, Danvers\, MA\, United States
ORGANIZER;CN="Spaulding Adaptive Sports Centers":MAILTO:scarper@partners.org
GEO:42.5750009;-70.932122
END:VEVENT
BEGIN:VEVENT
DTSTART;TZID=America/Halifax:20150603T130000
DTEND;TZID=America/Halifax:20150603T150000
DTSTAMP:20260424T202618
CREATED:20150515T234658Z
LAST-MODIFIED:20150515T234658Z
UID:10000314-1433336400-1433343600@adaptivesportsne.org
SUMMARY:Cycling
DESCRIPTION:
URL:https://adaptivesportsne.org/event/cycling-7/
LOCATION:Windham Rail Trail\, Windham\, NH\, 03087\, United States
ORGANIZER;CN="Northeast Passage":MAILTO:northeast.passage@unh.edu
GEO:42.8006441;-71.304229
END:VEVENT
BEGIN:VEVENT
DTSTART;TZID=America/Halifax:20150603T170000
DTEND;TZID=America/Halifax:20150603T193000
DTSTAMP:20260424T202618
CREATED:20150518T183823Z
LAST-MODIFIED:20150518T183823Z
UID:10000356-1433350800-1433359800@adaptivesportsne.org
SUMMARY:Advanced Golf
DESCRIPTION:with Northeast Passage ($20)
URL:https://adaptivesportsne.org/event/advanced-golf/2015-06-03/
LOCATION:Windham Country Club\, Windham\, MA\, United States
ORGANIZER;CN="Northeast Passage":MAILTO:northeast.passage@unh.edu
GEO:42.604261;-70.8911612
END:VEVENT
BEGIN:VEVENT
DTSTART;TZID=America/Halifax:20150604T080000
DTEND;TZID=America/Halifax:20150604T110000
DTSTAMP:20260424T202618
CREATED:20150518T191244Z
LAST-MODIFIED:20150518T192014Z
UID:10000136-1433404800-1433415600@adaptivesportsne.org
SUMMARY:Kayaking
DESCRIPTION:with Northeast Passage ($30/event includes equipment and instruction. $5/own equipment) Pre-registration is required
URL:https://adaptivesportsne.org/event/kayaking-11/
LOCATION:Fundy Cove\, Nottingham\, NH\, United States
ORGANIZER;CN="Northeast Passage":MAILTO:northeast.passage@unh.edu
GEO:43.1145285;-71.099784
END:VEVENT
END:VCALENDAR