BEGIN:VCALENDAR
VERSION:2.0
PRODID:-//Adaptive Sports New England - ECPv6.15.20//NONSGML v1.0//EN
CALSCALE:GREGORIAN
METHOD:PUBLISH
X-WR-CALNAME:Adaptive Sports New England
X-ORIGINAL-URL:https://adaptivesportsne.org
X-WR-CALDESC:Events for Adaptive Sports New England
REFRESH-INTERVAL;VALUE=DURATION:PT1H
X-Robots-Tag:noindex
X-PUBLISHED-TTL:PT1H
BEGIN:VTIMEZONE
TZID:America/Halifax
BEGIN:DAYLIGHT
TZOFFSETFROM:-0400
TZOFFSETTO:-0300
TZNAME:ADT
DTSTART:20140309T060000
END:DAYLIGHT
BEGIN:STANDARD
TZOFFSETFROM:-0300
TZOFFSETTO:-0400
TZNAME:AST
DTSTART:20141102T050000
END:STANDARD
BEGIN:DAYLIGHT
TZOFFSETFROM:-0400
TZOFFSETTO:-0300
TZNAME:ADT
DTSTART:20150308T060000
END:DAYLIGHT
BEGIN:STANDARD
TZOFFSETFROM:-0300
TZOFFSETTO:-0400
TZNAME:AST
DTSTART:20151101T050000
END:STANDARD
BEGIN:DAYLIGHT
TZOFFSETFROM:-0400
TZOFFSETTO:-0300
TZNAME:ADT
DTSTART:20160313T060000
END:DAYLIGHT
BEGIN:STANDARD
TZOFFSETFROM:-0300
TZOFFSETTO:-0400
TZNAME:AST
DTSTART:20161106T050000
END:STANDARD
END:VTIMEZONE
BEGIN:VEVENT
DTSTART;TZID=America/Halifax:20150530T080000
DTEND;TZID=America/Halifax:20150530T160000
DTSTAMP:20260424T225823
CREATED:20150516T000121Z
LAST-MODIFIED:20150516T000121Z
UID:10000315-1432972800-1433001600@adaptivesportsne.org
SUMMARY:Gateway to Gold
DESCRIPTION:See flyer: HFSC Gateway to Gold Flier 2015
URL:https://adaptivesportsne.org/event/gateway-to-gold-2/
LOCATION:Hospital for Special Care Research & Education Center\, 370 Osgood Avenue\, New Britain\, CT\, 06053\, United States
GEO:41.6842579;-72.8008582
X-APPLE-STRUCTURED-LOCATION;VALUE=URI;X-ADDRESS=Hospital for Special Care Research & Education Center 370 Osgood Avenue New Britain CT 06053 United States;X-APPLE-RADIUS=500;X-TITLE=370 Osgood Avenue:geo:-72.8008582,41.6842579
END:VEVENT
BEGIN:VEVENT
DTSTART;TZID=America/Halifax:20150530T100000
DTEND;TZID=America/Halifax:20150530T150000
DTSTAMP:20260424T225823
CREATED:20141223T154949Z
LAST-MODIFIED:20150426T132503Z
UID:10000271-1432980000-1432998000@adaptivesportsne.org
SUMMARY:DCR Accessible Recreation Fair
DESCRIPTION:More Details:  Artesani Flyer 2015
URL:https://adaptivesportsne.org/event/dcr-accessible-recreation-fair/
LOCATION:Artesani Park\, 1234 Soldier's Field Road\, Brighton\, MA\, 02135\, United States
ORGANIZER;CN="MA DCR Universal Access Program":MAILTO:marcy.marchello@state.ma.gov
GEO:42.3640587;-71.1364589
X-APPLE-STRUCTURED-LOCATION;VALUE=URI;X-ADDRESS=Artesani Park 1234 Soldier's Field Road Brighton MA 02135 United States;X-APPLE-RADIUS=500;X-TITLE=1234 Soldier's Field Road:geo:-71.1364589,42.3640587
END:VEVENT
END:VCALENDAR