BEGIN:VCALENDAR
VERSION:2.0
PRODID:-//Adaptive Sports New England - ECPv6.15.20//NONSGML v1.0//EN
CALSCALE:GREGORIAN
METHOD:PUBLISH
X-WR-CALNAME:Adaptive Sports New England
X-ORIGINAL-URL:https://adaptivesportsne.org
X-WR-CALDESC:Events for Adaptive Sports New England
REFRESH-INTERVAL;VALUE=DURATION:PT1H
X-Robots-Tag:noindex
X-PUBLISHED-TTL:PT1H
BEGIN:VTIMEZONE
TZID:America/Halifax
BEGIN:DAYLIGHT
TZOFFSETFROM:-0400
TZOFFSETTO:-0300
TZNAME:ADT
DTSTART:20140309T060000
END:DAYLIGHT
BEGIN:STANDARD
TZOFFSETFROM:-0300
TZOFFSETTO:-0400
TZNAME:AST
DTSTART:20141102T050000
END:STANDARD
BEGIN:DAYLIGHT
TZOFFSETFROM:-0400
TZOFFSETTO:-0300
TZNAME:ADT
DTSTART:20150308T060000
END:DAYLIGHT
BEGIN:STANDARD
TZOFFSETFROM:-0300
TZOFFSETTO:-0400
TZNAME:AST
DTSTART:20151101T050000
END:STANDARD
BEGIN:DAYLIGHT
TZOFFSETFROM:-0400
TZOFFSETTO:-0300
TZNAME:ADT
DTSTART:20160313T060000
END:DAYLIGHT
BEGIN:STANDARD
TZOFFSETFROM:-0300
TZOFFSETTO:-0400
TZNAME:AST
DTSTART:20161106T050000
END:STANDARD
END:VTIMEZONE
BEGIN:VEVENT
DTSTART;TZID=America/Halifax:20150603T100000
DTEND;TZID=America/Halifax:20150603T120000
DTSTAMP:20260425T121144
CREATED:20150518T173030Z
LAST-MODIFIED:20150603T002620Z
UID:10000343-1433325600-1433332800@adaptivesportsne.org
SUMMARY:Archery
DESCRIPTION:with Spaulding Adaptive Sports Center ($20 per session) Session A 10am-12pm\, Session B 12:30pm-2:30pm
URL:https://adaptivesportsne.org/event/archery-3/2015-06-03/
LOCATION:Endicott Park\, Danvers\, MA\, United States
ORGANIZER;CN="Spaulding Adaptive Sports Centers":MAILTO:scarper@partners.org
GEO:42.5750009;-70.932122
END:VEVENT
BEGIN:VEVENT
DTSTART;TZID=America/Halifax:20150603T130000
DTEND;TZID=America/Halifax:20150603T150000
DTSTAMP:20260425T121144
CREATED:20150515T234658Z
LAST-MODIFIED:20150515T234658Z
UID:10000314-1433336400-1433343600@adaptivesportsne.org
SUMMARY:Cycling
DESCRIPTION:
URL:https://adaptivesportsne.org/event/cycling-7/
LOCATION:Windham Rail Trail\, Windham\, NH\, 03087\, United States
ORGANIZER;CN="Northeast Passage":MAILTO:northeast.passage@unh.edu
GEO:42.8006441;-71.304229
END:VEVENT
BEGIN:VEVENT
DTSTART;TZID=America/Halifax:20150603T170000
DTEND;TZID=America/Halifax:20150603T193000
DTSTAMP:20260425T121144
CREATED:20150518T183823Z
LAST-MODIFIED:20150518T183823Z
UID:10000356-1433350800-1433359800@adaptivesportsne.org
SUMMARY:Advanced Golf
DESCRIPTION:with Northeast Passage ($20)
URL:https://adaptivesportsne.org/event/advanced-golf/2015-06-03/
LOCATION:Windham Country Club\, Windham\, MA\, United States
ORGANIZER;CN="Northeast Passage":MAILTO:northeast.passage@unh.edu
GEO:42.604261;-70.8911612
END:VEVENT
BEGIN:VEVENT
DTSTART;TZID=America/Halifax:20150604T080000
DTEND;TZID=America/Halifax:20150604T110000
DTSTAMP:20260425T121144
CREATED:20150518T191244Z
LAST-MODIFIED:20150518T192014Z
UID:10000136-1433404800-1433415600@adaptivesportsne.org
SUMMARY:Kayaking
DESCRIPTION:with Northeast Passage ($30/event includes equipment and instruction. $5/own equipment) Pre-registration is required
URL:https://adaptivesportsne.org/event/kayaking-11/
LOCATION:Fundy Cove\, Nottingham\, NH\, United States
ORGANIZER;CN="Northeast Passage":MAILTO:northeast.passage@unh.edu
GEO:43.1145285;-71.099784
END:VEVENT
BEGIN:VEVENT
DTSTART;VALUE=DATE:20150606
DTEND;VALUE=DATE:20150607
DTSTAMP:20260425T121144
CREATED:20141229T230623Z
LAST-MODIFIED:20141229T230623Z
UID:10000275-1433548800-1433635199@adaptivesportsne.org
SUMMARY:NJ Swim Meet
DESCRIPTION:Masonic Regional Games – NJ Navigators
URL:https://adaptivesportsne.org/event/nj-swim-meet-2/
LOCATION:NH
ORGANIZER;CN="Adaptive Sports New England":MAILTO:joe.walsh@adaptivesportsne.org
END:VEVENT
BEGIN:VEVENT
DTSTART;VALUE=DATE:20150606
DTEND;VALUE=DATE:20150608
DTSTAMP:20260425T121144
CREATED:20141229T230459Z
LAST-MODIFIED:20141229T230459Z
UID:10000274-1433548800-1433721599@adaptivesportsne.org
SUMMARY:NJ Track Meet
DESCRIPTION:Masonic Regional Games – NJ Navigators
URL:https://adaptivesportsne.org/event/nj-track-meet-2/
LOCATION:NH
ORGANIZER;CN="Adaptive Sports New England":MAILTO:joe.walsh@adaptivesportsne.org
END:VEVENT
BEGIN:VEVENT
DTSTART;TZID=America/Halifax:20150606T090000
DTEND;TZID=America/Halifax:20150606T110000
DTSTAMP:20260425T121144
CREATED:20150315T163938Z
LAST-MODIFIED:20150611T150620Z
UID:10000099-1433581200-1433588400@adaptivesportsne.org
SUMMARY:WC Track
DESCRIPTION:Join Paralympic Sport Club Boston for wheelchair track training on Saturday mornings this May and June. All ages welcome at any level of experience.  Did you see the Boston Marathon and want to give wheelchair racing a try?  You don’t have to go 26 miles\, just a few laps around the track might be a good place for you to start.  For those of you with more experience\, there will be more focused distance\, speed and technical training available.  Come for the coaching and camaraderie in preparation for local\, regional and national races on the track and on the road.  Please register in advance\, especially if you need to borrow a chair.  Bring your own helmet.  This program is for athletes who are able to push a manual wheelchair  and who can follow directions and participate in this training group independently.  This program does not include hand cycles.  Check here for upcoming cycling opportunities. \n 
URL:https://adaptivesportsne.org/event/wc-track-2015-06-06/
LOCATION:Regis College\, 235 Wellesley Street\, Weston\, MA\, 02493\, United States
ORGANIZER;CN="Adaptive Sports New England":MAILTO:joe.walsh@adaptivesportsne.org
GEO:42.3514614;-71.308245
X-APPLE-STRUCTURED-LOCATION;VALUE=URI;X-ADDRESS=Regis College 235 Wellesley Street Weston MA 02493 United States;X-APPLE-RADIUS=500;X-TITLE=235 Wellesley Street:geo:-71.308245,42.3514614
END:VEVENT
BEGIN:VEVENT
DTSTART;TZID=America/Halifax:20150608T073000
DTEND;TZID=America/Halifax:20150608T090000
DTSTAMP:20260425T121144
CREATED:20150715T162229Z
LAST-MODIFIED:20150715T164116Z
UID:10000365-1433748600-1433754000@adaptivesportsne.org
SUMMARY:Rowing (Adv)
DESCRIPTION:Advanced Para Rowing with Community Rowing
URL:https://adaptivesportsne.org/event/rowing-advanced/2015-06-08/
LOCATION:Harry Parker Boathouse\, 20 Nonantum Road\, Brighton\, MA\, 02135\, United States
ORGANIZER;CN="Community Rowing%2C Inc.":MAILTO:jenny@communityrowing.org
GEO:42.3587003;-71.1656869
X-APPLE-STRUCTURED-LOCATION;VALUE=URI;X-ADDRESS=Harry Parker Boathouse 20 Nonantum Road Brighton MA 02135 United States;X-APPLE-RADIUS=500;X-TITLE=20 Nonantum Road:geo:-71.1656869,42.3587003
END:VEVENT
BEGIN:VEVENT
DTSTART;TZID=America/Halifax:20150609T170000
DTEND;TZID=America/Halifax:20150609T183000
DTSTAMP:20260425T121144
CREATED:20150715T162525Z
LAST-MODIFIED:20150715T163402Z
UID:10000367-1433869200-1433874600@adaptivesportsne.org
SUMMARY:U25 Rowing
DESCRIPTION:with Community Rowing (Legs\, Trunk & Arms classification)
URL:https://adaptivesportsne.org/event/u25-rowing/2015-06-09/
LOCATION:Harry Parker Boathouse\, 20 Nonantum Road\, Brighton\, MA\, 02135\, United States
ORGANIZER;CN="Community Rowing%2C Inc.":MAILTO:jenny@communityrowing.org
GEO:42.3587003;-71.1656869
X-APPLE-STRUCTURED-LOCATION;VALUE=URI;X-ADDRESS=Harry Parker Boathouse 20 Nonantum Road Brighton MA 02135 United States;X-APPLE-RADIUS=500;X-TITLE=20 Nonantum Road:geo:-71.1656869,42.3587003
END:VEVENT
BEGIN:VEVENT
DTSTART;TZID=America/Halifax:20150609T183000
DTEND;TZID=America/Halifax:20150609T203000
DTSTAMP:20260425T121144
CREATED:20150715T164743Z
LAST-MODIFIED:20150715T164743Z
UID:10000370-1433874600-1433881800@adaptivesportsne.org
SUMMARY:Rowing (Gen)
DESCRIPTION:General Para Rowing with Community Rowing
URL:https://adaptivesportsne.org/event/rowing-gen/2015-06-09/
LOCATION:Harry Parker Boathouse\, 20 Nonantum Road\, Brighton\, MA\, 02135\, United States
ORGANIZER;CN="Community Rowing%2C Inc.":MAILTO:jenny@communityrowing.org
GEO:42.3587003;-71.1656869
X-APPLE-STRUCTURED-LOCATION;VALUE=URI;X-ADDRESS=Harry Parker Boathouse 20 Nonantum Road Brighton MA 02135 United States;X-APPLE-RADIUS=500;X-TITLE=20 Nonantum Road:geo:-71.1656869,42.3587003
END:VEVENT
BEGIN:VEVENT
DTSTART;TZID=America/Halifax:20150610T100000
DTEND;TZID=America/Halifax:20150610T120000
DTSTAMP:20260425T121144
CREATED:20150518T170425Z
LAST-MODIFIED:20150603T002922Z
UID:10000338-1433930400-1433937600@adaptivesportsne.org
SUMMARY:Cycling
DESCRIPTION:with Spaulding Adaptive Sports Center ($20 per session) Session A: 10am-12pm\, Session B:12:30 pm – 2:30 pm
URL:https://adaptivesportsne.org/event/cycling-11/2015-06-10/
LOCATION:Peabody Bike Trail\, Peabody\, MA\, United States
ORGANIZER;CN="Spaulding Adaptive Sports Centers":MAILTO:scarper@partners.org
GEO:42.5278731;-70.9286609
END:VEVENT
BEGIN:VEVENT
DTSTART;TZID=America/Halifax:20150610T170000
DTEND;TZID=America/Halifax:20150610T193000
DTSTAMP:20260425T121144
CREATED:20150518T184356Z
LAST-MODIFIED:20150518T184356Z
UID:10000358-1433955600-1433964600@adaptivesportsne.org
SUMMARY:Golf
DESCRIPTION:Beginner Golf with Northeast Passage ($20)
URL:https://adaptivesportsne.org/event/golf-16/2015-06-10/
LOCATION:Windham Country Club\, Windham\, MA\, United States
ORGANIZER;CN="Northeast Passage":MAILTO:northeast.passage@unh.edu
GEO:42.604261;-70.8911612
END:VEVENT
BEGIN:VEVENT
DTSTART;TZID=America/Halifax:20150611T110000
DTEND;TZID=America/Halifax:20150611T140000
DTSTAMP:20260425T121144
CREATED:20150518T185325Z
LAST-MODIFIED:20150518T185325Z
UID:10000361-1434020400-1434031200@adaptivesportsne.org
SUMMARY:Golf
DESCRIPTION:with Northeast Passage ($20)
URL:https://adaptivesportsne.org/event/golf-18/2015-06-11/
LOCATION:Cape Neddick Country Club\, Cape Neddick \, MA\, United States
ORGANIZER;CN="Northeast Passage":MAILTO:northeast.passage@unh.edu
GEO:42.4072107;-71.3824374
END:VEVENT
BEGIN:VEVENT
DTSTART;VALUE=DATE:20150612
DTEND;VALUE=DATE:20150613
DTSTAMP:20260425T121144
CREATED:20150515T233326Z
LAST-MODIFIED:20150515T233326Z
UID:10000301-1434067200-1434153599@adaptivesportsne.org
SUMMARY:New England Swim Meet
DESCRIPTION:See flyer: NEWAARegionalMeet2015
URL:https://adaptivesportsne.org/event/new-england-swim-meet/
LOCATION:Pappas Rehabilitation Hospital for Children\, 3 Randolph St\, Canton\, MA\, United States
ORGANIZER;CN="New England Wheelchair Athletic Association":MAILTO:megan.j.anderson@state.ma.us
GEO:42.1777521;-71.1247439
X-APPLE-STRUCTURED-LOCATION;VALUE=URI;X-ADDRESS=Pappas Rehabilitation Hospital for Children 3 Randolph St Canton MA United States;X-APPLE-RADIUS=500;X-TITLE=3 Randolph St:geo:-71.1247439,42.1777521
END:VEVENT
END:VCALENDAR