BEGIN:VCALENDAR
VERSION:2.0
PRODID:-//Adaptive Sports New England - ECPv6.15.20//NONSGML v1.0//EN
CALSCALE:GREGORIAN
METHOD:PUBLISH
X-WR-CALNAME:Adaptive Sports New England
X-ORIGINAL-URL:https://adaptivesportsne.org
X-WR-CALDESC:Events for Adaptive Sports New England
REFRESH-INTERVAL;VALUE=DURATION:PT1H
X-Robots-Tag:noindex
X-PUBLISHED-TTL:PT1H
BEGIN:VTIMEZONE
TZID:America/Halifax
BEGIN:DAYLIGHT
TZOFFSETFROM:-0400
TZOFFSETTO:-0300
TZNAME:ADT
DTSTART:20140309T060000
END:DAYLIGHT
BEGIN:STANDARD
TZOFFSETFROM:-0300
TZOFFSETTO:-0400
TZNAME:AST
DTSTART:20141102T050000
END:STANDARD
BEGIN:DAYLIGHT
TZOFFSETFROM:-0400
TZOFFSETTO:-0300
TZNAME:ADT
DTSTART:20150308T060000
END:DAYLIGHT
BEGIN:STANDARD
TZOFFSETFROM:-0300
TZOFFSETTO:-0400
TZNAME:AST
DTSTART:20151101T050000
END:STANDARD
BEGIN:DAYLIGHT
TZOFFSETFROM:-0400
TZOFFSETTO:-0300
TZNAME:ADT
DTSTART:20160313T060000
END:DAYLIGHT
BEGIN:STANDARD
TZOFFSETFROM:-0300
TZOFFSETTO:-0400
TZNAME:AST
DTSTART:20161106T050000
END:STANDARD
END:VTIMEZONE
BEGIN:VEVENT
DTSTART;TZID=America/Halifax:20150624T100000
DTEND;TZID=America/Halifax:20150624T120000
DTSTAMP:20260420T043900
CREATED:20150517T164811Z
LAST-MODIFIED:20150517T173515Z
UID:10000328-1435140000-1435147200@adaptivesportsne.org
SUMMARY:Golf
DESCRIPTION:with Back in the Swing (3-session series\, $40 per session)
URL:https://adaptivesportsne.org/event/golf-6/2015-06-24/
LOCATION:Leo J. Martin Golf Course\, 190 Park Rd\, Weston\, MA\, United States
ORGANIZER;CN="Spaulding Adaptive Sports Centers":MAILTO:scarper@partners.org
GEO:42.3323889;-71.2676391
X-APPLE-STRUCTURED-LOCATION;VALUE=URI;X-ADDRESS=Leo J. Martin Golf Course 190 Park Rd Weston MA United States;X-APPLE-RADIUS=500;X-TITLE=190 Park Rd:geo:-71.2676391,42.3323889
END:VEVENT
BEGIN:VEVENT
DTSTART;TZID=America/Halifax:20150624T130000
DTEND;TZID=America/Halifax:20150624T150000
DTSTAMP:20260420T043900
CREATED:20150515T234726Z
LAST-MODIFIED:20150518T192904Z
UID:10000312-1435150800-1435158000@adaptivesportsne.org
SUMMARY:Cycling
DESCRIPTION:
URL:https://adaptivesportsne.org/event/cycling-8/2015-06-24/
LOCATION:Windham Rail Trail\, Windham\, NH\, 03087\, United States
ORGANIZER;CN="Northeast Passage":MAILTO:northeast.passage@unh.edu
GEO:42.8006441;-71.304229
END:VEVENT
BEGIN:VEVENT
DTSTART;TZID=America/Halifax:20150625T100000
DTEND;TZID=America/Halifax:20150625T123000
DTSTAMP:20260420T043900
CREATED:20150517T174517Z
LAST-MODIFIED:20150603T003606Z
UID:10000119-1435226400-1435235400@adaptivesportsne.org
SUMMARY:Kayaking
DESCRIPTION:with Spaulding Rehabilitation Hospital Adaptive Sports Center ($20 per session) Session A: 10am-12:30pm\, Session B: 1:30pm-4pm
URL:https://adaptivesportsne.org/event/kayaking-4/2015-06-25/
LOCATION:Spaulding Rehabilitation Hospital\, 300 First Avenue\, Charlestown\, MA\, United States
ORGANIZER;CN="Spaulding Adaptive Sports Centers":MAILTO:scarper@partners.org
GEO:42.3785133;-71.049126
X-APPLE-STRUCTURED-LOCATION;VALUE=URI;X-ADDRESS=Spaulding Rehabilitation Hospital 300 First Avenue Charlestown MA United States;X-APPLE-RADIUS=500;X-TITLE=300 First Avenue:geo:-71.049126,42.3785133
END:VEVENT
BEGIN:VEVENT
DTSTART;TZID=America/Halifax:20150627T130000
DTEND;TZID=America/Halifax:20150627T150000
DTSTAMP:20260420T043900
CREATED:20150517T175455Z
LAST-MODIFIED:20150517T175455Z
UID:10000112-1435410000-1435417200@adaptivesportsne.org
SUMMARY:Sled Hockey
DESCRIPTION:with The Dr. Bernard R. and Edna M. Sears Adaptive Hockey Program at Spaulding Adaptive Sports Centers
URL:https://adaptivesportsne.org/event/sled-hockey-6/2015-06-27/
LOCATION:Ristuccia Arena\, 190 Main Street\, Wilmington\, MA\, 01887\, United States
ORGANIZER;CN="Spaulding Adaptive Sports Centers":MAILTO:scarper@partners.org
GEO:42.5587613;-71.182155
X-APPLE-STRUCTURED-LOCATION;VALUE=URI;X-ADDRESS=Ristuccia Arena 190 Main Street Wilmington MA 01887 United States;X-APPLE-RADIUS=500;X-TITLE=190 Main Street:geo:-71.182155,42.5587613
END:VEVENT
BEGIN:VEVENT
DTSTART;TZID=America/Halifax:20150629T160000
DTEND;TZID=America/Halifax:20150629T180000
DTSTAMP:20260420T043900
CREATED:20150518T165927Z
LAST-MODIFIED:20150518T165927Z
UID:10000337-1435593600-1435600800@adaptivesportsne.org
SUMMARY:Archery
DESCRIPTION:with Spaulding Adaptive Sports Center ($20)
URL:https://adaptivesportsne.org/event/archery-2/2015-06-29/
LOCATION:Camp Lyndon\, Sandwich\, MA\, United States
ORGANIZER;CN="Spaulding Adaptive Sports Centers":MAILTO:scarper@partners.org
GEO:41.7589615;-70.4939317
END:VEVENT
BEGIN:VEVENT
DTSTART;TZID=America/Halifax:20150701T170000
DTEND;TZID=America/Halifax:20150701T193000
DTSTAMP:20260420T043900
CREATED:20150518T014959Z
LAST-MODIFIED:20150518T014959Z
UID:10000332-1435770000-1435779000@adaptivesportsne.org
SUMMARY:Kayaking
DESCRIPTION:with Spaulding Adaptive Sports Center ($20)
URL:https://adaptivesportsne.org/event/kayaking-7/2015-07-01/
LOCATION:Camp Lyndon\, Sandwich\, MA\, United States
ORGANIZER;CN="Spaulding Adaptive Sports Centers":MAILTO:scarper@partners.org
GEO:41.7589615;-70.4939317
END:VEVENT
BEGIN:VEVENT
DTSTART;TZID=America/Halifax:20150707T120000
DTEND;TZID=America/Halifax:20150707T140000
DTSTAMP:20260420T043900
CREATED:20150517T164237Z
LAST-MODIFIED:20150517T173801Z
UID:10000322-1436270400-1436277600@adaptivesportsne.org
SUMMARY:Golf
DESCRIPTION:with Back in the Swing (3-session series\, $40 per session)
URL:https://adaptivesportsne.org/event/golf-4/2015-07-07/
LOCATION:Granite Links Golf Club\, 100 Quarry Hill Drive\, Quincy\, MA\, 02169\, United States
ORGANIZER;CN="Spaulding Adaptive Sports Centers":MAILTO:scarper@partners.org
GEO:42.2442907;-71.0487929
X-APPLE-STRUCTURED-LOCATION;VALUE=URI;X-ADDRESS=Granite Links Golf Club 100 Quarry Hill Drive Quincy MA 02169 United States;X-APPLE-RADIUS=500;X-TITLE=100 Quarry Hill Drive:geo:-71.0487929,42.2442907
END:VEVENT
BEGIN:VEVENT
DTSTART;TZID=America/Halifax:20150707T160000
DTEND;TZID=America/Halifax:20150707T180000
DTSTAMP:20260420T043900
CREATED:20150518T013730Z
LAST-MODIFIED:20150518T013730Z
UID:10000122-1436284800-1436292000@adaptivesportsne.org
SUMMARY:Golf
DESCRIPTION:with Back in the Swing Spaudling Adaptive Sports Center Cape Cod  ($40 for any 3-session series)
URL:https://adaptivesportsne.org/event/golf-9/2015-07-07/
LOCATION:Dennis Highlands\, Dennis\, MA\, United States
ORGANIZER;CN="Spaulding Adaptive Sports Centers":MAILTO:scarper@partners.org
GEO:41.7353062;-70.1939429
END:VEVENT
BEGIN:VEVENT
DTSTART;TZID=America/Halifax:20150708T170000
DTEND;TZID=America/Halifax:20150708T193000
DTSTAMP:20260420T043900
CREATED:20150518T184048Z
LAST-MODIFIED:20150518T184048Z
UID:10000357-1436374800-1436383800@adaptivesportsne.org
SUMMARY:Advanced Golf
DESCRIPTION:with Northeast Passage ($20)
URL:https://adaptivesportsne.org/event/advanced-golf-2/2015-07-08/
LOCATION:Windham Country Club\, Windham\, MA\, United States
ORGANIZER;CN="Northeast Passage":MAILTO:northeast.passage@unh.edu
GEO:42.604261;-70.8911612
END:VEVENT
BEGIN:VEVENT
DTSTART;TZID=America/Halifax:20150709T100000
DTEND;TZID=America/Halifax:20150709T120000
DTSTAMP:20260420T043900
CREATED:20150518T174930Z
LAST-MODIFIED:20150518T174930Z
UID:10000349-1436436000-1436443200@adaptivesportsne.org
SUMMARY:Golf
DESCRIPTION:with Back in the Swing (3-session series\, $40)
URL:https://adaptivesportsne.org/event/golf-13/2015-07-09/
LOCATION:Reedy Meadows\, MA\, United States
ORGANIZER;CN="Spaulding Adaptive Sports Centers":MAILTO:scarper@partners.org
GEO:42.4072107;-71.3824374
END:VEVENT
END:VCALENDAR