BEGIN:VCALENDAR
VERSION:2.0
PRODID:-//Adaptive Sports New England - ECPv6.15.20//NONSGML v1.0//EN
CALSCALE:GREGORIAN
METHOD:PUBLISH
X-WR-CALNAME:Adaptive Sports New England
X-ORIGINAL-URL:https://adaptivesportsne.org
X-WR-CALDESC:Events for Adaptive Sports New England
REFRESH-INTERVAL;VALUE=DURATION:PT1H
X-Robots-Tag:noindex
X-PUBLISHED-TTL:PT1H
BEGIN:VTIMEZONE
TZID:America/Halifax
BEGIN:DAYLIGHT
TZOFFSETFROM:-0400
TZOFFSETTO:-0300
TZNAME:ADT
DTSTART:20140309T060000
END:DAYLIGHT
BEGIN:STANDARD
TZOFFSETFROM:-0300
TZOFFSETTO:-0400
TZNAME:AST
DTSTART:20141102T050000
END:STANDARD
BEGIN:DAYLIGHT
TZOFFSETFROM:-0400
TZOFFSETTO:-0300
TZNAME:ADT
DTSTART:20150308T060000
END:DAYLIGHT
BEGIN:STANDARD
TZOFFSETFROM:-0300
TZOFFSETTO:-0400
TZNAME:AST
DTSTART:20151101T050000
END:STANDARD
BEGIN:DAYLIGHT
TZOFFSETFROM:-0400
TZOFFSETTO:-0300
TZNAME:ADT
DTSTART:20160313T060000
END:DAYLIGHT
BEGIN:STANDARD
TZOFFSETFROM:-0300
TZOFFSETTO:-0400
TZNAME:AST
DTSTART:20161106T050000
END:STANDARD
END:VTIMEZONE
BEGIN:VTIMEZONE
TZID:UTC
BEGIN:STANDARD
TZOFFSETFROM:+0000
TZOFFSETTO:+0000
TZNAME:UTC
DTSTART:20140101T000000
END:STANDARD
END:VTIMEZONE
BEGIN:VEVENT
DTSTART;TZID=America/Halifax:20150912T180000
DTEND;TZID=America/Halifax:20150912T195000
DTSTAMP:20260424T041411
CREATED:20150517T175946Z
LAST-MODIFIED:20150517T175946Z
UID:10000113-1442080800-1442087400@adaptivesportsne.org
SUMMARY:Sled Hockey
DESCRIPTION:with The Dr. Bernard R. and Edna M. Sears Adaptive Hockey Program at Spaulding Adaptive Sports Centers
URL:https://adaptivesportsne.org/event/sled-hockey-11/2015-09-12/
LOCATION:McVann O’Keefe Memorial Skating Rink\, 511 Lowell Street\, Peabody\, MA\, 01960\, United States
ORGANIZER;CN="Spaulding Adaptive Sports Centers":MAILTO:scarper@partners.org
GEO:42.5456909;-70.9785083
X-APPLE-STRUCTURED-LOCATION;VALUE=URI;X-ADDRESS=McVann O’Keefe Memorial Skating Rink 511 Lowell Street Peabody MA 01960 United States;X-APPLE-RADIUS=500;X-TITLE=511 Lowell Street:geo:-70.9785083,42.5456909
END:VEVENT
BEGIN:VEVENT
DTSTART;TZID=America/Halifax:20150917T230000
DTEND;TZID=America/Halifax:20150917T230000
DTSTAMP:20260424T041411
CREATED:20150910T185847Z
LAST-MODIFIED:20150910T185847Z
UID:10000390-1442530800-1442530800@adaptivesportsne.org
SUMMARY:Cycling
DESCRIPTION:MA DCR and All Out Adventures have teamed up to host an accessible cycling event in Brighton\, MA. \nhttps://www.google.com/calendar/render?eid=N3VvYTFrYTRmbWJvNXE2Z2hnaWxhcnM4YnMgaW5mb0BhbGxvdXRhZHZlbnR1cmVzLm9yZw&ctz=America/New_York&sf=true&output=xml#eventpage_6
URL:https://adaptivesportsne.org/event/cycling-17/
LOCATION:Artesani Park\, 1234 Soldier's Field Road\, Brighton\, MA\, 02135\, United States
ORGANIZER;CN="MA DCR Universal Access Program":MAILTO:marcy.marchello@state.ma.gov
GEO:42.3640587;-71.1364589
X-APPLE-STRUCTURED-LOCATION;VALUE=URI;X-ADDRESS=Artesani Park 1234 Soldier's Field Road Brighton MA 02135 United States;X-APPLE-RADIUS=500;X-TITLE=1234 Soldier's Field Road:geo:-71.1364589,42.3640587
END:VEVENT
BEGIN:VEVENT
DTSTART;VALUE=DATE:20150918
DTEND;VALUE=DATE:20150921
DTSTAMP:20260424T041411
CREATED:20150426T131002Z
LAST-MODIFIED:20150426T131002Z
UID:10000294-1442534400-1442793599@adaptivesportsne.org
SUMMARY:Abilities Expo
DESCRIPTION:
URL:https://adaptivesportsne.org/event/abilities-expo-2/
LOCATION:Boston Convention and Exhibition Center\, 415 Summer Street\, Boston\, MA\, 02210\, United States
ORGANIZER;CN="Adaptive Sports New England":MAILTO:joe.walsh@adaptivesportsne.org
GEO:42.3461949;-71.0456368
X-APPLE-STRUCTURED-LOCATION;VALUE=URI;X-ADDRESS=Boston Convention and Exhibition Center 415 Summer Street Boston MA 02210 United States;X-APPLE-RADIUS=500;X-TITLE=415 Summer Street:geo:-71.0456368,42.3461949
END:VEVENT
BEGIN:VEVENT
DTSTART;TZID=America/Halifax:20150922T180000
DTEND;TZID=America/Halifax:20150922T200000
DTSTAMP:20260424T041411
CREATED:20150911T213437Z
LAST-MODIFIED:20150911T213437Z
UID:10000393-1442944800-1442952000@adaptivesportsne.org
SUMMARY:WC Basketball
DESCRIPTION:With Spaulding Adaptive Sport Centers
URL:https://adaptivesportsne.org/event/wc-basketball-9/2015-09-22/
LOCATION:BCYF Charlestown\, 255 Medford Street\, Charlestown\, MA\, United States
ORGANIZER;CN="Spaulding Adaptive Sports Centers":MAILTO:scarper@partners.org
GEO:42.3807314;-71.0614275
X-APPLE-STRUCTURED-LOCATION;VALUE=URI;X-ADDRESS=BCYF Charlestown 255 Medford Street Charlestown MA United States;X-APPLE-RADIUS=500;X-TITLE=255 Medford Street:geo:-71.0614275,42.3807314
END:VEVENT
BEGIN:VEVENT
DTSTART;TZID=America/Halifax:20150927T140000
DTEND;TZID=America/Halifax:20150927T160000
DTSTAMP:20260424T041411
CREATED:20150901T215804Z
LAST-MODIFIED:20150907T160519Z
UID:10000378-1443362400-1443369600@adaptivesportsne.org
SUMMARY:Swim Team
DESCRIPTION:With Paralympic Sport Club Boston.  
URL:https://adaptivesportsne.org/event/swim-team/
LOCATION:University of Massachusetts Boston/Clark Athletic Center Pool\, 100 Morrissey Blvd.\, Boston\, MA\, 02125\, United States
ORGANIZER;CN="Adaptive Sports New England":MAILTO:joe.walsh@adaptivesportsne.org
GEO:42.314133;-71.0397669
X-APPLE-STRUCTURED-LOCATION;VALUE=URI;X-ADDRESS=University of Massachusetts Boston/Clark Athletic Center Pool 100 Morrissey Blvd. Boston MA 02125 United States;X-APPLE-RADIUS=500;X-TITLE=100 Morrissey Blvd.:geo:-71.0397669,42.314133
END:VEVENT
BEGIN:VEVENT
DTSTART;TZID=America/Halifax:20150929T110000
DTEND;TZID=America/Halifax:20150929T150000
DTSTAMP:20260424T041411
CREATED:20150910T184638Z
LAST-MODIFIED:20150910T184638Z
UID:10000388-1443524400-1443538800@adaptivesportsne.org
SUMMARY:Cycling
DESCRIPTION:All Out Adventures “Independent Cycling” time. Opportunity to rent one of All Out Adventures bikes for $5. Call ahead to reserve the bike you want.
URL:https://adaptivesportsne.org/event/cycling-12/2015-09-29/
LOCATION:All Out Adventures\, 214 State Street\, Northampton\, MA\, 01060\, United States
GEO:42.3251473;-72.6357308
X-APPLE-STRUCTURED-LOCATION;VALUE=URI;X-ADDRESS=All Out Adventures 214 State Street Northampton MA 01060 United States;X-APPLE-RADIUS=500;X-TITLE=214 State Street:geo:-72.6357308,42.3251473
END:VEVENT
BEGIN:VEVENT
DTSTART;VALUE=DATE:20151004
DTEND;VALUE=DATE:20151005
DTSTAMP:20260424T041411
CREATED:20150426T130611Z
LAST-MODIFIED:20150627T132147Z
UID:10000293-1443916800-1444003199@adaptivesportsne.org
SUMMARY:Gateway to Gold
DESCRIPTION:U.S. Paralympics Northeast Regional Talent Identification Day.
URL:https://adaptivesportsne.org/event/gateway-to-gold/
LOCATION:Tufts University – Tisch Sports & Fitness Center\, 161 College Ave\, Medford\, MA\, 02155\, United States
ORGANIZER;CN="Adaptive Sports New England":MAILTO:joe.walsh@adaptivesportsne.org
GEO:42.4081636;-71.1160096
X-APPLE-STRUCTURED-LOCATION;VALUE=URI;X-ADDRESS=Tufts University – Tisch Sports & Fitness Center 161 College Ave Medford MA 02155 United States;X-APPLE-RADIUS=500;X-TITLE=161 College Ave:geo:-71.1160096,42.4081636
END:VEVENT
BEGIN:VEVENT
DTSTART;TZID=America/Halifax:20151006T150000
DTEND;TZID=America/Halifax:20151006T163000
DTSTAMP:20260424T041411
CREATED:20150923T142801Z
LAST-MODIFIED:20150923T142801Z
UID:10000402-1444143600-1444149000@adaptivesportsne.org
SUMMARY:Sled Hockey
DESCRIPTION:with Spaulding Adaptive Sports Centers
URL:https://adaptivesportsne.org/event/sled-hockey-17/2015-10-06/
LOCATION:Armstrong Arena\, 103 Long Pond Road\, Plymouth\, MA\, 02360\, United States
ORGANIZER;CN="Spaulding Adaptive Sports Centers":MAILTO:scarper@partners.org
GEO:41.9262591;-70.6563853
X-APPLE-STRUCTURED-LOCATION;VALUE=URI;X-ADDRESS=Armstrong Arena 103 Long Pond Road Plymouth MA 02360 United States;X-APPLE-RADIUS=500;X-TITLE=103 Long Pond Road:geo:-70.6563853,41.9262591
END:VEVENT
BEGIN:VEVENT
DTSTART;TZID=UTC:20151011T080000
DTEND;TZID=UTC:20151011T120000
DTSTAMP:20260424T041411
CREATED:20150426T131648Z
LAST-MODIFIED:20150426T131648Z
UID:10000296-1444550400-1444564800@adaptivesportsne.org
SUMMARY:BAA Half Marathon
DESCRIPTION:
URL:https://adaptivesportsne.org/event/baa-half-marathon/
LOCATION:White Stadium\, Franklin Park\, Boston\, MA\, United States
GEO:42.3031796;-71.0959064
X-APPLE-STRUCTURED-LOCATION;VALUE=URI;X-ADDRESS=White Stadium Franklin Park Boston MA United States;X-APPLE-RADIUS=500;X-TITLE=Franklin Park:geo:-71.0959064,42.3031796
END:VEVENT
BEGIN:VEVENT
DTSTART;TZID=UTC:20151011T140000
DTEND;TZID=UTC:20151011T160000
DTSTAMP:20260424T041411
CREATED:20150901T215804Z
LAST-MODIFIED:20151001T144759Z
UID:10000379-1444572000-1444579200@adaptivesportsne.org
SUMMARY:Swim Training
DESCRIPTION:With Paralympic Sport Club Boston.  For competitively focused athletes who have physical or visual impairments.
URL:https://adaptivesportsne.org/event/swim-team-2015-10-11/2015-10-11/
LOCATION:University of Massachusetts Boston/Clark Athletic Center Pool\, 100 Morrissey Blvd.\, Boston\, MA\, 02125\, United States
ORGANIZER;CN="Adaptive Sports New England":MAILTO:joe.walsh@adaptivesportsne.org
GEO:42.314133;-71.0397669
X-APPLE-STRUCTURED-LOCATION;VALUE=URI;X-ADDRESS=University of Massachusetts Boston/Clark Athletic Center Pool 100 Morrissey Blvd. Boston MA 02125 United States;X-APPLE-RADIUS=500;X-TITLE=100 Morrissey Blvd.:geo:-71.0397669,42.314133
END:VEVENT
BEGIN:VEVENT
DTSTART;TZID=America/Halifax:20151011T160000
DTEND;TZID=America/Halifax:20151011T180000
DTSTAMP:20260424T041411
CREATED:20150910T190947Z
LAST-MODIFIED:20150910T190947Z
UID:10000391-1444579200-1444586400@adaptivesportsne.org
SUMMARY:Curling
DESCRIPTION:Cape Cod Curling begins weekly “Learn to Curl” lessons on October 11\, and they continue for 4 more weeks.
URL:https://adaptivesportsne.org/event/curling/2015-10-11/
LOCATION:Cape Cod Curling Club\, 37 Highfield Drive\, Falmouth\, MA\, 02541\, United States
GEO:41.557615;-70.626285
X-APPLE-STRUCTURED-LOCATION;VALUE=URI;X-ADDRESS=Cape Cod Curling Club 37 Highfield Drive Falmouth MA 02541 United States;X-APPLE-RADIUS=500;X-TITLE=37 Highfield Drive:geo:-70.626285,41.557615
END:VEVENT
END:VCALENDAR