BEGIN:VCALENDAR
VERSION:2.0
PRODID:-//Adaptive Sports New England - ECPv6.15.20//NONSGML v1.0//EN
CALSCALE:GREGORIAN
METHOD:PUBLISH
X-WR-CALNAME:Adaptive Sports New England
X-ORIGINAL-URL:https://adaptivesportsne.org
X-WR-CALDESC:Events for Adaptive Sports New England
REFRESH-INTERVAL;VALUE=DURATION:PT1H
X-Robots-Tag:noindex
X-PUBLISHED-TTL:PT1H
BEGIN:VTIMEZONE
TZID:America/Halifax
BEGIN:DAYLIGHT
TZOFFSETFROM:-0400
TZOFFSETTO:-0300
TZNAME:ADT
DTSTART:20130310T060000
END:DAYLIGHT
BEGIN:STANDARD
TZOFFSETFROM:-0300
TZOFFSETTO:-0400
TZNAME:AST
DTSTART:20131103T050000
END:STANDARD
BEGIN:DAYLIGHT
TZOFFSETFROM:-0400
TZOFFSETTO:-0300
TZNAME:ADT
DTSTART:20140309T060000
END:DAYLIGHT
BEGIN:STANDARD
TZOFFSETFROM:-0300
TZOFFSETTO:-0400
TZNAME:AST
DTSTART:20141102T050000
END:STANDARD
BEGIN:DAYLIGHT
TZOFFSETFROM:-0400
TZOFFSETTO:-0300
TZNAME:ADT
DTSTART:20150308T060000
END:DAYLIGHT
BEGIN:STANDARD
TZOFFSETFROM:-0300
TZOFFSETTO:-0400
TZNAME:AST
DTSTART:20151101T050000
END:STANDARD
END:VTIMEZONE
BEGIN:VEVENT
DTSTART;TZID=America/Halifax:20140708T160000
DTEND;TZID=America/Halifax:20140708T180000
DTSTAMP:20260422T234859
CREATED:20140417T035735Z
LAST-MODIFIED:20140417T035735Z
UID:10000082-1404835200-1404842400@adaptivesportsne.org
SUMMARY:Golf - Cape
DESCRIPTION:Three sessions – $40/series – different course each month
URL:https://adaptivesportsne.org/event/golf-cape-2/2014-07-08/
LOCATION:Dennis Highlands\, Dennis\, MA\, United States
ORGANIZER;CN="Spaulding Adaptive Sports Centers":MAILTO:scarper@partners.org
GEO:41.7353062;-70.1939429
END:VEVENT
BEGIN:VEVENT
DTSTART;TZID=America/Halifax:20140710T100000
DTEND;TZID=America/Halifax:20140710T150000
DTSTAMP:20260422T234859
CREATED:20140529T183343Z
LAST-MODIFIED:20140530T040213Z
UID:10000018-1404986400-1405004400@adaptivesportsne.org
SUMMARY:Kayak-Hpkntn
DESCRIPTION:
URL:https://adaptivesportsne.org/event/kayaking-hopkinton/2014-07-10/
LOCATION:Hopkinton State Park\, Route 85\, Hopkinton\, MA\, United States
GEO:42.2273109;-71.5215622
X-APPLE-STRUCTURED-LOCATION;VALUE=URI;X-ADDRESS=Hopkinton State Park Route 85 Hopkinton MA United States;X-APPLE-RADIUS=500;X-TITLE=Route 85:geo:-71.5215622,42.2273109
END:VEVENT
END:VCALENDAR