BEGIN:VCALENDAR
VERSION:2.0
PRODID:-//Adaptive Sports New England - ECPv6.15.20//NONSGML v1.0//EN
CALSCALE:GREGORIAN
METHOD:PUBLISH
X-ORIGINAL-URL:https://adaptivesportsne.org
X-WR-CALDESC:Events for Adaptive Sports New England
REFRESH-INTERVAL;VALUE=DURATION:PT1H
X-Robots-Tag:noindex
X-PUBLISHED-TTL:PT1H
BEGIN:VTIMEZONE
TZID:America/Halifax
BEGIN:DAYLIGHT
TZOFFSETFROM:-0400
TZOFFSETTO:-0300
TZNAME:ADT
DTSTART:20190310T060000
END:DAYLIGHT
BEGIN:STANDARD
TZOFFSETFROM:-0300
TZOFFSETTO:-0400
TZNAME:AST
DTSTART:20191103T050000
END:STANDARD
BEGIN:DAYLIGHT
TZOFFSETFROM:-0400
TZOFFSETTO:-0300
TZNAME:ADT
DTSTART:20200308T060000
END:DAYLIGHT
BEGIN:STANDARD
TZOFFSETFROM:-0300
TZOFFSETTO:-0400
TZNAME:AST
DTSTART:20201101T050000
END:STANDARD
BEGIN:DAYLIGHT
TZOFFSETFROM:-0400
TZOFFSETTO:-0300
TZNAME:ADT
DTSTART:20210314T060000
END:DAYLIGHT
BEGIN:STANDARD
TZOFFSETFROM:-0300
TZOFFSETTO:-0400
TZNAME:AST
DTSTART:20211107T050000
END:STANDARD
END:VTIMEZONE
BEGIN:VEVENT
DTSTART;TZID=America/Halifax:20200505T183000
DTEND;TZID=America/Halifax:20200505T200000
DTSTAMP:20260423T215841
CREATED:20200217T193120Z
LAST-MODIFIED:20200513T213825Z
UID:10001596-1588703400-1588708800@adaptivesportsne.org
SUMMARY:Open Para Rowing - CRI (Online)
DESCRIPTION:
URL:https://adaptivesportsne.org/event/open-para-rowing-cri-brighton-4/2020-05-05/
LOCATION:Harry Parker Boathouse\, 20 Nonantum Road\, Brighton\, MA\, 02135\, United States
CATEGORIES:Rowing
ORGANIZER;CN="Community Rowing%2C Inc.":MAILTO:jenny@communityrowing.org
GEO:42.3587003;-71.1656869
X-APPLE-STRUCTURED-LOCATION;VALUE=URI;X-ADDRESS=Harry Parker Boathouse 20 Nonantum Road Brighton MA 02135 United States;X-APPLE-RADIUS=500;X-TITLE=20 Nonantum Road:geo:-71.1656869,42.3587003
END:VEVENT
BEGIN:VEVENT
DTSTART;TZID=America/Halifax:20200506T130000
DTEND;TZID=America/Halifax:20200506T143000
DTSTAMP:20260423T215841
CREATED:20171214T174630Z
LAST-MODIFIED:20171214T174737Z
UID:10000822-1588770000-1588775400@adaptivesportsne.org
SUMMARY:Ice Skating - NEP (Portsmouth)
DESCRIPTION:Call 603-862-0070 or email email hidden; JavaScript is required.
URL:https://adaptivesportsne.org/event/ice-skating-nep-portsmouth/2020-05-06/
LOCATION:Puddle Dock Pond\, 14 Hancock St\, Portsmouth\, NH\, 03801\, United States
ORGANIZER;CN="Northeast Passage":MAILTO:northeast.passage@unh.edu
GEO:43.0750914;-70.7530756
X-APPLE-STRUCTURED-LOCATION;VALUE=URI;X-ADDRESS=Puddle Dock Pond 14 Hancock St Portsmouth NH 03801 United States;X-APPLE-RADIUS=500;X-TITLE=14 Hancock St:geo:-70.7530756,43.0750914
END:VEVENT
BEGIN:VEVENT
DTSTART;TZID=America/Halifax:20200507T183000
DTEND;TZID=America/Halifax:20200507T200000
DTSTAMP:20260423T215841
CREATED:20200217T193120Z
LAST-MODIFIED:20200513T213825Z
UID:10001597-1588876200-1588881600@adaptivesportsne.org
SUMMARY:Open Para Rowing - CRI (Online)
DESCRIPTION:
URL:https://adaptivesportsne.org/event/open-para-rowing-cri-brighton-4/2020-05-07/
LOCATION:Harry Parker Boathouse\, 20 Nonantum Road\, Brighton\, MA\, 02135\, United States
CATEGORIES:Rowing
ORGANIZER;CN="Community Rowing%2C Inc.":MAILTO:jenny@communityrowing.org
GEO:42.3587003;-71.1656869
X-APPLE-STRUCTURED-LOCATION;VALUE=URI;X-ADDRESS=Harry Parker Boathouse 20 Nonantum Road Brighton MA 02135 United States;X-APPLE-RADIUS=500;X-TITLE=20 Nonantum Road:geo:-71.1656869,42.3587003
END:VEVENT
BEGIN:VEVENT
DTSTART;TZID=America/Halifax:20200512T183000
DTEND;TZID=America/Halifax:20200512T200000
DTSTAMP:20260423T215841
CREATED:20200217T193120Z
LAST-MODIFIED:20200513T213825Z
UID:10001598-1589308200-1589313600@adaptivesportsne.org
SUMMARY:Open Para Rowing - CRI (Online)
DESCRIPTION:
URL:https://adaptivesportsne.org/event/open-para-rowing-cri-brighton-4/2020-05-12/
LOCATION:Harry Parker Boathouse\, 20 Nonantum Road\, Brighton\, MA\, 02135\, United States
CATEGORIES:Rowing
ORGANIZER;CN="Community Rowing%2C Inc.":MAILTO:jenny@communityrowing.org
GEO:42.3587003;-71.1656869
X-APPLE-STRUCTURED-LOCATION;VALUE=URI;X-ADDRESS=Harry Parker Boathouse 20 Nonantum Road Brighton MA 02135 United States;X-APPLE-RADIUS=500;X-TITLE=20 Nonantum Road:geo:-71.1656869,42.3587003
END:VEVENT
BEGIN:VEVENT
DTSTART;TZID=America/Halifax:20200513T130000
DTEND;TZID=America/Halifax:20200513T143000
DTSTAMP:20260423T215841
CREATED:20171214T174630Z
LAST-MODIFIED:20171214T174737Z
UID:10000823-1589374800-1589380200@adaptivesportsne.org
SUMMARY:Ice Skating - NEP (Portsmouth)
DESCRIPTION:Call 603-862-0070 or email email hidden; JavaScript is required.
URL:https://adaptivesportsne.org/event/ice-skating-nep-portsmouth/2020-05-13/
LOCATION:Puddle Dock Pond\, 14 Hancock St\, Portsmouth\, NH\, 03801\, United States
ORGANIZER;CN="Northeast Passage":MAILTO:northeast.passage@unh.edu
GEO:43.0750914;-70.7530756
X-APPLE-STRUCTURED-LOCATION;VALUE=URI;X-ADDRESS=Puddle Dock Pond 14 Hancock St Portsmouth NH 03801 United States;X-APPLE-RADIUS=500;X-TITLE=14 Hancock St:geo:-70.7530756,43.0750914
END:VEVENT
BEGIN:VEVENT
DTSTART;TZID=America/Halifax:20200514T183000
DTEND;TZID=America/Halifax:20200514T200000
DTSTAMP:20260423T215841
CREATED:20200217T193120Z
LAST-MODIFIED:20200513T213825Z
UID:10001599-1589481000-1589486400@adaptivesportsne.org
SUMMARY:Open Para Rowing - CRI (Online)
DESCRIPTION:
URL:https://adaptivesportsne.org/event/open-para-rowing-cri-brighton-4/2020-05-14/
LOCATION:Harry Parker Boathouse\, 20 Nonantum Road\, Brighton\, MA\, 02135\, United States
CATEGORIES:Rowing
ORGANIZER;CN="Community Rowing%2C Inc.":MAILTO:jenny@communityrowing.org
GEO:42.3587003;-71.1656869
X-APPLE-STRUCTURED-LOCATION;VALUE=URI;X-ADDRESS=Harry Parker Boathouse 20 Nonantum Road Brighton MA 02135 United States;X-APPLE-RADIUS=500;X-TITLE=20 Nonantum Road:geo:-71.1656869,42.3587003
END:VEVENT
BEGIN:VEVENT
DTSTART;TZID=America/Halifax:20200519T183000
DTEND;TZID=America/Halifax:20200519T200000
DTSTAMP:20260423T215841
CREATED:20200217T193120Z
LAST-MODIFIED:20200513T213825Z
UID:10001600-1589913000-1589918400@adaptivesportsne.org
SUMMARY:Open Para Rowing - CRI (Online)
DESCRIPTION:
URL:https://adaptivesportsne.org/event/open-para-rowing-cri-brighton-4/2020-05-19/
LOCATION:Harry Parker Boathouse\, 20 Nonantum Road\, Brighton\, MA\, 02135\, United States
CATEGORIES:Rowing
ORGANIZER;CN="Community Rowing%2C Inc.":MAILTO:jenny@communityrowing.org
GEO:42.3587003;-71.1656869
X-APPLE-STRUCTURED-LOCATION;VALUE=URI;X-ADDRESS=Harry Parker Boathouse 20 Nonantum Road Brighton MA 02135 United States;X-APPLE-RADIUS=500;X-TITLE=20 Nonantum Road:geo:-71.1656869,42.3587003
END:VEVENT
BEGIN:VEVENT
DTSTART;TZID=America/Halifax:20200520T130000
DTEND;TZID=America/Halifax:20200520T143000
DTSTAMP:20260423T215841
CREATED:20171214T174630Z
LAST-MODIFIED:20171214T174737Z
UID:10000824-1589979600-1589985000@adaptivesportsne.org
SUMMARY:Ice Skating - NEP (Portsmouth)
DESCRIPTION:Call 603-862-0070 or email email hidden; JavaScript is required.
URL:https://adaptivesportsne.org/event/ice-skating-nep-portsmouth/2020-05-20/
LOCATION:Puddle Dock Pond\, 14 Hancock St\, Portsmouth\, NH\, 03801\, United States
ORGANIZER;CN="Northeast Passage":MAILTO:northeast.passage@unh.edu
GEO:43.0750914;-70.7530756
X-APPLE-STRUCTURED-LOCATION;VALUE=URI;X-ADDRESS=Puddle Dock Pond 14 Hancock St Portsmouth NH 03801 United States;X-APPLE-RADIUS=500;X-TITLE=14 Hancock St:geo:-70.7530756,43.0750914
END:VEVENT
BEGIN:VEVENT
DTSTART;TZID=America/Halifax:20200521T183000
DTEND;TZID=America/Halifax:20200521T200000
DTSTAMP:20260423T215841
CREATED:20200217T193120Z
LAST-MODIFIED:20200513T213825Z
UID:10001601-1590085800-1590091200@adaptivesportsne.org
SUMMARY:Open Para Rowing - CRI (Online)
DESCRIPTION:
URL:https://adaptivesportsne.org/event/open-para-rowing-cri-brighton-4/2020-05-21/
LOCATION:Harry Parker Boathouse\, 20 Nonantum Road\, Brighton\, MA\, 02135\, United States
CATEGORIES:Rowing
ORGANIZER;CN="Community Rowing%2C Inc.":MAILTO:jenny@communityrowing.org
GEO:42.3587003;-71.1656869
X-APPLE-STRUCTURED-LOCATION;VALUE=URI;X-ADDRESS=Harry Parker Boathouse 20 Nonantum Road Brighton MA 02135 United States;X-APPLE-RADIUS=500;X-TITLE=20 Nonantum Road:geo:-71.1656869,42.3587003
END:VEVENT
BEGIN:VEVENT
DTSTART;TZID=America/Halifax:20200527T130000
DTEND;TZID=America/Halifax:20200527T143000
DTSTAMP:20260423T215841
CREATED:20171214T174630Z
LAST-MODIFIED:20171214T174737Z
UID:10000825-1590584400-1590589800@adaptivesportsne.org
SUMMARY:Ice Skating - NEP (Portsmouth)
DESCRIPTION:Call 603-862-0070 or email email hidden; JavaScript is required.
URL:https://adaptivesportsne.org/event/ice-skating-nep-portsmouth/2020-05-27/
LOCATION:Puddle Dock Pond\, 14 Hancock St\, Portsmouth\, NH\, 03801\, United States
ORGANIZER;CN="Northeast Passage":MAILTO:northeast.passage@unh.edu
GEO:43.0750914;-70.7530756
X-APPLE-STRUCTURED-LOCATION;VALUE=URI;X-ADDRESS=Puddle Dock Pond 14 Hancock St Portsmouth NH 03801 United States;X-APPLE-RADIUS=500;X-TITLE=14 Hancock St:geo:-70.7530756,43.0750914
END:VEVENT
END:VCALENDAR