BEGIN:VCALENDAR
VERSION:2.0
PRODID:-//Adaptive Sports New England - ECPv6.15.20//NONSGML v1.0//EN
CALSCALE:GREGORIAN
METHOD:PUBLISH
X-WR-CALNAME:Adaptive Sports New England
X-ORIGINAL-URL:https://adaptivesportsne.org
X-WR-CALDESC:Events for Adaptive Sports New England
REFRESH-INTERVAL;VALUE=DURATION:PT1H
X-Robots-Tag:noindex
X-PUBLISHED-TTL:PT1H
BEGIN:VTIMEZONE
TZID:America/Halifax
BEGIN:DAYLIGHT
TZOFFSETFROM:-0400
TZOFFSETTO:-0300
TZNAME:ADT
DTSTART:20200308T060000
END:DAYLIGHT
BEGIN:STANDARD
TZOFFSETFROM:-0300
TZOFFSETTO:-0400
TZNAME:AST
DTSTART:20201101T050000
END:STANDARD
BEGIN:DAYLIGHT
TZOFFSETFROM:-0400
TZOFFSETTO:-0300
TZNAME:ADT
DTSTART:20210314T060000
END:DAYLIGHT
BEGIN:STANDARD
TZOFFSETFROM:-0300
TZOFFSETTO:-0400
TZNAME:AST
DTSTART:20211107T050000
END:STANDARD
BEGIN:DAYLIGHT
TZOFFSETFROM:-0400
TZOFFSETTO:-0300
TZNAME:ADT
DTSTART:20220313T060000
END:DAYLIGHT
BEGIN:STANDARD
TZOFFSETFROM:-0300
TZOFFSETTO:-0400
TZNAME:AST
DTSTART:20221106T050000
END:STANDARD
END:VTIMEZONE
BEGIN:VEVENT
DTSTART;TZID=America/Halifax:20210103T141500
DTEND;TZID=America/Halifax:20210103T154500
DTSTAMP:20260421T063942
CREATED:20210105T150429Z
LAST-MODIFIED:20210515T124555Z
UID:10003568-1609683300-1609688700@adaptivesportsne.org
SUMMARY:Swim Team - ASNE (Wellesley)
DESCRIPTION:
URL:https://adaptivesportsne.org/event/swim-team-asne-wellesley-3/2021-01-03/
LOCATION:Wellesley Sports Center\, 900 Worcester St\, Wellesley\, MA\, 02482\, United States
CATEGORIES:Swimming
ORGANIZER;CN="Adaptive Sports New England":MAILTO:joe.walsh@adaptivesportsne.org
END:VEVENT
BEGIN:VEVENT
DTSTART;TZID=America/Halifax:20210106T130000
DTEND;TZID=America/Halifax:20210106T143000
DTSTAMP:20260421T063942
CREATED:20171214T174630Z
LAST-MODIFIED:20171214T174737Z
UID:10000857-1609938000-1609943400@adaptivesportsne.org
SUMMARY:Ice Skating - NEP (Portsmouth)
DESCRIPTION:Call 603-862-0070 or email email hidden; JavaScript is required.
URL:https://adaptivesportsne.org/event/ice-skating-nep-portsmouth/2021-01-06/
LOCATION:Puddle Dock Pond\, 14 Hancock St\, Portsmouth\, NH\, 03801\, United States
ORGANIZER;CN="Northeast Passage":MAILTO:northeast.passage@unh.edu
GEO:43.0750914;-70.7530756
X-APPLE-STRUCTURED-LOCATION;VALUE=URI;X-ADDRESS=Puddle Dock Pond 14 Hancock St Portsmouth NH 03801 United States;X-APPLE-RADIUS=500;X-TITLE=14 Hancock St:geo:-70.7530756,43.0750914
END:VEVENT
BEGIN:VEVENT
DTSTART;TZID=America/Halifax:20210108T190000
DTEND;TZID=America/Halifax:20210108T210000
DTSTAMP:20260421T063942
CREATED:20210104T202839Z
LAST-MODIFIED:20210105T145507Z
UID:10003557-1610132400-1610139600@adaptivesportsne.org
SUMMARY:Wheelchair Tennis SCWTF (Dartmouth)
DESCRIPTION:
URL:https://adaptivesportsne.org/event/wheelchair-tennis-clinics-scwtf-dartmouth/2021-01-08/
LOCATION:Dartmouth Indoor Tennis\, 757 State Rd\, Dartmouth\, MA\, 02747\, United States
CATEGORIES:Other Para Sports
ORGANIZER;CN="South Coast Wheelchair Tennis Foundation":MAILTO:thomasd10@aol.com
GEO:41.6380217;-71.0298657
X-APPLE-STRUCTURED-LOCATION;VALUE=URI;X-ADDRESS=Dartmouth Indoor Tennis 757 State Rd Dartmouth MA 02747 United States;X-APPLE-RADIUS=500;X-TITLE=757 State Rd:geo:-71.0298657,41.6380217
END:VEVENT
BEGIN:VEVENT
DTSTART;TZID=America/Halifax:20210110T110000
DTEND;TZID=America/Halifax:20210110T130000
DTSTAMP:20260421T063942
CREATED:20210104T202108Z
LAST-MODIFIED:20210105T145158Z
UID:10003552-1610276400-1610283600@adaptivesportsne.org
SUMMARY:Wheelchair Tennis - SCWTF (Hanover)
DESCRIPTION:
URL:https://adaptivesportsne.org/event/wheelchair-tennis-clinic-ymca-quincy/2021-01-10/
LOCATION:Emilson YMCA\, 75 Mill Street\, Hanover\, MA\, 02339\, United States
CATEGORIES:Other Para Sports
ORGANIZER;CN="South Coast Wheelchair Tennis Foundation":MAILTO:thomasd10@aol.com
GEO:42.1406659;-70.8394957
X-APPLE-STRUCTURED-LOCATION;VALUE=URI;X-ADDRESS=Emilson YMCA 75 Mill Street Hanover MA 02339 United States;X-APPLE-RADIUS=500;X-TITLE=75 Mill Street:geo:-70.8394957,42.1406659
END:VEVENT
BEGIN:VEVENT
DTSTART;TZID=America/Halifax:20210110T141500
DTEND;TZID=America/Halifax:20210110T154500
DTSTAMP:20260421T063942
CREATED:20210105T150429Z
LAST-MODIFIED:20210515T124555Z
UID:10003569-1610288100-1610293500@adaptivesportsne.org
SUMMARY:Swim Team - ASNE (Wellesley)
DESCRIPTION:
URL:https://adaptivesportsne.org/event/swim-team-asne-wellesley-3/2021-01-10/
LOCATION:Wellesley Sports Center\, 900 Worcester St\, Wellesley\, MA\, 02482\, United States
CATEGORIES:Swimming
ORGANIZER;CN="Adaptive Sports New England":MAILTO:joe.walsh@adaptivesportsne.org
END:VEVENT
BEGIN:VEVENT
DTSTART;TZID=America/Halifax:20210113T130000
DTEND;TZID=America/Halifax:20210113T143000
DTSTAMP:20260421T063942
CREATED:20171214T174630Z
LAST-MODIFIED:20171214T174737Z
UID:10000858-1610542800-1610548200@adaptivesportsne.org
SUMMARY:Ice Skating - NEP (Portsmouth)
DESCRIPTION:Call 603-862-0070 or email email hidden; JavaScript is required.
URL:https://adaptivesportsne.org/event/ice-skating-nep-portsmouth/2021-01-13/
LOCATION:Puddle Dock Pond\, 14 Hancock St\, Portsmouth\, NH\, 03801\, United States
ORGANIZER;CN="Northeast Passage":MAILTO:northeast.passage@unh.edu
GEO:43.0750914;-70.7530756
X-APPLE-STRUCTURED-LOCATION;VALUE=URI;X-ADDRESS=Puddle Dock Pond 14 Hancock St Portsmouth NH 03801 United States;X-APPLE-RADIUS=500;X-TITLE=14 Hancock St:geo:-70.7530756,43.0750914
END:VEVENT
BEGIN:VEVENT
DTSTART;TZID=America/Halifax:20210117T141500
DTEND;TZID=America/Halifax:20210117T154500
DTSTAMP:20260421T063942
CREATED:20210105T150429Z
LAST-MODIFIED:20210515T124555Z
UID:10003570-1610892900-1610898300@adaptivesportsne.org
SUMMARY:Swim Team - ASNE (Wellesley)
DESCRIPTION:
URL:https://adaptivesportsne.org/event/swim-team-asne-wellesley-3/2021-01-17/
LOCATION:Wellesley Sports Center\, 900 Worcester St\, Wellesley\, MA\, 02482\, United States
CATEGORIES:Swimming
ORGANIZER;CN="Adaptive Sports New England":MAILTO:joe.walsh@adaptivesportsne.org
END:VEVENT
BEGIN:VEVENT
DTSTART;TZID=America/Halifax:20210120T130000
DTEND;TZID=America/Halifax:20210120T143000
DTSTAMP:20260421T063942
CREATED:20171214T174630Z
LAST-MODIFIED:20171214T174737Z
UID:10000859-1611147600-1611153000@adaptivesportsne.org
SUMMARY:Ice Skating - NEP (Portsmouth)
DESCRIPTION:Call 603-862-0070 or email email hidden; JavaScript is required.
URL:https://adaptivesportsne.org/event/ice-skating-nep-portsmouth/2021-01-20/
LOCATION:Puddle Dock Pond\, 14 Hancock St\, Portsmouth\, NH\, 03801\, United States
ORGANIZER;CN="Northeast Passage":MAILTO:northeast.passage@unh.edu
GEO:43.0750914;-70.7530756
X-APPLE-STRUCTURED-LOCATION;VALUE=URI;X-ADDRESS=Puddle Dock Pond 14 Hancock St Portsmouth NH 03801 United States;X-APPLE-RADIUS=500;X-TITLE=14 Hancock St:geo:-70.7530756,43.0750914
END:VEVENT
BEGIN:VEVENT
DTSTART;TZID=America/Halifax:20210122T190000
DTEND;TZID=America/Halifax:20210122T210000
DTSTAMP:20260421T063942
CREATED:20210104T202839Z
LAST-MODIFIED:20210105T145507Z
UID:10003558-1611342000-1611349200@adaptivesportsne.org
SUMMARY:Wheelchair Tennis SCWTF (Dartmouth)
DESCRIPTION:
URL:https://adaptivesportsne.org/event/wheelchair-tennis-clinics-scwtf-dartmouth/2021-01-22/
LOCATION:Dartmouth Indoor Tennis\, 757 State Rd\, Dartmouth\, MA\, 02747\, United States
CATEGORIES:Other Para Sports
ORGANIZER;CN="South Coast Wheelchair Tennis Foundation":MAILTO:thomasd10@aol.com
GEO:41.6380217;-71.0298657
X-APPLE-STRUCTURED-LOCATION;VALUE=URI;X-ADDRESS=Dartmouth Indoor Tennis 757 State Rd Dartmouth MA 02747 United States;X-APPLE-RADIUS=500;X-TITLE=757 State Rd:geo:-71.0298657,41.6380217
END:VEVENT
BEGIN:VEVENT
DTSTART;TZID=America/Halifax:20210124T141500
DTEND;TZID=America/Halifax:20210124T154500
DTSTAMP:20260421T063942
CREATED:20210105T150429Z
LAST-MODIFIED:20210515T124555Z
UID:10003571-1611497700-1611503100@adaptivesportsne.org
SUMMARY:Swim Team - ASNE (Wellesley)
DESCRIPTION:
URL:https://adaptivesportsne.org/event/swim-team-asne-wellesley-3/2021-01-24/
LOCATION:Wellesley Sports Center\, 900 Worcester St\, Wellesley\, MA\, 02482\, United States
CATEGORIES:Swimming
ORGANIZER;CN="Adaptive Sports New England":MAILTO:joe.walsh@adaptivesportsne.org
END:VEVENT
BEGIN:VEVENT
DTSTART;TZID=America/Halifax:20210127T130000
DTEND;TZID=America/Halifax:20210127T143000
DTSTAMP:20260421T063942
CREATED:20171214T174630Z
LAST-MODIFIED:20171214T174737Z
UID:10000860-1611752400-1611757800@adaptivesportsne.org
SUMMARY:Ice Skating - NEP (Portsmouth)
DESCRIPTION:Call 603-862-0070 or email email hidden; JavaScript is required.
URL:https://adaptivesportsne.org/event/ice-skating-nep-portsmouth/2021-01-27/
LOCATION:Puddle Dock Pond\, 14 Hancock St\, Portsmouth\, NH\, 03801\, United States
ORGANIZER;CN="Northeast Passage":MAILTO:northeast.passage@unh.edu
GEO:43.0750914;-70.7530756
X-APPLE-STRUCTURED-LOCATION;VALUE=URI;X-ADDRESS=Puddle Dock Pond 14 Hancock St Portsmouth NH 03801 United States;X-APPLE-RADIUS=500;X-TITLE=14 Hancock St:geo:-70.7530756,43.0750914
END:VEVENT
BEGIN:VEVENT
DTSTART;TZID=America/Halifax:20210131T141500
DTEND;TZID=America/Halifax:20210131T154500
DTSTAMP:20260421T063942
CREATED:20210105T150429Z
LAST-MODIFIED:20210515T124555Z
UID:10003572-1612102500-1612107900@adaptivesportsne.org
SUMMARY:Swim Team - ASNE (Wellesley)
DESCRIPTION:
URL:https://adaptivesportsne.org/event/swim-team-asne-wellesley-3/2021-01-31/
LOCATION:Wellesley Sports Center\, 900 Worcester St\, Wellesley\, MA\, 02482\, United States
CATEGORIES:Swimming
ORGANIZER;CN="Adaptive Sports New England":MAILTO:joe.walsh@adaptivesportsne.org
END:VEVENT
END:VCALENDAR