BEGIN:VCALENDAR
VERSION:2.0
PRODID:-//Adaptive Sports New England - ECPv6.15.20//NONSGML v1.0//EN
CALSCALE:GREGORIAN
METHOD:PUBLISH
X-WR-CALNAME:Adaptive Sports New England
X-ORIGINAL-URL:https://adaptivesportsne.org
X-WR-CALDESC:Events for Adaptive Sports New England
REFRESH-INTERVAL;VALUE=DURATION:PT1H
X-Robots-Tag:noindex
X-PUBLISHED-TTL:PT1H
BEGIN:VTIMEZONE
TZID:America/Halifax
BEGIN:DAYLIGHT
TZOFFSETFROM:-0400
TZOFFSETTO:-0300
TZNAME:ADT
DTSTART:20200308T060000
END:DAYLIGHT
BEGIN:STANDARD
TZOFFSETFROM:-0300
TZOFFSETTO:-0400
TZNAME:AST
DTSTART:20201101T050000
END:STANDARD
BEGIN:DAYLIGHT
TZOFFSETFROM:-0400
TZOFFSETTO:-0300
TZNAME:ADT
DTSTART:20210314T060000
END:DAYLIGHT
BEGIN:STANDARD
TZOFFSETFROM:-0300
TZOFFSETTO:-0400
TZNAME:AST
DTSTART:20211107T050000
END:STANDARD
BEGIN:DAYLIGHT
TZOFFSETFROM:-0400
TZOFFSETTO:-0300
TZNAME:ADT
DTSTART:20220313T060000
END:DAYLIGHT
BEGIN:STANDARD
TZOFFSETFROM:-0300
TZOFFSETTO:-0400
TZNAME:AST
DTSTART:20221106T050000
END:STANDARD
END:VTIMEZONE
BEGIN:VEVENT
DTSTART;TZID=America/Halifax:20210203T130000
DTEND;TZID=America/Halifax:20210203T143000
DTSTAMP:20260421T224954
CREATED:20171214T174630Z
LAST-MODIFIED:20171214T174737Z
UID:10000861-1612357200-1612362600@adaptivesportsne.org
SUMMARY:Ice Skating - NEP (Portsmouth)
DESCRIPTION:Call 603-862-0070 or email email hidden; JavaScript is required.
URL:https://adaptivesportsne.org/event/ice-skating-nep-portsmouth/2021-02-03/
LOCATION:Puddle Dock Pond\, 14 Hancock St\, Portsmouth\, NH\, 03801\, United States
ORGANIZER;CN="Northeast Passage":MAILTO:northeast.passage@unh.edu
GEO:43.0750914;-70.7530756
X-APPLE-STRUCTURED-LOCATION;VALUE=URI;X-ADDRESS=Puddle Dock Pond 14 Hancock St Portsmouth NH 03801 United States;X-APPLE-RADIUS=500;X-TITLE=14 Hancock St:geo:-70.7530756,43.0750914
END:VEVENT
BEGIN:VEVENT
DTSTART;TZID=America/Halifax:20210205T190000
DTEND;TZID=America/Halifax:20210205T210000
DTSTAMP:20260421T224954
CREATED:20210104T202839Z
LAST-MODIFIED:20210105T145507Z
UID:10003559-1612551600-1612558800@adaptivesportsne.org
SUMMARY:Wheelchair Tennis SCWTF (Dartmouth)
DESCRIPTION:
URL:https://adaptivesportsne.org/event/wheelchair-tennis-clinics-scwtf-dartmouth/2021-02-05/
LOCATION:Dartmouth Indoor Tennis\, 757 State Rd\, Dartmouth\, MA\, 02747\, United States
CATEGORIES:Other Para Sports
ORGANIZER;CN="South Coast Wheelchair Tennis Foundation":MAILTO:thomasd10@aol.com
GEO:41.6380217;-71.0298657
X-APPLE-STRUCTURED-LOCATION;VALUE=URI;X-ADDRESS=Dartmouth Indoor Tennis 757 State Rd Dartmouth MA 02747 United States;X-APPLE-RADIUS=500;X-TITLE=757 State Rd:geo:-71.0298657,41.6380217
END:VEVENT
BEGIN:VEVENT
DTSTART;TZID=America/Halifax:20210207T110000
DTEND;TZID=America/Halifax:20210207T130000
DTSTAMP:20260421T224954
CREATED:20210104T202108Z
LAST-MODIFIED:20210105T145158Z
UID:10003553-1612695600-1612702800@adaptivesportsne.org
SUMMARY:Wheelchair Tennis - SCWTF (Hanover)
DESCRIPTION:
URL:https://adaptivesportsne.org/event/wheelchair-tennis-clinic-ymca-quincy/2021-02-07/
LOCATION:Emilson YMCA\, 75 Mill Street\, Hanover\, MA\, 02339\, United States
CATEGORIES:Other Para Sports
ORGANIZER;CN="South Coast Wheelchair Tennis Foundation":MAILTO:thomasd10@aol.com
GEO:42.1406659;-70.8394957
X-APPLE-STRUCTURED-LOCATION;VALUE=URI;X-ADDRESS=Emilson YMCA 75 Mill Street Hanover MA 02339 United States;X-APPLE-RADIUS=500;X-TITLE=75 Mill Street:geo:-70.8394957,42.1406659
END:VEVENT
BEGIN:VEVENT
DTSTART;TZID=America/Halifax:20210207T141500
DTEND;TZID=America/Halifax:20210207T154500
DTSTAMP:20260421T224954
CREATED:20210105T150429Z
LAST-MODIFIED:20210515T124555Z
UID:10003573-1612707300-1612712700@adaptivesportsne.org
SUMMARY:Swim Team - ASNE (Wellesley)
DESCRIPTION:
URL:https://adaptivesportsne.org/event/swim-team-asne-wellesley-3/2021-02-07/
LOCATION:Wellesley Sports Center\, 900 Worcester St\, Wellesley\, MA\, 02482\, United States
CATEGORIES:Swimming
ORGANIZER;CN="Adaptive Sports New England":MAILTO:joe.walsh@adaptivesportsne.org
END:VEVENT
BEGIN:VEVENT
DTSTART;TZID=America/Halifax:20210210T130000
DTEND;TZID=America/Halifax:20210210T143000
DTSTAMP:20260421T224954
CREATED:20171214T174630Z
LAST-MODIFIED:20171214T174737Z
UID:10000862-1612962000-1612967400@adaptivesportsne.org
SUMMARY:Ice Skating - NEP (Portsmouth)
DESCRIPTION:Call 603-862-0070 or email email hidden; JavaScript is required.
URL:https://adaptivesportsne.org/event/ice-skating-nep-portsmouth/2021-02-10/
LOCATION:Puddle Dock Pond\, 14 Hancock St\, Portsmouth\, NH\, 03801\, United States
ORGANIZER;CN="Northeast Passage":MAILTO:northeast.passage@unh.edu
GEO:43.0750914;-70.7530756
X-APPLE-STRUCTURED-LOCATION;VALUE=URI;X-ADDRESS=Puddle Dock Pond 14 Hancock St Portsmouth NH 03801 United States;X-APPLE-RADIUS=500;X-TITLE=14 Hancock St:geo:-70.7530756,43.0750914
END:VEVENT
BEGIN:VEVENT
DTSTART;TZID=America/Halifax:20210214T141500
DTEND;TZID=America/Halifax:20210214T154500
DTSTAMP:20260421T224954
CREATED:20210105T150429Z
LAST-MODIFIED:20210515T124555Z
UID:10003574-1613312100-1613317500@adaptivesportsne.org
SUMMARY:Swim Team - ASNE (Wellesley)
DESCRIPTION:
URL:https://adaptivesportsne.org/event/swim-team-asne-wellesley-3/2021-02-14/
LOCATION:Wellesley Sports Center\, 900 Worcester St\, Wellesley\, MA\, 02482\, United States
CATEGORIES:Swimming
ORGANIZER;CN="Adaptive Sports New England":MAILTO:joe.walsh@adaptivesportsne.org
END:VEVENT
BEGIN:VEVENT
DTSTART;TZID=America/Halifax:20210217T130000
DTEND;TZID=America/Halifax:20210217T143000
DTSTAMP:20260421T224954
CREATED:20171214T174630Z
LAST-MODIFIED:20171214T174737Z
UID:10000863-1613566800-1613572200@adaptivesportsne.org
SUMMARY:Ice Skating - NEP (Portsmouth)
DESCRIPTION:Call 603-862-0070 or email email hidden; JavaScript is required.
URL:https://adaptivesportsne.org/event/ice-skating-nep-portsmouth/2021-02-17/
LOCATION:Puddle Dock Pond\, 14 Hancock St\, Portsmouth\, NH\, 03801\, United States
ORGANIZER;CN="Northeast Passage":MAILTO:northeast.passage@unh.edu
GEO:43.0750914;-70.7530756
X-APPLE-STRUCTURED-LOCATION;VALUE=URI;X-ADDRESS=Puddle Dock Pond 14 Hancock St Portsmouth NH 03801 United States;X-APPLE-RADIUS=500;X-TITLE=14 Hancock St:geo:-70.7530756,43.0750914
END:VEVENT
BEGIN:VEVENT
DTSTART;TZID=America/Halifax:20210219T190000
DTEND;TZID=America/Halifax:20210219T210000
DTSTAMP:20260421T224954
CREATED:20210104T202839Z
LAST-MODIFIED:20210105T145507Z
UID:10003560-1613761200-1613768400@adaptivesportsne.org
SUMMARY:Wheelchair Tennis SCWTF (Dartmouth)
DESCRIPTION:
URL:https://adaptivesportsne.org/event/wheelchair-tennis-clinics-scwtf-dartmouth/2021-02-19/
LOCATION:Dartmouth Indoor Tennis\, 757 State Rd\, Dartmouth\, MA\, 02747\, United States
CATEGORIES:Other Para Sports
ORGANIZER;CN="South Coast Wheelchair Tennis Foundation":MAILTO:thomasd10@aol.com
GEO:41.6380217;-71.0298657
X-APPLE-STRUCTURED-LOCATION;VALUE=URI;X-ADDRESS=Dartmouth Indoor Tennis 757 State Rd Dartmouth MA 02747 United States;X-APPLE-RADIUS=500;X-TITLE=757 State Rd:geo:-71.0298657,41.6380217
END:VEVENT
BEGIN:VEVENT
DTSTART;TZID=America/Halifax:20210221T141500
DTEND;TZID=America/Halifax:20210221T154500
DTSTAMP:20260421T224954
CREATED:20210105T150429Z
LAST-MODIFIED:20210515T124555Z
UID:10003575-1613916900-1613922300@adaptivesportsne.org
SUMMARY:Swim Team - ASNE (Wellesley)
DESCRIPTION:
URL:https://adaptivesportsne.org/event/swim-team-asne-wellesley-3/2021-02-21/
LOCATION:Wellesley Sports Center\, 900 Worcester St\, Wellesley\, MA\, 02482\, United States
CATEGORIES:Swimming
ORGANIZER;CN="Adaptive Sports New England":MAILTO:joe.walsh@adaptivesportsne.org
END:VEVENT
BEGIN:VEVENT
DTSTART;TZID=America/Halifax:20210224T130000
DTEND;TZID=America/Halifax:20210224T143000
DTSTAMP:20260421T224954
CREATED:20171214T174630Z
LAST-MODIFIED:20171214T174737Z
UID:10000864-1614171600-1614177000@adaptivesportsne.org
SUMMARY:Ice Skating - NEP (Portsmouth)
DESCRIPTION:Call 603-862-0070 or email email hidden; JavaScript is required.
URL:https://adaptivesportsne.org/event/ice-skating-nep-portsmouth/2021-02-24/
LOCATION:Puddle Dock Pond\, 14 Hancock St\, Portsmouth\, NH\, 03801\, United States
ORGANIZER;CN="Northeast Passage":MAILTO:northeast.passage@unh.edu
GEO:43.0750914;-70.7530756
X-APPLE-STRUCTURED-LOCATION;VALUE=URI;X-ADDRESS=Puddle Dock Pond 14 Hancock St Portsmouth NH 03801 United States;X-APPLE-RADIUS=500;X-TITLE=14 Hancock St:geo:-70.7530756,43.0750914
END:VEVENT
BEGIN:VEVENT
DTSTART;TZID=America/Halifax:20210228T141500
DTEND;TZID=America/Halifax:20210228T154500
DTSTAMP:20260421T224955
CREATED:20210105T150429Z
LAST-MODIFIED:20210515T124555Z
UID:10003576-1614521700-1614527100@adaptivesportsne.org
SUMMARY:Swim Team - ASNE (Wellesley)
DESCRIPTION:
URL:https://adaptivesportsne.org/event/swim-team-asne-wellesley-3/2021-02-28/
LOCATION:Wellesley Sports Center\, 900 Worcester St\, Wellesley\, MA\, 02482\, United States
CATEGORIES:Swimming
ORGANIZER;CN="Adaptive Sports New England":MAILTO:joe.walsh@adaptivesportsne.org
END:VEVENT
END:VCALENDAR