BEGIN:VCALENDAR
VERSION:2.0
PRODID:-//Adaptive Sports New England - ECPv6.15.20//NONSGML v1.0//EN
CALSCALE:GREGORIAN
METHOD:PUBLISH
X-ORIGINAL-URL:https://adaptivesportsne.org
X-WR-CALDESC:Events for Adaptive Sports New England
REFRESH-INTERVAL;VALUE=DURATION:PT1H
X-Robots-Tag:noindex
X-PUBLISHED-TTL:PT1H
BEGIN:VTIMEZONE
TZID:America/New_York
BEGIN:DAYLIGHT
TZOFFSETFROM:-0500
TZOFFSETTO:-0400
TZNAME:EDT
DTSTART:20280312T070000
END:DAYLIGHT
BEGIN:STANDARD
TZOFFSETFROM:-0400
TZOFFSETTO:-0500
TZNAME:EST
DTSTART:20281105T060000
END:STANDARD
BEGIN:DAYLIGHT
TZOFFSETFROM:-0500
TZOFFSETTO:-0400
TZNAME:EDT
DTSTART:20290311T070000
END:DAYLIGHT
BEGIN:STANDARD
TZOFFSETFROM:-0400
TZOFFSETTO:-0500
TZNAME:EST
DTSTART:20291104T060000
END:STANDARD
BEGIN:DAYLIGHT
TZOFFSETFROM:-0500
TZOFFSETTO:-0400
TZNAME:EDT
DTSTART:20300310T070000
END:DAYLIGHT
BEGIN:STANDARD
TZOFFSETFROM:-0400
TZOFFSETTO:-0500
TZNAME:EST
DTSTART:20301103T060000
END:STANDARD
END:VTIMEZONE
BEGIN:VEVENT
DTSTART;TZID=America/New_York:20290403T180000
DTEND;TZID=America/New_York:20290403T200000
DTSTAMP:20260421T131502
CREATED:20240925T184001Z
LAST-MODIFIED:20251223T165811Z
UID:10005072-1869933600-1869940800@adaptivesportsne.org
SUMMARY:Group Run - Achilles (Boston)
DESCRIPTION:
URL:https://adaptivesportsne.org/event/achilles-international-runs-aib-boston/2029-04-03/
LOCATION:276 Newbury St\, 276 Newbury St\, Boston\, MA\, 02116
CATEGORIES:Track/Running
ORGANIZER;CN="Achilles Boston":MAILTO:AchillesBoston@gmail.com
END:VEVENT
BEGIN:VEVENT
DTSTART;TZID=America/New_York:20290404T173000
DTEND;TZID=America/New_York:20290404T193000
DTSTAMP:20260421T131502
CREATED:20260127T200039Z
LAST-MODIFIED:20260128T163502Z
UID:10006438-1870018200-1870025400@adaptivesportsne.org
SUMMARY:Court Sports- Northeast Passage (Durham)
DESCRIPTION:
URL:https://adaptivesportsne.org/event/court-sports-northeast-passage/2029-04-04/
LOCATION:UNH Hamel Recreation Center\, Durham\, NH\, United States
CATEGORIES:Other Para Sports
ORGANIZER;CN="Northeast Passage":MAILTO:northeast.passage@unh.edu
END:VEVENT
BEGIN:VEVENT
DTSTART;TZID=America/New_York:20290407T090000
DTEND;TZID=America/New_York:20290407T110000
DTSTAMP:20260421T131502
CREATED:20240925T184107Z
LAST-MODIFIED:20251220T152657Z
UID:10005334-1870246800-1870254000@adaptivesportsne.org
SUMMARY:Group Run - Achilles (Boston)
DESCRIPTION:
URL:https://adaptivesportsne.org/event/achilles-international-runs-aib-boston-2/2029-04-07/
LOCATION:276 Newbury St\, 276 Newbury St\, Boston\, MA\, 02116
CATEGORIES:Track/Running
ORGANIZER;CN="Achilles Boston":MAILTO:AchillesBoston@gmail.com
END:VEVENT
BEGIN:VEVENT
DTSTART;TZID=America/New_York:20290410T180000
DTEND;TZID=America/New_York:20290410T200000
DTSTAMP:20260421T131502
CREATED:20240925T184001Z
LAST-MODIFIED:20251223T165811Z
UID:10005073-1870538400-1870545600@adaptivesportsne.org
SUMMARY:Group Run - Achilles (Boston)
DESCRIPTION:
URL:https://adaptivesportsne.org/event/achilles-international-runs-aib-boston/2029-04-10/
LOCATION:276 Newbury St\, 276 Newbury St\, Boston\, MA\, 02116
CATEGORIES:Track/Running
ORGANIZER;CN="Achilles Boston":MAILTO:AchillesBoston@gmail.com
END:VEVENT
BEGIN:VEVENT
DTSTART;TZID=America/New_York:20290411T173000
DTEND;TZID=America/New_York:20290411T193000
DTSTAMP:20260421T131502
CREATED:20260127T200039Z
LAST-MODIFIED:20260128T163502Z
UID:10006439-1870623000-1870630200@adaptivesportsne.org
SUMMARY:Court Sports- Northeast Passage (Durham)
DESCRIPTION:
URL:https://adaptivesportsne.org/event/court-sports-northeast-passage/2029-04-11/
LOCATION:UNH Hamel Recreation Center\, Durham\, NH\, United States
CATEGORIES:Other Para Sports
ORGANIZER;CN="Northeast Passage":MAILTO:northeast.passage@unh.edu
END:VEVENT
BEGIN:VEVENT
DTSTART;TZID=America/New_York:20290414T090000
DTEND;TZID=America/New_York:20290414T110000
DTSTAMP:20260421T131502
CREATED:20240925T184107Z
LAST-MODIFIED:20251220T152657Z
UID:10005335-1870851600-1870858800@adaptivesportsne.org
SUMMARY:Group Run - Achilles (Boston)
DESCRIPTION:
URL:https://adaptivesportsne.org/event/achilles-international-runs-aib-boston-2/2029-04-14/
LOCATION:276 Newbury St\, 276 Newbury St\, Boston\, MA\, 02116
CATEGORIES:Track/Running
ORGANIZER;CN="Achilles Boston":MAILTO:AchillesBoston@gmail.com
END:VEVENT
BEGIN:VEVENT
DTSTART;TZID=America/New_York:20290417T180000
DTEND;TZID=America/New_York:20290417T200000
DTSTAMP:20260421T131502
CREATED:20240925T184001Z
LAST-MODIFIED:20251223T165811Z
UID:10005074-1871143200-1871150400@adaptivesportsne.org
SUMMARY:Group Run - Achilles (Boston)
DESCRIPTION:
URL:https://adaptivesportsne.org/event/achilles-international-runs-aib-boston/2029-04-17/
LOCATION:276 Newbury St\, 276 Newbury St\, Boston\, MA\, 02116
CATEGORIES:Track/Running
ORGANIZER;CN="Achilles Boston":MAILTO:AchillesBoston@gmail.com
END:VEVENT
BEGIN:VEVENT
DTSTART;TZID=America/New_York:20290418T173000
DTEND;TZID=America/New_York:20290418T193000
DTSTAMP:20260421T131502
CREATED:20260127T200039Z
LAST-MODIFIED:20260128T163502Z
UID:10006440-1871227800-1871235000@adaptivesportsne.org
SUMMARY:Court Sports- Northeast Passage (Durham)
DESCRIPTION:
URL:https://adaptivesportsne.org/event/court-sports-northeast-passage/2029-04-18/
LOCATION:UNH Hamel Recreation Center\, Durham\, NH\, United States
CATEGORIES:Other Para Sports
ORGANIZER;CN="Northeast Passage":MAILTO:northeast.passage@unh.edu
END:VEVENT
BEGIN:VEVENT
DTSTART;TZID=America/New_York:20290421T090000
DTEND;TZID=America/New_York:20290421T110000
DTSTAMP:20260421T131502
CREATED:20240925T184107Z
LAST-MODIFIED:20251220T152657Z
UID:10005336-1871456400-1871463600@adaptivesportsne.org
SUMMARY:Group Run - Achilles (Boston)
DESCRIPTION:
URL:https://adaptivesportsne.org/event/achilles-international-runs-aib-boston-2/2029-04-21/
LOCATION:276 Newbury St\, 276 Newbury St\, Boston\, MA\, 02116
CATEGORIES:Track/Running
ORGANIZER;CN="Achilles Boston":MAILTO:AchillesBoston@gmail.com
END:VEVENT
BEGIN:VEVENT
DTSTART;TZID=America/New_York:20290424T180000
DTEND;TZID=America/New_York:20290424T200000
DTSTAMP:20260421T131502
CREATED:20240925T184001Z
LAST-MODIFIED:20251223T165811Z
UID:10005075-1871748000-1871755200@adaptivesportsne.org
SUMMARY:Group Run - Achilles (Boston)
DESCRIPTION:
URL:https://adaptivesportsne.org/event/achilles-international-runs-aib-boston/2029-04-24/
LOCATION:276 Newbury St\, 276 Newbury St\, Boston\, MA\, 02116
CATEGORIES:Track/Running
ORGANIZER;CN="Achilles Boston":MAILTO:AchillesBoston@gmail.com
END:VEVENT
BEGIN:VEVENT
DTSTART;TZID=America/New_York:20290425T173000
DTEND;TZID=America/New_York:20290425T193000
DTSTAMP:20260421T131502
CREATED:20260127T200039Z
LAST-MODIFIED:20260128T163502Z
UID:10006441-1871832600-1871839800@adaptivesportsne.org
SUMMARY:Court Sports- Northeast Passage (Durham)
DESCRIPTION:
URL:https://adaptivesportsne.org/event/court-sports-northeast-passage/2029-04-25/
LOCATION:UNH Hamel Recreation Center\, Durham\, NH\, United States
CATEGORIES:Other Para Sports
ORGANIZER;CN="Northeast Passage":MAILTO:northeast.passage@unh.edu
END:VEVENT
BEGIN:VEVENT
DTSTART;TZID=America/New_York:20290428T090000
DTEND;TZID=America/New_York:20290428T110000
DTSTAMP:20260421T131502
CREATED:20240925T184107Z
LAST-MODIFIED:20251220T152657Z
UID:10005337-1872061200-1872068400@adaptivesportsne.org
SUMMARY:Group Run - Achilles (Boston)
DESCRIPTION:
URL:https://adaptivesportsne.org/event/achilles-international-runs-aib-boston-2/2029-04-28/
LOCATION:276 Newbury St\, 276 Newbury St\, Boston\, MA\, 02116
CATEGORIES:Track/Running
ORGANIZER;CN="Achilles Boston":MAILTO:AchillesBoston@gmail.com
END:VEVENT
END:VCALENDAR