BEGIN:VCALENDAR
VERSION:2.0
PRODID:-//Adaptive Sports New England - ECPv6.15.20//NONSGML v1.0//EN
CALSCALE:GREGORIAN
METHOD:PUBLISH
X-ORIGINAL-URL:https://adaptivesportsne.org
X-WR-CALDESC:Events for Adaptive Sports New England
REFRESH-INTERVAL;VALUE=DURATION:PT1H
X-Robots-Tag:noindex
X-PUBLISHED-TTL:PT1H
BEGIN:VTIMEZONE
TZID:America/Halifax
BEGIN:DAYLIGHT
TZOFFSETFROM:-0400
TZOFFSETTO:-0300
TZNAME:ADT
DTSTART:20140309T060000
END:DAYLIGHT
BEGIN:STANDARD
TZOFFSETFROM:-0300
TZOFFSETTO:-0400
TZNAME:AST
DTSTART:20141102T050000
END:STANDARD
BEGIN:DAYLIGHT
TZOFFSETFROM:-0400
TZOFFSETTO:-0300
TZNAME:ADT
DTSTART:20150308T060000
END:DAYLIGHT
BEGIN:STANDARD
TZOFFSETFROM:-0300
TZOFFSETTO:-0400
TZNAME:AST
DTSTART:20151101T050000
END:STANDARD
BEGIN:DAYLIGHT
TZOFFSETFROM:-0400
TZOFFSETTO:-0300
TZNAME:ADT
DTSTART:20160313T060000
END:DAYLIGHT
BEGIN:STANDARD
TZOFFSETFROM:-0300
TZOFFSETTO:-0400
TZNAME:AST
DTSTART:20161106T050000
END:STANDARD
END:VTIMEZONE
BEGIN:VEVENT
DTSTART;TZID=America/Halifax:20150604T080000
DTEND;TZID=America/Halifax:20150604T110000
DTSTAMP:20260419T112819
CREATED:20150518T191244Z
LAST-MODIFIED:20150518T192014Z
UID:10000136-1433404800-1433415600@adaptivesportsne.org
SUMMARY:Kayaking
DESCRIPTION:with Northeast Passage ($30/event includes equipment and instruction. $5/own equipment) Pre-registration is required
URL:https://adaptivesportsne.org/event/kayaking-11/
LOCATION:Fundy Cove\, Nottingham\, NH\, United States
ORGANIZER;CN="Northeast Passage":MAILTO:northeast.passage@unh.edu
GEO:43.1145285;-71.099784
END:VEVENT
BEGIN:VEVENT
DTSTART;TZID=America/Halifax:20150617T170000
DTEND;TZID=America/Halifax:20150617T193000
DTSTAMP:20260419T112819
CREATED:20150518T014734Z
LAST-MODIFIED:20150518T014734Z
UID:10000331-1434560400-1434569400@adaptivesportsne.org
SUMMARY:Kayaking
DESCRIPTION:with Spaulding Adaptive Sports Center ($20)
URL:https://adaptivesportsne.org/event/kayaking-6/
LOCATION:Camp Lyndon\, Sandwich\, MA\, United States
ORGANIZER;CN="Spaulding Adaptive Sports Centers":MAILTO:scarper@partners.org
GEO:41.7589615;-70.4939317
END:VEVENT
BEGIN:VEVENT
DTSTART;TZID=America/Halifax:20150620T120000
DTEND;TZID=America/Halifax:20150620T140000
DTSTAMP:20260419T112819
CREATED:20150518T191435Z
LAST-MODIFIED:20150518T191435Z
UID:10000138-1434801600-1434808800@adaptivesportsne.org
SUMMARY:Kayaking
DESCRIPTION:with Northeast Passage ($30/event includes equipment and instruction. $5/own equipment) Pre-registration is required
URL:https://adaptivesportsne.org/event/kayaking-12/
LOCATION:Odiorne Point\, Rye\, NH\, United States
ORGANIZER;CN="Northeast Passage":MAILTO:northeast.passage@unh.edu
GEO:43.0019301;-70.7695547
END:VEVENT
BEGIN:VEVENT
DTSTART;TZID=America/Halifax:20150624T100000
DTEND;TZID=America/Halifax:20150624T120000
DTSTAMP:20260419T112819
CREATED:20150518T172325Z
LAST-MODIFIED:20150603T003229Z
UID:10000342-1435140000-1435147200@adaptivesportsne.org
SUMMARY:Kayaking
DESCRIPTION:with Spaulding Adaptive Sports Center ($20 per session) Session A:10am-12pm\, Session B:12:30 pm – 2:30 pm
URL:https://adaptivesportsne.org/event/kayaking-9/2015-06-24/
LOCATION:Lake Chebacco\, Hamilton\, MA\, United States
ORGANIZER;CN="Spaulding Adaptive Sports Centers":MAILTO:scarper@partners.org
GEO:42.6362052;-70.8431049
END:VEVENT
BEGIN:VEVENT
DTSTART;TZID=America/Halifax:20150625T100000
DTEND;TZID=America/Halifax:20150625T123000
DTSTAMP:20260419T112819
CREATED:20150517T174517Z
LAST-MODIFIED:20150603T003606Z
UID:10000119-1435226400-1435235400@adaptivesportsne.org
SUMMARY:Kayaking
DESCRIPTION:with Spaulding Rehabilitation Hospital Adaptive Sports Center ($20 per session) Session A: 10am-12:30pm\, Session B: 1:30pm-4pm
URL:https://adaptivesportsne.org/event/kayaking-4/2015-06-25/
LOCATION:Spaulding Rehabilitation Hospital\, 300 First Avenue\, Charlestown\, MA\, United States
ORGANIZER;CN="Spaulding Adaptive Sports Centers":MAILTO:scarper@partners.org
GEO:42.3785133;-71.049126
X-APPLE-STRUCTURED-LOCATION;VALUE=URI;X-ADDRESS=Spaulding Rehabilitation Hospital 300 First Avenue Charlestown MA United States;X-APPLE-RADIUS=500;X-TITLE=300 First Avenue:geo:-71.049126,42.3785133
END:VEVENT
END:VCALENDAR