BEGIN:VCALENDAR
VERSION:2.0
PRODID:-//Adaptive Sports New England - ECPv6.15.20//NONSGML v1.0//EN
CALSCALE:GREGORIAN
METHOD:PUBLISH
X-WR-CALNAME:Adaptive Sports New England
X-ORIGINAL-URL:https://adaptivesportsne.org
X-WR-CALDESC:Events for Adaptive Sports New England
REFRESH-INTERVAL;VALUE=DURATION:PT1H
X-Robots-Tag:noindex
X-PUBLISHED-TTL:PT1H
BEGIN:VTIMEZONE
TZID:America/Halifax
BEGIN:DAYLIGHT
TZOFFSETFROM:-0400
TZOFFSETTO:-0300
TZNAME:ADT
DTSTART:20130310T060000
END:DAYLIGHT
BEGIN:STANDARD
TZOFFSETFROM:-0300
TZOFFSETTO:-0400
TZNAME:AST
DTSTART:20131103T050000
END:STANDARD
BEGIN:DAYLIGHT
TZOFFSETFROM:-0400
TZOFFSETTO:-0300
TZNAME:ADT
DTSTART:20140309T060000
END:DAYLIGHT
BEGIN:STANDARD
TZOFFSETFROM:-0300
TZOFFSETTO:-0400
TZNAME:AST
DTSTART:20141102T050000
END:STANDARD
BEGIN:DAYLIGHT
TZOFFSETFROM:-0400
TZOFFSETTO:-0300
TZNAME:ADT
DTSTART:20150308T060000
END:DAYLIGHT
BEGIN:STANDARD
TZOFFSETFROM:-0300
TZOFFSETTO:-0400
TZNAME:AST
DTSTART:20151101T050000
END:STANDARD
BEGIN:DAYLIGHT
TZOFFSETFROM:-0400
TZOFFSETTO:-0300
TZNAME:ADT
DTSTART:20160313T060000
END:DAYLIGHT
BEGIN:STANDARD
TZOFFSETFROM:-0300
TZOFFSETTO:-0400
TZNAME:AST
DTSTART:20161106T050000
END:STANDARD
END:VTIMEZONE
BEGIN:VTIMEZONE
TZID:UTC
BEGIN:STANDARD
TZOFFSETFROM:+0000
TZOFFSETTO:+0000
TZNAME:UTC
DTSTART:20140101T000000
END:STANDARD
END:VTIMEZONE
BEGIN:VTIMEZONE
TZID:America/Halifax
BEGIN:DAYLIGHT
TZOFFSETFROM:-0400
TZOFFSETTO:-0300
TZNAME:ADT
DTSTART:20150308T060000
END:DAYLIGHT
BEGIN:STANDARD
TZOFFSETFROM:-0300
TZOFFSETTO:-0400
TZNAME:AST
DTSTART:20151101T050000
END:STANDARD
BEGIN:DAYLIGHT
TZOFFSETFROM:-0400
TZOFFSETTO:-0300
TZNAME:ADT
DTSTART:20160313T060000
END:DAYLIGHT
BEGIN:STANDARD
TZOFFSETFROM:-0300
TZOFFSETTO:-0400
TZNAME:AST
DTSTART:20161106T050000
END:STANDARD
BEGIN:DAYLIGHT
TZOFFSETFROM:-0400
TZOFFSETTO:-0300
TZNAME:ADT
DTSTART:20170312T060000
END:DAYLIGHT
BEGIN:STANDARD
TZOFFSETFROM:-0300
TZOFFSETTO:-0400
TZNAME:AST
DTSTART:20171105T050000
END:STANDARD
END:VTIMEZONE
BEGIN:VEVENT
DTSTART;TZID=America/Halifax:20140515T183000
DTEND;TZID=America/Halifax:20140515T200000
DTSTAMP:20260419T232804
CREATED:20140313T185711Z
LAST-MODIFIED:20140313T214151Z
UID:10000038-1400178600-1400184000@adaptivesportsne.org
SUMMARY:Rowing-Tu/Th
DESCRIPTION:
URL:https://adaptivesportsne.org/event/adaptive-rowing-tuethu-2-3/2014-05-15/
LOCATION:Harry Parker Boathouse\, 20 Nonantum Road\, Brighton\, MA\, 02135\, United States
ORGANIZER;CN="Community Rowing%2C Inc.":MAILTO:jenny@communityrowing.org
GEO:42.3587003;-71.1656869
X-APPLE-STRUCTURED-LOCATION;VALUE=URI;X-ADDRESS=Harry Parker Boathouse 20 Nonantum Road Brighton MA 02135 United States;X-APPLE-RADIUS=500;X-TITLE=20 Nonantum Road:geo:-71.1656869,42.3587003
END:VEVENT
BEGIN:VEVENT
DTSTART;TZID=America/Halifax:20140609T073000
DTEND;TZID=America/Halifax:20140609T090000
DTSTAMP:20260419T232804
CREATED:20140523T225738Z
LAST-MODIFIED:20140523T225738Z
UID:10000146-1402299000-1402304400@adaptivesportsne.org
SUMMARY:Rowing-Adv
DESCRIPTION:Advanced Crew and Sculls
URL:https://adaptivesportsne.org/event/rowing-adv/2014-06-09/
LOCATION:Harry Parker Boathouse\, 20 Nonantum Road\, Brighton\, MA\, 02135\, United States
ORGANIZER;CN="Community Rowing%2C Inc.":MAILTO:jenny@communityrowing.org
GEO:42.3587003;-71.1656869
X-APPLE-STRUCTURED-LOCATION;VALUE=URI;X-ADDRESS=Harry Parker Boathouse 20 Nonantum Road Brighton MA 02135 United States;X-APPLE-RADIUS=500;X-TITLE=20 Nonantum Road:geo:-71.1656869,42.3587003
END:VEVENT
BEGIN:VEVENT
DTSTART;TZID=America/Halifax:20140610T170000
DTEND;TZID=America/Halifax:20140610T200000
DTSTAMP:20260419T232804
CREATED:20140523T225038Z
LAST-MODIFIED:20140531T142228Z
UID:10000145-1402419600-1402430400@adaptivesportsne.org
SUMMARY:Rowing-Tu/Th
DESCRIPTION:Under 25 group 5:00-6:30 pm \nGeneral Pararowing 6:30-8:00pm
URL:https://adaptivesportsne.org/event/rowing/2014-06-10/
LOCATION:Harry Parker Boathouse\, 20 Nonantum Road\, Brighton\, MA\, 02135\, United States
ORGANIZER;CN="Community Rowing%2C Inc.":MAILTO:jenny@communityrowing.org
GEO:42.3587003;-71.1656869
X-APPLE-STRUCTURED-LOCATION;VALUE=URI;X-ADDRESS=Harry Parker Boathouse 20 Nonantum Road Brighton MA 02135 United States;X-APPLE-RADIUS=500;X-TITLE=20 Nonantum Road:geo:-71.1656869,42.3587003
END:VEVENT
BEGIN:VEVENT
DTSTART;TZID=America/Halifax:20140901T073000
DTEND;TZID=America/Halifax:20140901T210000
DTSTAMP:20260419T232804
CREATED:20140901T145655Z
LAST-MODIFIED:20140903T014616Z
UID:10000163-1409556600-1409605200@adaptivesportsne.org
SUMMARY:Advncd Rowing
DESCRIPTION:All Para Rowing categories
URL:https://adaptivesportsne.org/event/advanced-crew/2014-09-01/
LOCATION:Harry Parker Boathouse\, 20 Nonantum Road\, Brighton\, MA\, 02135\, United States
ORGANIZER;CN="Community Rowing%2C Inc.":MAILTO:jenny@communityrowing.org
GEO:42.3587003;-71.1656869
X-APPLE-STRUCTURED-LOCATION;VALUE=URI;X-ADDRESS=Harry Parker Boathouse 20 Nonantum Road Brighton MA 02135 United States;X-APPLE-RADIUS=500;X-TITLE=20 Nonantum Road:geo:-71.1656869,42.3587003
END:VEVENT
BEGIN:VEVENT
DTSTART;TZID=America/Halifax:20140902T170000
DTEND;TZID=America/Halifax:20140902T183000
DTSTAMP:20260419T232804
CREATED:20140901T144832Z
LAST-MODIFIED:20141014T000912Z
UID:10000158-1409677200-1409682600@adaptivesportsne.org
SUMMARY:Rowing - U23
DESCRIPTION:Community Rowing \nLegs\, Trunk and Arms crew only
URL:https://adaptivesportsne.org/event/u23-crew/2014-09-02/
LOCATION:Harry Parker Boathouse\, 20 Nonantum Road\, Brighton\, MA\, 02135\, United States
ORGANIZER;CN="Community Rowing%2C Inc.":MAILTO:jenny@communityrowing.org
GEO:42.3587003;-71.1656869
X-APPLE-STRUCTURED-LOCATION;VALUE=URI;X-ADDRESS=Harry Parker Boathouse 20 Nonantum Road Brighton MA 02135 United States;X-APPLE-RADIUS=500;X-TITLE=20 Nonantum Road:geo:-71.1656869,42.3587003
END:VEVENT
BEGIN:VEVENT
DTSTART;TZID=America/Halifax:20140902T183000
DTEND;TZID=America/Halifax:20140902T200000
DTSTAMP:20260419T232804
CREATED:20140901T145335Z
LAST-MODIFIED:20141014T000820Z
UID:10000160-1409682600-1409688000@adaptivesportsne.org
SUMMARY:Rowing
DESCRIPTION:Community Rowing \nAll Para Rowing categories: sculling and sweep.
URL:https://adaptivesportsne.org/event/rowing-boston/2014-09-02/
LOCATION:Harry Parker Boathouse\, 20 Nonantum Road\, Brighton\, MA\, 02135\, United States
ORGANIZER;CN="Community Rowing%2C Inc.":MAILTO:jenny@communityrowing.org
GEO:42.3587003;-71.1656869
X-APPLE-STRUCTURED-LOCATION;VALUE=URI;X-ADDRESS=Harry Parker Boathouse 20 Nonantum Road Brighton MA 02135 United States;X-APPLE-RADIUS=500;X-TITLE=20 Nonantum Road:geo:-71.1656869,42.3587003
END:VEVENT
BEGIN:VEVENT
DTSTART;TZID=America/Halifax:20140908T073000
DTEND;TZID=America/Halifax:20140908T090000
DTSTAMP:20260419T232804
CREATED:20140903T015020Z
LAST-MODIFIED:20141014T000000Z
UID:10000166-1410161400-1410166800@adaptivesportsne.org
SUMMARY:Rowing-Advncd
DESCRIPTION:Community Rowing \nAll Para Rowing categories \n 
URL:https://adaptivesportsne.org/event/advncd-rowing/2014-09-08/
LOCATION:Harry Parker Boathouse\, 20 Nonantum Road\, Brighton\, MA\, 02135\, United States
ORGANIZER;CN="Community Rowing%2C Inc.":MAILTO:jenny@communityrowing.org
GEO:42.3587003;-71.1656869
X-APPLE-STRUCTURED-LOCATION;VALUE=URI;X-ADDRESS=Harry Parker Boathouse 20 Nonantum Road Brighton MA 02135 United States;X-APPLE-RADIUS=500;X-TITLE=20 Nonantum Road:geo:-71.1656869,42.3587003
END:VEVENT
BEGIN:VEVENT
DTSTART;TZID=America/Halifax:20141201T073000
DTEND;TZID=America/Halifax:20141201T090000
DTSTAMP:20260419T232804
CREATED:20141206T213038Z
LAST-MODIFIED:20150101T205655Z
UID:10000240-1417419000-1417424400@adaptivesportsne.org
SUMMARY:Rowing 1 (adv.)
DESCRIPTION:with Community Rowing.  Advanced group training.
URL:https://adaptivesportsne.org/event/advncd-rowing-2/2014-12-01/
LOCATION:Harry Parker Boathouse\, 20 Nonantum Road\, Brighton\, MA\, 02135\, United States
ORGANIZER;CN="Community Rowing%2C Inc.":MAILTO:jenny@communityrowing.org
GEO:42.3587003;-71.1656869
X-APPLE-STRUCTURED-LOCATION;VALUE=URI;X-ADDRESS=Harry Parker Boathouse 20 Nonantum Road Brighton MA 02135 United States;X-APPLE-RADIUS=500;X-TITLE=20 Nonantum Road:geo:-71.1656869,42.3587003
END:VEVENT
BEGIN:VEVENT
DTSTART;TZID=America/Halifax:20141202T170000
DTEND;TZID=America/Halifax:20141202T200000
DTSTAMP:20260419T232804
CREATED:20141206T211654Z
LAST-MODIFIED:20150101T205347Z
UID:10000238-1417539600-1417550400@adaptivesportsne.org
SUMMARY:Rowing 2&3
DESCRIPTION:with Community Rowing: Two groups – U25 LTA Crew @ 5:00-6:30; General ParaRowing @ 6:30-8:00
URL:https://adaptivesportsne.org/event/indoor-rowing/2014-12-02/
LOCATION:Harry Parker Boathouse\, 20 Nonantum Road\, Brighton\, MA\, 02135\, United States
ORGANIZER;CN="Community Rowing%2C Inc.":MAILTO:jenny@communityrowing.org
GEO:42.3587003;-71.1656869
X-APPLE-STRUCTURED-LOCATION;VALUE=URI;X-ADDRESS=Harry Parker Boathouse 20 Nonantum Road Brighton MA 02135 United States;X-APPLE-RADIUS=500;X-TITLE=20 Nonantum Road:geo:-71.1656869,42.3587003
END:VEVENT
BEGIN:VEVENT
DTSTART;TZID=America/Halifax:20141203T103000
DTEND;TZID=America/Halifax:20141203T120000
DTSTAMP:20260419T232804
CREATED:20141206T211820Z
LAST-MODIFIED:20150101T205534Z
UID:10000239-1417602600-1417608000@adaptivesportsne.org
SUMMARY:Rowing 4
DESCRIPTION:with Community Rowing
URL:https://adaptivesportsne.org/event/indoor-rowing-2/2014-12-03/
LOCATION:Harry Parker Boathouse\, 20 Nonantum Road\, Brighton\, MA\, 02135\, United States
ORGANIZER;CN="Community Rowing%2C Inc.":MAILTO:jenny@communityrowing.org
GEO:42.3587003;-71.1656869
X-APPLE-STRUCTURED-LOCATION;VALUE=URI;X-ADDRESS=Harry Parker Boathouse 20 Nonantum Road Brighton MA 02135 United States;X-APPLE-RADIUS=500;X-TITLE=20 Nonantum Road:geo:-71.1656869,42.3587003
END:VEVENT
BEGIN:VEVENT
DTSTART;TZID=America/Halifax:20150608T073000
DTEND;TZID=America/Halifax:20150608T090000
DTSTAMP:20260419T232804
CREATED:20150715T162229Z
LAST-MODIFIED:20150715T164116Z
UID:10000365-1433748600-1433754000@adaptivesportsne.org
SUMMARY:Rowing (Adv)
DESCRIPTION:Advanced Para Rowing with Community Rowing
URL:https://adaptivesportsne.org/event/rowing-advanced/2015-06-08/
LOCATION:Harry Parker Boathouse\, 20 Nonantum Road\, Brighton\, MA\, 02135\, United States
ORGANIZER;CN="Community Rowing%2C Inc.":MAILTO:jenny@communityrowing.org
GEO:42.3587003;-71.1656869
X-APPLE-STRUCTURED-LOCATION;VALUE=URI;X-ADDRESS=Harry Parker Boathouse 20 Nonantum Road Brighton MA 02135 United States;X-APPLE-RADIUS=500;X-TITLE=20 Nonantum Road:geo:-71.1656869,42.3587003
END:VEVENT
BEGIN:VEVENT
DTSTART;TZID=America/Halifax:20150609T170000
DTEND;TZID=America/Halifax:20150609T183000
DTSTAMP:20260419T232804
CREATED:20150715T162525Z
LAST-MODIFIED:20150715T163402Z
UID:10000367-1433869200-1433874600@adaptivesportsne.org
SUMMARY:U25 Rowing
DESCRIPTION:with Community Rowing (Legs\, Trunk & Arms classification)
URL:https://adaptivesportsne.org/event/u25-rowing/2015-06-09/
LOCATION:Harry Parker Boathouse\, 20 Nonantum Road\, Brighton\, MA\, 02135\, United States
ORGANIZER;CN="Community Rowing%2C Inc.":MAILTO:jenny@communityrowing.org
GEO:42.3587003;-71.1656869
X-APPLE-STRUCTURED-LOCATION;VALUE=URI;X-ADDRESS=Harry Parker Boathouse 20 Nonantum Road Brighton MA 02135 United States;X-APPLE-RADIUS=500;X-TITLE=20 Nonantum Road:geo:-71.1656869,42.3587003
END:VEVENT
BEGIN:VEVENT
DTSTART;TZID=America/Halifax:20150609T183000
DTEND;TZID=America/Halifax:20150609T203000
DTSTAMP:20260419T232804
CREATED:20150715T164743Z
LAST-MODIFIED:20150715T164743Z
UID:10000370-1433874600-1433881800@adaptivesportsne.org
SUMMARY:Rowing (Gen)
DESCRIPTION:General Para Rowing with Community Rowing
URL:https://adaptivesportsne.org/event/rowing-gen/2015-06-09/
LOCATION:Harry Parker Boathouse\, 20 Nonantum Road\, Brighton\, MA\, 02135\, United States
ORGANIZER;CN="Community Rowing%2C Inc.":MAILTO:jenny@communityrowing.org
GEO:42.3587003;-71.1656869
X-APPLE-STRUCTURED-LOCATION;VALUE=URI;X-ADDRESS=Harry Parker Boathouse 20 Nonantum Road Brighton MA 02135 United States;X-APPLE-RADIUS=500;X-TITLE=20 Nonantum Road:geo:-71.1656869,42.3587003
END:VEVENT
BEGIN:VEVENT
DTSTART;TZID=America/Halifax:20150620T120000
DTEND;TZID=America/Halifax:20150620T160000
DTSTAMP:20260419T232804
CREATED:20150425T124951Z
LAST-MODIFIED:20150618T163628Z
UID:10000288-1434801600-1434816000@adaptivesportsne.org
SUMMARY:PARALYMPIC EXPERIENCE
DESCRIPTION:Mapy of Paralympic Experience at Newton North High School. 475 Walnut Street\, Newton\, MA \nJoin us at this multi-sport introductory and informational clinic. \nYou can try 10 sports and learn about more than 25 New England adaptive sport programs.\nREGISTER (for free) AT THE BOTTOM OF THIS PAGE.\n  \nThe Paralympic Experience is designed specifically for youth and adults who have visual or mobility impairments. All ages and levels of expertise welcome. \nThere will be individual attention for beginners and expert coaching for serious athletes. Parents\, friends\, and supporters will learn from one another and from top professionals.  Join an affinity group for young athletes\, high school athletes\, women or veterans.  Drop-in anytime 12:00-4:00.\n\nYOU CAN TRY: wheelchair track racing\, running\, soccer\, tennis\, basketball\, rowing\, softball\, beep baseball and golf.\n\nYOU WILL ALSO LEARN ABOUT AREA PROGRAMS in all of  the above\nClick to download a PDF of this flyer (8.5″ x 11″) \nsports and additional sport recreational activities.\n\n \nPARALYMPIC EXPERIENCE CO-HOSTS: Spaulding Adaptive Sports Centers\, Community Rowing\, South Boston Boys & Girls Club\, Dorchester Boys & Girls Club\, Youth Enrichment Services\, South Shore YMCA\, Play Brigade\, New England Handicapped Sports Association\, New England Wheelchair Sports\, New England Wheelchair Athletic Association\, Access Recreation Boston\, Waypoint Adventure\, City of Newton Parks & Recreation\, and Boston 2024.\nrks & Recreation\, and Boston 2024.\n\nREGISTER below to attend\, or for more\ninformation on how to participate:\n\n\nE-mail our team at email hidden; JavaScript is required\nCall 617-982-2763 for more information.\n\n  \n 
URL:https://adaptivesportsne.org/event/paralympic-experience/
LOCATION:Newton North High School\, 457 Walnut Street\, Newton\, MA\, 02460\, United States
ORGANIZER;CN="Adaptive Sports New England":MAILTO:joe.walsh@adaptivesportsne.org
GEO:42.3449976;-71.2077738
X-APPLE-STRUCTURED-LOCATION;VALUE=URI;X-ADDRESS=Newton North High School 457 Walnut Street Newton MA 02460 United States;X-APPLE-RADIUS=500;X-TITLE=457 Walnut Street:geo:-71.2077738,42.3449976
END:VEVENT
BEGIN:VEVENT
DTSTART;TZID=America/Halifax:20150831T073000
DTEND;TZID=America/Halifax:20150831T090000
DTSTAMP:20260419T232804
CREATED:20150904T233941Z
LAST-MODIFIED:20150904T233941Z
UID:10000386-1441006200-1441011600@adaptivesportsne.org
SUMMARY:Adv Rowing
DESCRIPTION:with CRI
URL:https://adaptivesportsne.org/event/adv-rowing/2015-08-31/
LOCATION:Harry Parker Boathouse\, 20 Nonantum Road\, Brighton\, MA\, 02135\, United States
ORGANIZER;CN="Community Rowing%2C Inc.":MAILTO:jenny@communityrowing.org
GEO:42.3587003;-71.1656869
X-APPLE-STRUCTURED-LOCATION;VALUE=URI;X-ADDRESS=Harry Parker Boathouse 20 Nonantum Road Brighton MA 02135 United States;X-APPLE-RADIUS=500;X-TITLE=20 Nonantum Road:geo:-71.1656869,42.3587003
END:VEVENT
BEGIN:VEVENT
DTSTART;TZID=America/Halifax:20150901T170000
DTEND;TZID=America/Halifax:20150901T183000
DTSTAMP:20260419T232804
CREATED:20150904T234331Z
LAST-MODIFIED:20150904T234343Z
UID:10000387-1441126800-1441132200@adaptivesportsne.org
SUMMARY:U25 Rowing
DESCRIPTION:Legs\, Trunk & Arms rowing for youth/U25 with CRI
URL:https://adaptivesportsne.org/event/u25-rowing-2/2015-09-01/
LOCATION:Harry Parker Boathouse\, 20 Nonantum Road\, Brighton\, MA\, 02135\, United States
ORGANIZER;CN="Community Rowing%2C Inc.":MAILTO:jenny@communityrowing.org
GEO:42.3587003;-71.1656869
X-APPLE-STRUCTURED-LOCATION;VALUE=URI;X-ADDRESS=Harry Parker Boathouse 20 Nonantum Road Brighton MA 02135 United States;X-APPLE-RADIUS=500;X-TITLE=20 Nonantum Road:geo:-71.1656869,42.3587003
END:VEVENT
BEGIN:VEVENT
DTSTART;TZID=America/Halifax:20150901T183000
DTEND;TZID=America/Halifax:20150901T200000
DTSTAMP:20260419T232804
CREATED:20150904T233217Z
LAST-MODIFIED:20150904T233217Z
UID:10000382-1441132200-1441137600@adaptivesportsne.org
SUMMARY:Rowing (1)
DESCRIPTION:Open Para Rowing at CRI
URL:https://adaptivesportsne.org/event/rowing-1/2015-09-01/
LOCATION:Harry Parker Boathouse\, 20 Nonantum Road\, Brighton\, MA\, 02135\, United States
ORGANIZER;CN="Community Rowing%2C Inc.":MAILTO:jenny@communityrowing.org
GEO:42.3587003;-71.1656869
X-APPLE-STRUCTURED-LOCATION;VALUE=URI;X-ADDRESS=Harry Parker Boathouse 20 Nonantum Road Brighton MA 02135 United States;X-APPLE-RADIUS=500;X-TITLE=20 Nonantum Road:geo:-71.1656869,42.3587003
END:VEVENT
BEGIN:VEVENT
DTSTART;TZID=America/Halifax:20150902T103000
DTEND;TZID=America/Halifax:20150902T120000
DTSTAMP:20260419T232804
CREATED:20150904T233556Z
LAST-MODIFIED:20150904T233556Z
UID:10000384-1441189800-1441195200@adaptivesportsne.org
SUMMARY:Rowing (2)
DESCRIPTION:Open Para Rowing with CRI
URL:https://adaptivesportsne.org/event/rowing-2/2015-09-02/
LOCATION:Harry Parker Boathouse\, 20 Nonantum Road\, Brighton\, MA\, 02135\, United States
ORGANIZER;CN="Community Rowing%2C Inc.":MAILTO:jenny@communityrowing.org
GEO:42.3587003;-71.1656869
X-APPLE-STRUCTURED-LOCATION;VALUE=URI;X-ADDRESS=Harry Parker Boathouse 20 Nonantum Road Brighton MA 02135 United States;X-APPLE-RADIUS=500;X-TITLE=20 Nonantum Road:geo:-71.1656869,42.3587003
END:VEVENT
BEGIN:VEVENT
DTSTART;VALUE=DATE:20151004
DTEND;VALUE=DATE:20151005
DTSTAMP:20260419T232804
CREATED:20150426T130611Z
LAST-MODIFIED:20150627T132147Z
UID:10000293-1443916800-1444003199@adaptivesportsne.org
SUMMARY:Gateway to Gold
DESCRIPTION:U.S. Paralympics Northeast Regional Talent Identification Day.
URL:https://adaptivesportsne.org/event/gateway-to-gold/
LOCATION:Tufts University – Tisch Sports & Fitness Center\, 161 College Ave\, Medford\, MA\, 02155\, United States
ORGANIZER;CN="Adaptive Sports New England":MAILTO:joe.walsh@adaptivesportsne.org
GEO:42.4081636;-71.1160096
X-APPLE-STRUCTURED-LOCATION;VALUE=URI;X-ADDRESS=Tufts University – Tisch Sports & Fitness Center 161 College Ave Medford MA 02155 United States;X-APPLE-RADIUS=500;X-TITLE=161 College Ave:geo:-71.1160096,42.4081636
END:VEVENT
BEGIN:VEVENT
DTSTART;VALUE=DATE:20151017
DTEND;VALUE=DATE:20151019
DTSTAMP:20260419T232804
CREATED:20151015T170335Z
LAST-MODIFIED:20151015T170335Z
UID:10000159-1445040000-1445212799@adaptivesportsne.org
SUMMARY:Head of the Charles Regatta
DESCRIPTION:ADAPTIVE RACES AT 8:00 AM ON SUNDAY.
URL:https://adaptivesportsne.org/event/head-of-the-charles-regatta/
LOCATION:MA
END:VEVENT
BEGIN:VEVENT
DTSTART;TZID=America/Halifax:20151102T073000
DTEND;TZID=America/Halifax:20151102T090000
DTSTAMP:20260419T232804
CREATED:20151111T194635Z
LAST-MODIFIED:20151111T194941Z
UID:10000463-1446449400-1446454800@adaptivesportsne.org
SUMMARY:Adv. Rowing
DESCRIPTION:with Community Rowing\, Inc.
URL:https://adaptivesportsne.org/event/adv-rowing-2/2015-11-02/
LOCATION:Harry Parker Boathouse\, 20 Nonantum Road\, Brighton\, MA\, 02135\, United States
ORGANIZER;CN="Community Rowing%2C Inc.":MAILTO:jenny@communityrowing.org
GEO:42.3587003;-71.1656869
X-APPLE-STRUCTURED-LOCATION;VALUE=URI;X-ADDRESS=Harry Parker Boathouse 20 Nonantum Road Brighton MA 02135 United States;X-APPLE-RADIUS=500;X-TITLE=20 Nonantum Road:geo:-71.1656869,42.3587003
END:VEVENT
BEGIN:VEVENT
DTSTART;TZID=America/Halifax:20151103T170000
DTEND;TZID=America/Halifax:20151103T183000
DTSTAMP:20260419T232804
CREATED:20151111T194844Z
LAST-MODIFIED:20151111T195045Z
UID:10000479-1446570000-1446575400@adaptivesportsne.org
SUMMARY:Rowing U25LTA
DESCRIPTION:with Community Rowing\, Inc.
URL:https://adaptivesportsne.org/event/rowing-u25lta/2015-11-03/
LOCATION:Harry Parker Boathouse\, 20 Nonantum Road\, Brighton\, MA\, 02135\, United States
ORGANIZER;CN="Community Rowing%2C Inc.":MAILTO:jenny@communityrowing.org
GEO:42.3587003;-71.1656869
X-APPLE-STRUCTURED-LOCATION;VALUE=URI;X-ADDRESS=Harry Parker Boathouse 20 Nonantum Road Brighton MA 02135 United States;X-APPLE-RADIUS=500;X-TITLE=20 Nonantum Road:geo:-71.1656869,42.3587003
END:VEVENT
BEGIN:VEVENT
DTSTART;TZID=America/Halifax:20151103T183000
DTEND;TZID=America/Halifax:20151103T200000
DTSTAMP:20260419T232804
CREATED:20151111T193602Z
LAST-MODIFIED:20151111T194245Z
UID:10000186-1446575400-1446580800@adaptivesportsne.org
SUMMARY:Rowing Tu/Th
DESCRIPTION:with Community Rowing\, Inc.
URL:https://adaptivesportsne.org/event/indoor-rowing-3/2015-11-03/
LOCATION:Harry Parker Boathouse\, 20 Nonantum Road\, Brighton\, MA\, 02135\, United States
ORGANIZER;CN="Community Rowing%2C Inc.":MAILTO:jenny@communityrowing.org
GEO:42.3587003;-71.1656869
X-APPLE-STRUCTURED-LOCATION;VALUE=URI;X-ADDRESS=Harry Parker Boathouse 20 Nonantum Road Brighton MA 02135 United States;X-APPLE-RADIUS=500;X-TITLE=20 Nonantum Road:geo:-71.1656869,42.3587003
END:VEVENT
BEGIN:VEVENT
DTSTART;TZID=America/Halifax:20151104T103000
DTEND;TZID=America/Halifax:20151104T120000
DTSTAMP:20260419T232804
CREATED:20151111T193840Z
LAST-MODIFIED:20151111T194345Z
UID:10000462-1446633000-1446638400@adaptivesportsne.org
SUMMARY:Rowing Wed/Fr
DESCRIPTION:with Community Rowing\, Inc.
URL:https://adaptivesportsne.org/event/indoor-rowing-b/2015-11-04/
LOCATION:Harry Parker Boathouse\, 20 Nonantum Road\, Brighton\, MA\, 02135\, United States
ORGANIZER;CN="Community Rowing%2C Inc.":MAILTO:jenny@communityrowing.org
GEO:42.3587003;-71.1656869
X-APPLE-STRUCTURED-LOCATION;VALUE=URI;X-ADDRESS=Harry Parker Boathouse 20 Nonantum Road Brighton MA 02135 United States;X-APPLE-RADIUS=500;X-TITLE=20 Nonantum Road:geo:-71.1656869,42.3587003
END:VEVENT
BEGIN:VEVENT
DTSTART;TZID=America/Halifax:20160317T170000
DTEND;TZID=America/Halifax:20160317T200000
DTSTAMP:20260419T232804
CREATED:20160317T160703Z
LAST-MODIFIED:20160501T140558Z
UID:10001056-1458234000-1458244800@adaptivesportsne.org
SUMMARY:Rowing Tu/Th CRI (Brighton)
DESCRIPTION:5:00-6:30 U23 LTA Training; 6:30-8:00 General Para Rowing
URL:https://adaptivesportsne.org/event/rowing-7/2016-03-17/
LOCATION:Harry Parker Boathouse\, 20 Nonantum Road\, Brighton\, MA\, 02135\, United States
ORGANIZER;CN="Community Rowing%2C Inc.":MAILTO:jenny@communityrowing.org
GEO:42.3587003;-71.1656869
X-APPLE-STRUCTURED-LOCATION;VALUE=URI;X-ADDRESS=Harry Parker Boathouse 20 Nonantum Road Brighton MA 02135 United States;X-APPLE-RADIUS=500;X-TITLE=20 Nonantum Road:geo:-71.1656869,42.3587003
END:VEVENT
BEGIN:VEVENT
DTSTART;TZID=America/Halifax:20160318T103000
DTEND;TZID=America/Halifax:20160318T120000
DTSTAMP:20260419T232804
CREATED:20160317T161127Z
LAST-MODIFIED:20160501T140727Z
UID:10001061-1458297000-1458302400@adaptivesportsne.org
SUMMARY:Rowing We/Fr CRI (Brighton)
DESCRIPTION:
URL:https://adaptivesportsne.org/event/rowing-8/2016-03-18/
LOCATION:Harry Parker Boathouse\, 20 Nonantum Road\, Brighton\, MA\, 02135\, United States
ORGANIZER;CN="Community Rowing%2C Inc.":MAILTO:jenny@communityrowing.org
GEO:42.3587003;-71.1656869
X-APPLE-STRUCTURED-LOCATION;VALUE=URI;X-ADDRESS=Harry Parker Boathouse 20 Nonantum Road Brighton MA 02135 United States;X-APPLE-RADIUS=500;X-TITLE=20 Nonantum Road:geo:-71.1656869,42.3587003
END:VEVENT
BEGIN:VEVENT
DTSTART;TZID=America/Halifax:20160322T170000
DTEND;TZID=America/Halifax:20160322T200000
DTSTAMP:20260419T232804
CREATED:20160317T160703Z
LAST-MODIFIED:20160501T140558Z
UID:10001057-1458666000-1458676800@adaptivesportsne.org
SUMMARY:Rowing Tu/Th CRI (Brighton)
DESCRIPTION:5:00-6:30 U23 LTA Training; 6:30-8:00 General Para Rowing
URL:https://adaptivesportsne.org/event/rowing-7/2016-03-22/
LOCATION:Harry Parker Boathouse\, 20 Nonantum Road\, Brighton\, MA\, 02135\, United States
ORGANIZER;CN="Community Rowing%2C Inc.":MAILTO:jenny@communityrowing.org
GEO:42.3587003;-71.1656869
X-APPLE-STRUCTURED-LOCATION;VALUE=URI;X-ADDRESS=Harry Parker Boathouse 20 Nonantum Road Brighton MA 02135 United States;X-APPLE-RADIUS=500;X-TITLE=20 Nonantum Road:geo:-71.1656869,42.3587003
END:VEVENT
BEGIN:VEVENT
DTSTART;TZID=America/Halifax:20160323T103000
DTEND;TZID=America/Halifax:20160323T120000
DTSTAMP:20260419T232804
CREATED:20160317T161127Z
LAST-MODIFIED:20160501T140727Z
UID:10001062-1458729000-1458734400@adaptivesportsne.org
SUMMARY:Rowing We/Fr CRI (Brighton)
DESCRIPTION:
URL:https://adaptivesportsne.org/event/rowing-8/2016-03-23/
LOCATION:Harry Parker Boathouse\, 20 Nonantum Road\, Brighton\, MA\, 02135\, United States
ORGANIZER;CN="Community Rowing%2C Inc.":MAILTO:jenny@communityrowing.org
GEO:42.3587003;-71.1656869
X-APPLE-STRUCTURED-LOCATION;VALUE=URI;X-ADDRESS=Harry Parker Boathouse 20 Nonantum Road Brighton MA 02135 United States;X-APPLE-RADIUS=500;X-TITLE=20 Nonantum Road:geo:-71.1656869,42.3587003
END:VEVENT
BEGIN:VEVENT
DTSTART;TZID=America/Halifax:20160324T170000
DTEND;TZID=America/Halifax:20160324T200000
DTSTAMP:20260419T232804
CREATED:20160317T160703Z
LAST-MODIFIED:20160501T140558Z
UID:10001058-1458838800-1458849600@adaptivesportsne.org
SUMMARY:Rowing Tu/Th CRI (Brighton)
DESCRIPTION:5:00-6:30 U23 LTA Training; 6:30-8:00 General Para Rowing
URL:https://adaptivesportsne.org/event/rowing-7/2016-03-24/
LOCATION:Harry Parker Boathouse\, 20 Nonantum Road\, Brighton\, MA\, 02135\, United States
ORGANIZER;CN="Community Rowing%2C Inc.":MAILTO:jenny@communityrowing.org
GEO:42.3587003;-71.1656869
X-APPLE-STRUCTURED-LOCATION;VALUE=URI;X-ADDRESS=Harry Parker Boathouse 20 Nonantum Road Brighton MA 02135 United States;X-APPLE-RADIUS=500;X-TITLE=20 Nonantum Road:geo:-71.1656869,42.3587003
END:VEVENT
BEGIN:VEVENT
DTSTART;TZID=America/Halifax:20160325T103000
DTEND;TZID=America/Halifax:20160325T120000
DTSTAMP:20260419T232804
CREATED:20160317T161127Z
LAST-MODIFIED:20160501T140727Z
UID:10001063-1458901800-1458907200@adaptivesportsne.org
SUMMARY:Rowing We/Fr CRI (Brighton)
DESCRIPTION:
URL:https://adaptivesportsne.org/event/rowing-8/2016-03-25/
LOCATION:Harry Parker Boathouse\, 20 Nonantum Road\, Brighton\, MA\, 02135\, United States
ORGANIZER;CN="Community Rowing%2C Inc.":MAILTO:jenny@communityrowing.org
GEO:42.3587003;-71.1656869
X-APPLE-STRUCTURED-LOCATION;VALUE=URI;X-ADDRESS=Harry Parker Boathouse 20 Nonantum Road Brighton MA 02135 United States;X-APPLE-RADIUS=500;X-TITLE=20 Nonantum Road:geo:-71.1656869,42.3587003
END:VEVENT
END:VCALENDAR