BEGIN:VCALENDAR
VERSION:2.0
PRODID:-//Adaptive Sports New England - ECPv6.15.20//NONSGML v1.0//EN
CALSCALE:GREGORIAN
METHOD:PUBLISH
X-ORIGINAL-URL:https://adaptivesportsne.org
X-WR-CALDESC:Events for Adaptive Sports New England
REFRESH-INTERVAL;VALUE=DURATION:PT1H
X-Robots-Tag:noindex
X-PUBLISHED-TTL:PT1H
BEGIN:VTIMEZONE
TZID:America/Halifax
BEGIN:DAYLIGHT
TZOFFSETFROM:-0400
TZOFFSETTO:-0300
TZNAME:ADT
DTSTART:20150308T060000
END:DAYLIGHT
BEGIN:STANDARD
TZOFFSETFROM:-0300
TZOFFSETTO:-0400
TZNAME:AST
DTSTART:20151101T050000
END:STANDARD
BEGIN:DAYLIGHT
TZOFFSETFROM:-0400
TZOFFSETTO:-0300
TZNAME:ADT
DTSTART:20160313T060000
END:DAYLIGHT
BEGIN:STANDARD
TZOFFSETFROM:-0300
TZOFFSETTO:-0400
TZNAME:AST
DTSTART:20161106T050000
END:STANDARD
BEGIN:DAYLIGHT
TZOFFSETFROM:-0400
TZOFFSETTO:-0300
TZNAME:ADT
DTSTART:20170312T060000
END:DAYLIGHT
BEGIN:STANDARD
TZOFFSETFROM:-0300
TZOFFSETTO:-0400
TZNAME:AST
DTSTART:20171105T050000
END:STANDARD
END:VTIMEZONE
BEGIN:VEVENT
DTSTART;TZID=America/Halifax:20160611T123000
DTEND;TZID=America/Halifax:20160611T153000
DTSTAMP:20260425T104019
CREATED:20160509T205430Z
LAST-MODIFIED:20160509T210311Z
UID:10001237-1465648200-1465659000@adaptivesportsne.org
SUMMARY:Sailing SASC (Charlestown)
DESCRIPTION:Adaptive Sailing with Courageous and  Piers Park Sailing \nCost: Free for registered participants
URL:https://adaptivesportsne.org/event/adaptive-sailing-sasc-charleston/2016-06-11/
LOCATION:Harbor View Apartment Dock\, 250 First Avenue\, Charlestown\, MA\, United States
ORGANIZER;CN="Adaptive Sports New England":MAILTO:joe.walsh@adaptivesportsne.org
GEO:42.3772044;-71.0503045
X-APPLE-STRUCTURED-LOCATION;VALUE=URI;X-ADDRESS=Harbor View Apartment Dock 250 First Avenue Charlestown MA United States;X-APPLE-RADIUS=500;X-TITLE=250 First Avenue:geo:-71.0503045,42.3772044
END:VEVENT
END:VCALENDAR