BEGIN:VCALENDAR
VERSION:2.0
PRODID:-//Adaptive Sports New England - ECPv6.15.20//NONSGML v1.0//EN
CALSCALE:GREGORIAN
METHOD:PUBLISH
X-ORIGINAL-URL:https://adaptivesportsne.org
X-WR-CALDESC:Events for Adaptive Sports New England
REFRESH-INTERVAL;VALUE=DURATION:PT1H
X-Robots-Tag:noindex
X-PUBLISHED-TTL:PT1H
BEGIN:VTIMEZONE
TZID:America/Halifax
BEGIN:DAYLIGHT
TZOFFSETFROM:-0400
TZOFFSETTO:-0300
TZNAME:ADT
DTSTART:20130310T060000
END:DAYLIGHT
BEGIN:STANDARD
TZOFFSETFROM:-0300
TZOFFSETTO:-0400
TZNAME:AST
DTSTART:20131103T050000
END:STANDARD
BEGIN:DAYLIGHT
TZOFFSETFROM:-0400
TZOFFSETTO:-0300
TZNAME:ADT
DTSTART:20140309T060000
END:DAYLIGHT
BEGIN:STANDARD
TZOFFSETFROM:-0300
TZOFFSETTO:-0400
TZNAME:AST
DTSTART:20141102T050000
END:STANDARD
BEGIN:DAYLIGHT
TZOFFSETFROM:-0400
TZOFFSETTO:-0300
TZNAME:ADT
DTSTART:20150308T060000
END:DAYLIGHT
BEGIN:STANDARD
TZOFFSETFROM:-0300
TZOFFSETTO:-0400
TZNAME:AST
DTSTART:20151101T050000
END:STANDARD
BEGIN:DAYLIGHT
TZOFFSETFROM:-0400
TZOFFSETTO:-0300
TZNAME:ADT
DTSTART:20160313T060000
END:DAYLIGHT
BEGIN:STANDARD
TZOFFSETFROM:-0300
TZOFFSETTO:-0400
TZNAME:AST
DTSTART:20161106T050000
END:STANDARD
END:VTIMEZONE
BEGIN:VEVENT
DTSTART;TZID=America/Halifax:20140628T130000
DTEND;TZID=America/Halifax:20140628T150000
DTSTAMP:20260419T114353
CREATED:20140601T022424Z
LAST-MODIFIED:20140621T155908Z
UID:10000012-1403960400-1403967600@adaptivesportsne.org
SUMMARY:Sled Hockey
DESCRIPTION:Come try sled hockey or just keep the rust off your blades over the summer.
URL:https://adaptivesportsne.org/event/sled-hockey/
LOCATION:Ristuccia Arena\, 190 Main Street\, Wilmington\, MA\, 01887\, United States
GEO:42.5587613;-71.182155
X-APPLE-STRUCTURED-LOCATION;VALUE=URI;X-ADDRESS=Ristuccia Arena 190 Main Street Wilmington MA 01887 United States;X-APPLE-RADIUS=500;X-TITLE=190 Main Street:geo:-71.182155,42.5587613
END:VEVENT
BEGIN:VEVENT
DTSTART;TZID=America/Halifax:20140802T130000
DTEND;TZID=America/Halifax:20140802T150000
DTSTAMP:20260419T114353
CREATED:20140728T061442Z
LAST-MODIFIED:20140728T061442Z
UID:10000154-1406984400-1406991600@adaptivesportsne.org
SUMMARY:Sled Hockey - Wilmington
DESCRIPTION:
URL:https://adaptivesportsne.org/event/sled-hockey-wilmington/
LOCATION:Ristuccia Arena\, 190 Main Street\, Wilmington\, MA\, 01887\, United States
GEO:42.5587613;-71.182155
X-APPLE-STRUCTURED-LOCATION;VALUE=URI;X-ADDRESS=Ristuccia Arena 190 Main Street Wilmington MA 01887 United States;X-APPLE-RADIUS=500;X-TITLE=190 Main Street:geo:-71.182155,42.5587613
END:VEVENT
BEGIN:VEVENT
DTSTART;TZID=America/Halifax:20141005T120000
DTEND;TZID=America/Halifax:20141005T170000
DTSTAMP:20260419T114353
CREATED:20140930T224649Z
LAST-MODIFIED:20140930T224649Z
UID:10000034-1412510400-1412528400@adaptivesportsne.org
SUMMARY:NEP Sled Hockey
DESCRIPTION:Competitive Team Practice.  Afternoon – contact NEP for time.
URL:https://adaptivesportsne.org/event/nep-sled-hockey/
LOCATION:UNH\, Durham\, NH\, United States
ORGANIZER;CN="Northeast Passage":MAILTO:northeast.passage@unh.edu
GEO:43.1339545;-70.9264393
END:VEVENT
BEGIN:VEVENT
DTSTART;TZID=America/Halifax:20141012T080000
DTEND;TZID=America/Halifax:20141012T120000
DTSTAMP:20260419T114353
CREATED:20140930T225037Z
LAST-MODIFIED:20140930T225037Z
UID:10000035-1413100800-1413115200@adaptivesportsne.org
SUMMARY:NEP Sled Hockey
DESCRIPTION:Competitive Team practice.  Morning practice\, call NEP for time.
URL:https://adaptivesportsne.org/event/nep-sled-hockey-2/
LOCATION:UNH\, Durham\, NH\, United States
ORGANIZER;CN="Northeast Passage":MAILTO:northeast.passage@unh.edu
GEO:43.1339545;-70.9264393
END:VEVENT
BEGIN:VEVENT
DTSTART;TZID=America/Halifax:20141012T100000
DTEND;TZID=America/Halifax:20141012T120000
DTSTAMP:20260419T114353
CREATED:20140930T231500Z
LAST-MODIFIED:20141013T235748Z
UID:10000172-1413108000-1413115200@adaptivesportsne.org
SUMMARY:Development Sled Hockey
DESCRIPTION:Northeast Passage
URL:https://adaptivesportsne.org/event/development-sled-hockey/2014-10-12/
LOCATION:Unnamed Venue\, Exeter\, NH\, United States
ORGANIZER;CN="Northeast Passage":MAILTO:northeast.passage@unh.edu
GEO:42.9814292;-70.9477546
END:VEVENT
BEGIN:VEVENT
DTSTART;TZID=America/Halifax:20141018T120000
DTEND;TZID=America/Halifax:20141018T170000
DTSTAMP:20260419T114353
CREATED:20140930T225336Z
LAST-MODIFIED:20141014T001628Z
UID:10000037-1413633600-1413651600@adaptivesportsne.org
SUMMARY:Sled Hockey
DESCRIPTION:Northeast Passage team practice.  Afternoon practice – contact NEP for time.
URL:https://adaptivesportsne.org/event/nep-sled-hockey-3/
LOCATION:UNH\, Durham\, NH\, United States
ORGANIZER;CN="Northeast Passage":MAILTO:northeast.passage@unh.edu
GEO:43.1339545;-70.9264393
END:VEVENT
BEGIN:VEVENT
DTSTART;VALUE=DATE:20141026
DTEND;VALUE=DATE:20141027
DTSTAMP:20260419T114353
CREATED:20141005T003945Z
LAST-MODIFIED:20141005T003945Z
UID:10000191-1414281600-1414367999@adaptivesportsne.org
SUMMARY:NESHL Games
DESCRIPTION:
URL:https://adaptivesportsne.org/event/neshl-games/
LOCATION:Newington Arena\, 300 Alumni Rd.\, Newington\, CT\, 06111\, United States
GEO:41.7034684;-72.7432754
X-APPLE-STRUCTURED-LOCATION;VALUE=URI;X-ADDRESS=Newington Arena 300 Alumni Rd. Newington CT 06111 United States;X-APPLE-RADIUS=500;X-TITLE=300 Alumni Rd.:geo:-72.7432754,41.7034684
END:VEVENT
BEGIN:VEVENT
DTSTART;TZID=America/Halifax:20141109T080000
DTEND;TZID=America/Halifax:20141109T120000
DTSTAMP:20260419T114353
CREATED:20140930T225809Z
LAST-MODIFIED:20141102T145346Z
UID:10000021-1415520000-1415534400@adaptivesportsne.org
SUMMARY:Sled Hockey Practice
DESCRIPTION:Northeast Passage team practice.  Morning practice\, contact NEP for time.
URL:https://adaptivesportsne.org/event/nep-sled-hockey-4/
LOCATION:UNH\, Durham\, NH\, United States
ORGANIZER;CN="Northeast Passage":MAILTO:northeast.passage@unh.edu
GEO:43.1339545;-70.9264393
END:VEVENT
BEGIN:VEVENT
DTSTART;TZID=America/Halifax:20141109T100000
DTEND;TZID=America/Halifax:20141109T120000
DTSTAMP:20260419T114353
CREATED:20140930T231500Z
LAST-MODIFIED:20141104T152352Z
UID:10000174-1415527200-1415534400@adaptivesportsne.org
SUMMARY:Development Sled Hockey
DESCRIPTION:Northeast Passage
URL:https://adaptivesportsne.org/event/development-sled-hockey-2014-11-09/
LOCATION:Noble & Greenough School\, 10 Campus Drive\, Dedham\, MA\, 02026\, United States
ORGANIZER;CN="Northeast Passage":MAILTO:northeast.passage@unh.edu
GEO:42.2626671;-71.1853662
X-APPLE-STRUCTURED-LOCATION;VALUE=URI;X-ADDRESS=Noble & Greenough School 10 Campus Drive Dedham MA 02026 United States;X-APPLE-RADIUS=500;X-TITLE=10 Campus Drive:geo:-71.1853662,42.2626671
END:VEVENT
BEGIN:VEVENT
DTSTART;VALUE=DATE:20141115
DTEND;VALUE=DATE:20141117
DTSTAMP:20260419T114353
CREATED:20141005T004348Z
LAST-MODIFIED:20141102T145228Z
UID:10000192-1416009600-1416182399@adaptivesportsne.org
SUMMARY:Sled Hockey Games
DESCRIPTION:Northeast Sled Hockey League
URL:https://adaptivesportsne.org/event/neshl-games-2/
LOCATION:Newington Arena\, 300 Alumni Rd.\, Newington\, CT\, 06111\, United States
GEO:41.7034684;-72.7432754
X-APPLE-STRUCTURED-LOCATION;VALUE=URI;X-ADDRESS=Newington Arena 300 Alumni Rd. Newington CT 06111 United States;X-APPLE-RADIUS=500;X-TITLE=300 Alumni Rd.:geo:-72.7432754,41.7034684
END:VEVENT
BEGIN:VEVENT
DTSTART;VALUE=DATE:20141121
DTEND;VALUE=DATE:20141124
DTSTAMP:20260419T114353
CREATED:20141005T004918Z
LAST-MODIFIED:20141005T004918Z
UID:10000193-1416528000-1416787199@adaptivesportsne.org
SUMMARY:NHL Sled Classic
DESCRIPTION:
URL:https://adaptivesportsne.org/event/nhl-sled-classic/
LOCATION:Unnamed Venue\, Washington\, DC\, United States
ORGANIZER;CN="USA Hockey":MAILTO:usah@usahockey.org
GEO:38.9071923;-77.0368707
END:VEVENT
BEGIN:VEVENT
DTSTART;TZID=America/Halifax:20141130T080000
DTEND;TZID=America/Halifax:20141130T120000
DTSTAMP:20260419T114353
CREATED:20140930T230015Z
LAST-MODIFIED:20141102T145056Z
UID:10000023-1417334400-1417348800@adaptivesportsne.org
SUMMARY:Sled Hockey Practice
DESCRIPTION:Northeast Passage Competitive Team \nMorning Practice – Contact NEP
URL:https://adaptivesportsne.org/event/nep-sled-hockey-5/
LOCATION:UNH\, Durham\, NH\, United States
ORGANIZER;CN="Northeast Passage":MAILTO:northeast.passage@unh.edu
GEO:43.1339545;-70.9264393
END:VEVENT
BEGIN:VEVENT
DTSTART;TZID=America/Halifax:20141207T100000
DTEND;TZID=America/Halifax:20141207T120000
DTSTAMP:20260419T114353
CREATED:20140930T232331Z
LAST-MODIFIED:20141126T215526Z
UID:10000176-1417946400-1417953600@adaptivesportsne.org
SUMMARY:Sled Hockey
DESCRIPTION:Northeast Passage
URL:https://adaptivesportsne.org/event/development-sled-hockey-2/
LOCATION:Noble & Greenough School\, 10 Campus Drive\, Dedham\, MA\, 02026\, United States
ORGANIZER;CN="Northeast Passage":MAILTO:northeast.passage@unh.edu
GEO:42.2626671;-71.1853662
X-APPLE-STRUCTURED-LOCATION;VALUE=URI;X-ADDRESS=Noble & Greenough School 10 Campus Drive Dedham MA 02026 United States;X-APPLE-RADIUS=500;X-TITLE=10 Campus Drive:geo:-71.1853662,42.2626671
END:VEVENT
BEGIN:VEVENT
DTSTART;TZID=America/Halifax:20141207T183000
DTEND;TZID=America/Halifax:20141207T203000
DTSTAMP:20260419T114353
CREATED:20141126T220834Z
LAST-MODIFIED:20141126T220834Z
UID:10000047-1417977000-1417984200@adaptivesportsne.org
SUMMARY:Sled Hockey
DESCRIPTION:Spaulding Adaptive Sports Centers
URL:https://adaptivesportsne.org/event/sled-hockey-2/
LOCATION:New England Sports Center\, 121 Donald Lynch Blvd\, Malborough\, MA\, 01752\, United States
ORGANIZER;CN="Spaulding Adaptive Sports Centers":MAILTO:scarper@partners.org
GEO:42.3648257;-71.5958565
X-APPLE-STRUCTURED-LOCATION;VALUE=URI;X-ADDRESS=New England Sports Center 121 Donald Lynch Blvd Malborough MA 01752 United States;X-APPLE-RADIUS=500;X-TITLE=121 Donald Lynch Blvd:geo:-71.5958565,42.3648257
END:VEVENT
BEGIN:VEVENT
DTSTART;TZID=America/Halifax:20141214T100000
DTEND;TZID=America/Halifax:20141214T120000
DTSTAMP:20260419T114353
CREATED:20140930T232726Z
LAST-MODIFIED:20141126T215505Z
UID:10000178-1418551200-1418558400@adaptivesportsne.org
SUMMARY:Sled Hockey
DESCRIPTION:Northeast Passage
URL:https://adaptivesportsne.org/event/development-sled-hockey-3/
LOCATION:Phillips Exeter Academy\, Court St.\, Exeter\, NH\, 03833\, United States
ORGANIZER;CN="Northeast Passage":MAILTO:northeast.passage@unh.edu
GEO:42.9687924;-70.9527216
X-APPLE-STRUCTURED-LOCATION;VALUE=URI;X-ADDRESS=Phillips Exeter Academy Court St. Exeter NH 03833 United States;X-APPLE-RADIUS=500;X-TITLE=Court St.:geo:-70.9527216,42.9687924
END:VEVENT
BEGIN:VEVENT
DTSTART;VALUE=DATE:20141221
DTEND;VALUE=DATE:20141222
DTSTAMP:20260419T114353
CREATED:20141005T005837Z
LAST-MODIFIED:20141102T144950Z
UID:10000196-1419120000-1419206399@adaptivesportsne.org
SUMMARY:Sled Hockey Games
DESCRIPTION:Northeast Sled Hockey League
URL:https://adaptivesportsne.org/event/neshl-games-3/
LOCATION:Newington Arena\, 300 Alumni Rd.\, Newington\, CT\, 06111\, United States
GEO:41.7034684;-72.7432754
X-APPLE-STRUCTURED-LOCATION;VALUE=URI;X-ADDRESS=Newington Arena 300 Alumni Rd. Newington CT 06111 United States;X-APPLE-RADIUS=500;X-TITLE=300 Alumni Rd.:geo:-72.7432754,41.7034684
END:VEVENT
BEGIN:VEVENT
DTSTART;TZID=America/Halifax:20150107T150000
DTEND;TZID=America/Halifax:20150107T160000
DTSTAMP:20260419T114353
CREATED:20141126T225007Z
LAST-MODIFIED:20141126T225627Z
UID:10000214-1420642800-1420646400@adaptivesportsne.org
SUMMARY:Sled Hockey
DESCRIPTION:Spaulding Adaptive Sports Centers
URL:https://adaptivesportsne.org/event/sled-hockey-10/2015-01-07/
LOCATION:Emmons Horrigan O’Neil Memorial Rink\, 150 Rutherford Avenue\, Charlestown\, MA\, United States
ORGANIZER;CN="Spaulding Adaptive Sports Centers":MAILTO:scarper@partners.org
GEO:42.3740334;-71.0689282
X-APPLE-STRUCTURED-LOCATION;VALUE=URI;X-ADDRESS=Emmons Horrigan O’Neil Memorial Rink 150 Rutherford Avenue Charlestown MA United States;X-APPLE-RADIUS=500;X-TITLE=150 Rutherford Avenue:geo:-71.0689282,42.3740334
END:VEVENT
BEGIN:VEVENT
DTSTART;TZID=America/Halifax:20150111T100000
DTEND;TZID=America/Halifax:20150111T120000
DTSTAMP:20260419T114353
CREATED:20141102T143552Z
LAST-MODIFIED:20141126T215307Z
UID:10000200-1420970400-1420977600@adaptivesportsne.org
SUMMARY:Sled Hockey
DESCRIPTION:Northeast Passage
URL:https://adaptivesportsne.org/event/development-sled-hockey-4/
LOCATION:Phillips Exeter Academy\, Court St.\, Exeter\, NH\, 03833\, United States
ORGANIZER;CN="Northeast Passage":MAILTO:northeast.passage@unh.edu
GEO:42.9687924;-70.9527216
X-APPLE-STRUCTURED-LOCATION;VALUE=URI;X-ADDRESS=Phillips Exeter Academy Court St. Exeter NH 03833 United States;X-APPLE-RADIUS=500;X-TITLE=Court St.:geo:-70.9527216,42.9687924
END:VEVENT
BEGIN:VEVENT
DTSTART;TZID=America/Halifax:20150117T160000
DTEND;TZID=America/Halifax:20150117T180000
DTSTAMP:20260419T114353
CREATED:20141126T222728Z
LAST-MODIFIED:20150117T171741Z
UID:10000213-1421510400-1421517600@adaptivesportsne.org
SUMMARY:Sled Hockey
DESCRIPTION:Spaulding Adaptive Sports Centers
URL:https://adaptivesportsne.org/event/sled-hockey-9/2015-01-17/
LOCATION:Allied Veterans Memorial Rink\, 65 Elm Street\, Everett\, MA\, United States
ORGANIZER;CN="Spaulding Adaptive Sports Centers":MAILTO:scarper@partners.org
GEO:42.4129126;-71.0445725
X-APPLE-STRUCTURED-LOCATION;VALUE=URI;X-ADDRESS=Allied Veterans Memorial Rink 65 Elm Street Everett MA United States;X-APPLE-RADIUS=500;X-TITLE=65 Elm Street:geo:-71.0445725,42.4129126
END:VEVENT
BEGIN:VEVENT
DTSTART;TZID=America/Halifax:20150118T100000
DTEND;TZID=America/Halifax:20150118T120000
DTSTAMP:20260419T114353
CREATED:20141102T144214Z
LAST-MODIFIED:20141126T215326Z
UID:10000042-1421575200-1421582400@adaptivesportsne.org
SUMMARY:Sled Hockey
DESCRIPTION:Northeast Passage
URL:https://adaptivesportsne.org/event/development-sled-hockey-9/
LOCATION:Noble & Greenough School\, 10 Campus Drive\, Dedham\, MA\, 02026\, United States
ORGANIZER;CN="Northeast Passage":MAILTO:northeast.passage@unh.edu
GEO:42.2626671;-71.1853662
X-APPLE-STRUCTURED-LOCATION;VALUE=URI;X-ADDRESS=Noble & Greenough School 10 Campus Drive Dedham MA 02026 United States;X-APPLE-RADIUS=500;X-TITLE=10 Campus Drive:geo:-71.1853662,42.2626671
END:VEVENT
BEGIN:VEVENT
DTSTART;TZID=America/Halifax:20150118T183000
DTEND;TZID=America/Halifax:20150118T203000
DTSTAMP:20260419T114353
CREATED:20141126T221153Z
LAST-MODIFIED:20141126T221153Z
UID:10000048-1421605800-1421613000@adaptivesportsne.org
SUMMARY:Sled Hockey
DESCRIPTION:Spaulding Adaptive Sports Centers
URL:https://adaptivesportsne.org/event/sled-hockey-3/
LOCATION:New England Sports Center\, 121 Donald Lynch Blvd\, Malborough\, MA\, 01752\, United States
ORGANIZER;CN="Spaulding Adaptive Sports Centers":MAILTO:scarper@partners.org
GEO:42.3648257;-71.5958565
X-APPLE-STRUCTURED-LOCATION;VALUE=URI;X-ADDRESS=New England Sports Center 121 Donald Lynch Blvd Malborough MA 01752 United States;X-APPLE-RADIUS=500;X-TITLE=121 Donald Lynch Blvd:geo:-71.5958565,42.3648257
END:VEVENT
BEGIN:VEVENT
DTSTART;TZID=America/Halifax:20150125T100000
DTEND;TZID=America/Halifax:20150125T120000
DTSTAMP:20260419T114353
CREATED:20141102T143644Z
LAST-MODIFIED:20141126T215345Z
UID:10000203-1422180000-1422187200@adaptivesportsne.org
SUMMARY:Sled Hockey
DESCRIPTION:Northeast Passage
URL:https://adaptivesportsne.org/event/development-sled-hockey-5/
LOCATION:Phillips Exeter Academy\, Court St.\, Exeter\, NH\, 03833\, United States
ORGANIZER;CN="Northeast Passage":MAILTO:northeast.passage@unh.edu
GEO:42.9687924;-70.9527216
X-APPLE-STRUCTURED-LOCATION;VALUE=URI;X-ADDRESS=Phillips Exeter Academy Court St. Exeter NH 03833 United States;X-APPLE-RADIUS=500;X-TITLE=Court St.:geo:-70.9527216,42.9687924
END:VEVENT
BEGIN:VEVENT
DTSTART;TZID=America/Halifax:20150125T203000
DTEND;TZID=America/Halifax:20150125T213000
DTSTAMP:20260419T114353
CREATED:20141126T221221Z
LAST-MODIFIED:20141126T223441Z
UID:10000205-1422217800-1422221400@adaptivesportsne.org
SUMMARY:Sled Hockey
DESCRIPTION:Spaulding Adaptive Sports Centers
URL:https://adaptivesportsne.org/event/sled-hockey-4/
LOCATION:New England Sports Center\, 121 Donald Lynch Blvd\, Malborough\, MA\, 01752\, United States
ORGANIZER;CN="Spaulding Adaptive Sports Centers":MAILTO:scarper@partners.org
GEO:42.3648257;-71.5958565
X-APPLE-STRUCTURED-LOCATION;VALUE=URI;X-ADDRESS=New England Sports Center 121 Donald Lynch Blvd Malborough MA 01752 United States;X-APPLE-RADIUS=500;X-TITLE=121 Donald Lynch Blvd:geo:-71.5958565,42.3648257
END:VEVENT
BEGIN:VEVENT
DTSTART;TZID=America/Halifax:20150201T100000
DTEND;TZID=America/Halifax:20150201T120000
DTSTAMP:20260419T114353
CREATED:20141102T144306Z
LAST-MODIFIED:20141126T215403Z
UID:10000043-1422784800-1422792000@adaptivesportsne.org
SUMMARY:Sled Hockey
DESCRIPTION:Northeast Passage
URL:https://adaptivesportsne.org/event/development-sled-hockey-10/
LOCATION:Noble & Greenough School\, 10 Campus Drive\, Dedham\, MA\, 02026\, United States
ORGANIZER;CN="Northeast Passage":MAILTO:northeast.passage@unh.edu
GEO:42.2626671;-71.1853662
X-APPLE-STRUCTURED-LOCATION;VALUE=URI;X-ADDRESS=Noble & Greenough School 10 Campus Drive Dedham MA 02026 United States;X-APPLE-RADIUS=500;X-TITLE=10 Campus Drive:geo:-71.1853662,42.2626671
END:VEVENT
BEGIN:VEVENT
DTSTART;TZID=America/Halifax:20150208T100000
DTEND;TZID=America/Halifax:20150208T120000
DTSTAMP:20260419T114353
CREATED:20141102T143724Z
LAST-MODIFIED:20141126T215422Z
UID:10000039-1423389600-1423396800@adaptivesportsne.org
SUMMARY:Sled Hockey
DESCRIPTION:Northeast Passage
URL:https://adaptivesportsne.org/event/development-sled-hockey-6/
LOCATION:Phillips Exeter Academy\, Court St.\, Exeter\, NH\, 03833\, United States
ORGANIZER;CN="Northeast Passage":MAILTO:northeast.passage@unh.edu
GEO:42.9687924;-70.9527216
X-APPLE-STRUCTURED-LOCATION;VALUE=URI;X-ADDRESS=Phillips Exeter Academy Court St. Exeter NH 03833 United States;X-APPLE-RADIUS=500;X-TITLE=Court St.:geo:-70.9527216,42.9687924
END:VEVENT
BEGIN:VEVENT
DTSTART;TZID=America/Halifax:20150208T183000
DTEND;TZID=America/Halifax:20150208T203000
DTSTAMP:20260419T114353
CREATED:20141126T221245Z
LAST-MODIFIED:20141126T221245Z
UID:10000207-1423420200-1423427400@adaptivesportsne.org
SUMMARY:Sled Hockey
DESCRIPTION:Spaulding Adaptive Sports Centers
URL:https://adaptivesportsne.org/event/sled-hockey-5/
LOCATION:New England Sports Center\, 121 Donald Lynch Blvd\, Malborough\, MA\, 01752\, United States
ORGANIZER;CN="Spaulding Adaptive Sports Centers":MAILTO:scarper@partners.org
GEO:42.3648257;-71.5958565
X-APPLE-STRUCTURED-LOCATION;VALUE=URI;X-ADDRESS=New England Sports Center 121 Donald Lynch Blvd Malborough MA 01752 United States;X-APPLE-RADIUS=500;X-TITLE=121 Donald Lynch Blvd:geo:-71.5958565,42.3648257
END:VEVENT
BEGIN:VEVENT
DTSTART;TZID=America/Halifax:20150215T100000
DTEND;TZID=America/Halifax:20150215T120000
DTSTAMP:20260419T114353
CREATED:20141102T143757Z
LAST-MODIFIED:20141126T215438Z
UID:10000040-1423994400-1424001600@adaptivesportsne.org
SUMMARY:Sled Hockey
DESCRIPTION:Northeast Passage
URL:https://adaptivesportsne.org/event/development-sled-hockey-7/
LOCATION:Phillips Exeter Academy\, Court St.\, Exeter\, NH\, 03833\, United States
ORGANIZER;CN="Northeast Passage":MAILTO:northeast.passage@unh.edu
GEO:42.9687924;-70.9527216
X-APPLE-STRUCTURED-LOCATION;VALUE=URI;X-ADDRESS=Phillips Exeter Academy Court St. Exeter NH 03833 United States;X-APPLE-RADIUS=500;X-TITLE=Court St.:geo:-70.9527216,42.9687924
END:VEVENT
BEGIN:VEVENT
DTSTART;TZID=America/Halifax:20150215T183000
DTEND;TZID=America/Halifax:20150215T203000
DTSTAMP:20260419T114353
CREATED:20141126T222116Z
LAST-MODIFIED:20141126T222116Z
UID:10000212-1424025000-1424032200@adaptivesportsne.org
SUMMARY:Sled Hockey
DESCRIPTION:Spaulding Adaptive Sports Centers
URL:https://adaptivesportsne.org/event/sled-hockey-8/
LOCATION:New England Sports Center\, 121 Donald Lynch Blvd\, Malborough\, MA\, 01752\, United States
ORGANIZER;CN="Spaulding Adaptive Sports Centers":MAILTO:scarper@partners.org
GEO:42.3648257;-71.5958565
X-APPLE-STRUCTURED-LOCATION;VALUE=URI;X-ADDRESS=New England Sports Center 121 Donald Lynch Blvd Malborough MA 01752 United States;X-APPLE-RADIUS=500;X-TITLE=121 Donald Lynch Blvd:geo:-71.5958565,42.3648257
END:VEVENT
BEGIN:VEVENT
DTSTART;TZID=America/Halifax:20150219T160000
DTEND;TZID=America/Halifax:20150219T180000
DTSTAMP:20260419T114353
CREATED:20141126T230806Z
LAST-MODIFIED:20141126T230806Z
UID:10000217-1424361600-1424368800@adaptivesportsne.org
SUMMARY:Sled Hockey
DESCRIPTION:Spaulding Adaptive Sports Centers
URL:https://adaptivesportsne.org/event/sled-hockey-14/
LOCATION:Devine Memorial Rink\, 995 Morissey Boulevard\, Dorchester\, MA\, United States
ORGANIZER;CN="Spaulding Adaptive Sports Centers":MAILTO:scarper@partners.org
GEO:42.290444;-71.0463621
X-APPLE-STRUCTURED-LOCATION;VALUE=URI;X-ADDRESS=Devine Memorial Rink 995 Morissey Boulevard Dorchester MA United States;X-APPLE-RADIUS=500;X-TITLE=995 Morissey Boulevard:geo:-71.0463621,42.290444
END:VEVENT
BEGIN:VEVENT
DTSTART;TZID=America/Halifax:20150222T100000
DTEND;TZID=America/Halifax:20150222T120000
DTSTAMP:20260419T114353
CREATED:20141102T144455Z
LAST-MODIFIED:20141126T215225Z
UID:10000044-1424599200-1424606400@adaptivesportsne.org
SUMMARY:Sled Hockey
DESCRIPTION:Northeast Passage
URL:https://adaptivesportsne.org/event/development-sled-hockey-11/
LOCATION:Noble & Greenough School\, 10 Campus Drive\, Dedham\, MA\, 02026\, United States
ORGANIZER;CN="Northeast Passage":MAILTO:northeast.passage@unh.edu
GEO:42.2626671;-71.1853662
X-APPLE-STRUCTURED-LOCATION;VALUE=URI;X-ADDRESS=Noble & Greenough School 10 Campus Drive Dedham MA 02026 United States;X-APPLE-RADIUS=500;X-TITLE=10 Campus Drive:geo:-71.1853662,42.2626671
END:VEVENT
END:VCALENDAR