BEGIN:VCALENDAR
VERSION:2.0
PRODID:-//Adaptive Sports New England - ECPv6.15.20//NONSGML v1.0//EN
CALSCALE:GREGORIAN
METHOD:PUBLISH
X-WR-CALNAME:Adaptive Sports New England
X-ORIGINAL-URL:https://adaptivesportsne.org
X-WR-CALDESC:Events for Adaptive Sports New England
REFRESH-INTERVAL;VALUE=DURATION:PT1H
X-Robots-Tag:noindex
X-PUBLISHED-TTL:PT1H
BEGIN:VTIMEZONE
TZID:America/Halifax
BEGIN:DAYLIGHT
TZOFFSETFROM:-0400
TZOFFSETTO:-0300
TZNAME:ADT
DTSTART:20140309T060000
END:DAYLIGHT
BEGIN:STANDARD
TZOFFSETFROM:-0300
TZOFFSETTO:-0400
TZNAME:AST
DTSTART:20141102T050000
END:STANDARD
BEGIN:DAYLIGHT
TZOFFSETFROM:-0400
TZOFFSETTO:-0300
TZNAME:ADT
DTSTART:20150308T060000
END:DAYLIGHT
BEGIN:STANDARD
TZOFFSETFROM:-0300
TZOFFSETTO:-0400
TZNAME:AST
DTSTART:20151101T050000
END:STANDARD
BEGIN:DAYLIGHT
TZOFFSETFROM:-0400
TZOFFSETTO:-0300
TZNAME:ADT
DTSTART:20160313T060000
END:DAYLIGHT
BEGIN:STANDARD
TZOFFSETFROM:-0300
TZOFFSETTO:-0400
TZNAME:AST
DTSTART:20161106T050000
END:STANDARD
END:VTIMEZONE
BEGIN:VTIMEZONE
TZID:America/Halifax
BEGIN:DAYLIGHT
TZOFFSETFROM:-0400
TZOFFSETTO:-0300
TZNAME:ADT
DTSTART:20160313T060000
END:DAYLIGHT
BEGIN:STANDARD
TZOFFSETFROM:-0300
TZOFFSETTO:-0400
TZNAME:AST
DTSTART:20161106T050000
END:STANDARD
BEGIN:DAYLIGHT
TZOFFSETFROM:-0400
TZOFFSETTO:-0300
TZNAME:ADT
DTSTART:20170312T060000
END:DAYLIGHT
BEGIN:STANDARD
TZOFFSETFROM:-0300
TZOFFSETTO:-0400
TZNAME:AST
DTSTART:20171105T050000
END:STANDARD
BEGIN:DAYLIGHT
TZOFFSETFROM:-0400
TZOFFSETTO:-0300
TZNAME:ADT
DTSTART:20180311T060000
END:DAYLIGHT
BEGIN:STANDARD
TZOFFSETFROM:-0300
TZOFFSETTO:-0400
TZNAME:AST
DTSTART:20181104T050000
END:STANDARD
BEGIN:DAYLIGHT
TZOFFSETFROM:-0400
TZOFFSETTO:-0300
TZNAME:ADT
DTSTART:20190310T060000
END:DAYLIGHT
BEGIN:STANDARD
TZOFFSETFROM:-0300
TZOFFSETTO:-0400
TZNAME:AST
DTSTART:20191103T050000
END:STANDARD
END:VTIMEZONE
BEGIN:VEVENT
DTSTART;TZID=America/Halifax:20150620T120000
DTEND;TZID=America/Halifax:20150620T160000
DTSTAMP:20260419T213857
CREATED:20150425T124951Z
LAST-MODIFIED:20150618T163628Z
UID:10000288-1434801600-1434816000@adaptivesportsne.org
SUMMARY:PARALYMPIC EXPERIENCE
DESCRIPTION:Mapy of Paralympic Experience at Newton North High School. 475 Walnut Street\, Newton\, MA \nJoin us at this multi-sport introductory and informational clinic. \nYou can try 10 sports and learn about more than 25 New England adaptive sport programs.\nREGISTER (for free) AT THE BOTTOM OF THIS PAGE.\n  \nThe Paralympic Experience is designed specifically for youth and adults who have visual or mobility impairments. All ages and levels of expertise welcome. \nThere will be individual attention for beginners and expert coaching for serious athletes. Parents\, friends\, and supporters will learn from one another and from top professionals.  Join an affinity group for young athletes\, high school athletes\, women or veterans.  Drop-in anytime 12:00-4:00.\n\nYOU CAN TRY: wheelchair track racing\, running\, soccer\, tennis\, basketball\, rowing\, softball\, beep baseball and golf.\n\nYOU WILL ALSO LEARN ABOUT AREA PROGRAMS in all of  the above\nClick to download a PDF of this flyer (8.5″ x 11″) \nsports and additional sport recreational activities.\n\n \nPARALYMPIC EXPERIENCE CO-HOSTS: Spaulding Adaptive Sports Centers\, Community Rowing\, South Boston Boys & Girls Club\, Dorchester Boys & Girls Club\, Youth Enrichment Services\, South Shore YMCA\, Play Brigade\, New England Handicapped Sports Association\, New England Wheelchair Sports\, New England Wheelchair Athletic Association\, Access Recreation Boston\, Waypoint Adventure\, City of Newton Parks & Recreation\, and Boston 2024.\nrks & Recreation\, and Boston 2024.\n\nREGISTER below to attend\, or for more\ninformation on how to participate:\n\n\nE-mail our team at email hidden; JavaScript is required\nCall 617-982-2763 for more information.\n\n  \n 
URL:https://adaptivesportsne.org/event/paralympic-experience/
LOCATION:Newton North High School\, 457 Walnut Street\, Newton\, MA\, 02460\, United States
ORGANIZER;CN="Adaptive Sports New England":MAILTO:joe.walsh@adaptivesportsne.org
GEO:42.3449976;-71.2077738
X-APPLE-STRUCTURED-LOCATION;VALUE=URI;X-ADDRESS=Newton North High School 457 Walnut Street Newton MA 02460 United States;X-APPLE-RADIUS=500;X-TITLE=457 Walnut Street:geo:-71.2077738,42.3449976
END:VEVENT
BEGIN:VEVENT
DTSTART;VALUE=DATE:20170807
DTEND;VALUE=DATE:20170812
DTSTAMP:20260419T213857
CREATED:20170703T144034Z
LAST-MODIFIED:20170703T144203Z
UID:10002104-1502064000-1502495999@adaptivesportsne.org
SUMMARY:Baseball/Soccer Camp - Franciscan (Brighton)
DESCRIPTION:Various 2-3 hour sessions per day for 5 days.  See website for more info.
URL:https://adaptivesportsne.org/event/baseballsoccer-camp-franciscan-brighton/
LOCATION:Franciscan Children’s Hospital\, 30 Warren St\, Brighton\, MA\, 02135\, United States
ORGANIZER;CN="Franciscan Children's Hospital":MAILTO:mfragala@franciscanchildrens.org
GEO:42.3501528;-71.1433908
X-APPLE-STRUCTURED-LOCATION;VALUE=URI;X-ADDRESS=Franciscan Children’s Hospital 30 Warren St Brighton MA 02135 United States;X-APPLE-RADIUS=500;X-TITLE=30 Warren St:geo:-71.1433908,42.3501528
END:VEVENT
BEGIN:VEVENT
DTSTART;TZID=America/Halifax:20171005T180000
DTEND;TZID=America/Halifax:20171005T200000
DTSTAMP:20260419T213857
CREATED:20170831T204749Z
LAST-MODIFIED:20170831T213657Z
UID:10000583-1507226400-1507233600@adaptivesportsne.org
SUMMARY:Soccer & Conditioning - AccessSpts (Lexington)
DESCRIPTION:Contact Access Sport America for more information.  Two sessions 6:00-7:00PM and 7:00-8:00PM.
URL:https://adaptivesportsne.org/event/conditioning-soccer-asa-lexington/2017-10-05/
LOCATION:Cotting School\, Lexington\, MA\, United States
ORGANIZER;CN="Access Sport America":MAILTO:betty@accessportamerica.org
GEO:42.4430372;-71.2289641
END:VEVENT
BEGIN:VEVENT
DTSTART;TZID=America/Halifax:20171012T180000
DTEND;TZID=America/Halifax:20171012T200000
DTSTAMP:20260419T213857
CREATED:20170831T204749Z
LAST-MODIFIED:20170831T213657Z
UID:10000584-1507831200-1507838400@adaptivesportsne.org
SUMMARY:Soccer & Conditioning - AccessSpts (Lexington)
DESCRIPTION:Contact Access Sport America for more information.  Two sessions 6:00-7:00PM and 7:00-8:00PM.
URL:https://adaptivesportsne.org/event/conditioning-soccer-asa-lexington/2017-10-12/
LOCATION:Cotting School\, Lexington\, MA\, United States
ORGANIZER;CN="Access Sport America":MAILTO:betty@accessportamerica.org
GEO:42.4430372;-71.2289641
END:VEVENT
BEGIN:VEVENT
DTSTART;TZID=America/Halifax:20171019T180000
DTEND;TZID=America/Halifax:20171019T200000
DTSTAMP:20260419T213857
CREATED:20170831T204749Z
LAST-MODIFIED:20170831T213657Z
UID:10000585-1508436000-1508443200@adaptivesportsne.org
SUMMARY:Soccer & Conditioning - AccessSpts (Lexington)
DESCRIPTION:Contact Access Sport America for more information.  Two sessions 6:00-7:00PM and 7:00-8:00PM.
URL:https://adaptivesportsne.org/event/conditioning-soccer-asa-lexington/2017-10-19/
LOCATION:Cotting School\, Lexington\, MA\, United States
ORGANIZER;CN="Access Sport America":MAILTO:betty@accessportamerica.org
GEO:42.4430372;-71.2289641
END:VEVENT
BEGIN:VEVENT
DTSTART;TZID=America/Halifax:20171026T180000
DTEND;TZID=America/Halifax:20171026T200000
DTSTAMP:20260419T213857
CREATED:20170831T204749Z
LAST-MODIFIED:20170831T213657Z
UID:10000586-1509040800-1509048000@adaptivesportsne.org
SUMMARY:Soccer & Conditioning - AccessSpts (Lexington)
DESCRIPTION:Contact Access Sport America for more information.  Two sessions 6:00-7:00PM and 7:00-8:00PM.
URL:https://adaptivesportsne.org/event/conditioning-soccer-asa-lexington/2017-10-26/
LOCATION:Cotting School\, Lexington\, MA\, United States
ORGANIZER;CN="Access Sport America":MAILTO:betty@accessportamerica.org
GEO:42.4430372;-71.2289641
END:VEVENT
BEGIN:VEVENT
DTSTART;TZID=America/Halifax:20171102T180000
DTEND;TZID=America/Halifax:20171102T200000
DTSTAMP:20260419T213857
CREATED:20170831T204749Z
LAST-MODIFIED:20170831T213657Z
UID:10000587-1509645600-1509652800@adaptivesportsne.org
SUMMARY:Soccer & Conditioning - AccessSpts (Lexington)
DESCRIPTION:Contact Access Sport America for more information.  Two sessions 6:00-7:00PM and 7:00-8:00PM.
URL:https://adaptivesportsne.org/event/conditioning-soccer-asa-lexington/2017-11-02/
LOCATION:Cotting School\, Lexington\, MA\, United States
ORGANIZER;CN="Access Sport America":MAILTO:betty@accessportamerica.org
GEO:42.4430372;-71.2289641
END:VEVENT
BEGIN:VEVENT
DTSTART;TZID=America/Halifax:20171109T180000
DTEND;TZID=America/Halifax:20171109T200000
DTSTAMP:20260419T213857
CREATED:20170831T204749Z
LAST-MODIFIED:20170831T213657Z
UID:10000588-1510250400-1510257600@adaptivesportsne.org
SUMMARY:Soccer & Conditioning - AccessSpts (Lexington)
DESCRIPTION:Contact Access Sport America for more information.  Two sessions 6:00-7:00PM and 7:00-8:00PM.
URL:https://adaptivesportsne.org/event/conditioning-soccer-asa-lexington/2017-11-09/
LOCATION:Cotting School\, Lexington\, MA\, United States
ORGANIZER;CN="Access Sport America":MAILTO:betty@accessportamerica.org
GEO:42.4430372;-71.2289641
END:VEVENT
BEGIN:VEVENT
DTSTART;TZID=America/Halifax:20171116T180000
DTEND;TZID=America/Halifax:20171116T200000
DTSTAMP:20260419T213857
CREATED:20170831T204749Z
LAST-MODIFIED:20170831T213657Z
UID:10000589-1510855200-1510862400@adaptivesportsne.org
SUMMARY:Soccer & Conditioning - AccessSpts (Lexington)
DESCRIPTION:Contact Access Sport America for more information.  Two sessions 6:00-7:00PM and 7:00-8:00PM.
URL:https://adaptivesportsne.org/event/conditioning-soccer-asa-lexington/2017-11-16/
LOCATION:Cotting School\, Lexington\, MA\, United States
ORGANIZER;CN="Access Sport America":MAILTO:betty@accessportamerica.org
GEO:42.4430372;-71.2289641
END:VEVENT
BEGIN:VEVENT
DTSTART;TZID=America/Halifax:20171130T180000
DTEND;TZID=America/Halifax:20171130T200000
DTSTAMP:20260419T213857
CREATED:20170831T204749Z
LAST-MODIFIED:20170831T213657Z
UID:10000590-1512064800-1512072000@adaptivesportsne.org
SUMMARY:Soccer & Conditioning - AccessSpts (Lexington)
DESCRIPTION:Contact Access Sport America for more information.  Two sessions 6:00-7:00PM and 7:00-8:00PM.
URL:https://adaptivesportsne.org/event/conditioning-soccer-asa-lexington/2017-11-30/
LOCATION:Cotting School\, Lexington\, MA\, United States
ORGANIZER;CN="Access Sport America":MAILTO:betty@accessportamerica.org
GEO:42.4430372;-71.2289641
END:VEVENT
BEGIN:VEVENT
DTSTART;TZID=America/Halifax:20171207T180000
DTEND;TZID=America/Halifax:20171207T200000
DTSTAMP:20260419T213857
CREATED:20170831T204749Z
LAST-MODIFIED:20170831T213657Z
UID:10000591-1512669600-1512676800@adaptivesportsne.org
SUMMARY:Soccer & Conditioning - AccessSpts (Lexington)
DESCRIPTION:Contact Access Sport America for more information.  Two sessions 6:00-7:00PM and 7:00-8:00PM.
URL:https://adaptivesportsne.org/event/conditioning-soccer-asa-lexington/2017-12-07/
LOCATION:Cotting School\, Lexington\, MA\, United States
ORGANIZER;CN="Access Sport America":MAILTO:betty@accessportamerica.org
GEO:42.4430372;-71.2289641
END:VEVENT
BEGIN:VEVENT
DTSTART;TZID=America/Halifax:20171214T180000
DTEND;TZID=America/Halifax:20171214T200000
DTSTAMP:20260419T213857
CREATED:20170831T204749Z
LAST-MODIFIED:20170831T213657Z
UID:10000592-1513274400-1513281600@adaptivesportsne.org
SUMMARY:Soccer & Conditioning - AccessSpts (Lexington)
DESCRIPTION:Contact Access Sport America for more information.  Two sessions 6:00-7:00PM and 7:00-8:00PM.
URL:https://adaptivesportsne.org/event/conditioning-soccer-asa-lexington/2017-12-14/
LOCATION:Cotting School\, Lexington\, MA\, United States
ORGANIZER;CN="Access Sport America":MAILTO:betty@accessportamerica.org
GEO:42.4430372;-71.2289641
END:VEVENT
BEGIN:VEVENT
DTSTART;TZID=America/Halifax:20171221T180000
DTEND;TZID=America/Halifax:20171221T200000
DTSTAMP:20260419T213857
CREATED:20170831T204749Z
LAST-MODIFIED:20170831T213657Z
UID:10000593-1513879200-1513886400@adaptivesportsne.org
SUMMARY:Soccer & Conditioning - AccessSpts (Lexington)
DESCRIPTION:Contact Access Sport America for more information.  Two sessions 6:00-7:00PM and 7:00-8:00PM.
URL:https://adaptivesportsne.org/event/conditioning-soccer-asa-lexington/2017-12-21/
LOCATION:Cotting School\, Lexington\, MA\, United States
ORGANIZER;CN="Access Sport America":MAILTO:betty@accessportamerica.org
GEO:42.4430372;-71.2289641
END:VEVENT
BEGIN:VEVENT
DTSTART;TZID=America/Halifax:20180104T180000
DTEND;TZID=America/Halifax:20180104T200000
DTSTAMP:20260419T213857
CREATED:20170831T204749Z
LAST-MODIFIED:20170831T213657Z
UID:10000594-1515088800-1515096000@adaptivesportsne.org
SUMMARY:Soccer & Conditioning - AccessSpts (Lexington)
DESCRIPTION:Contact Access Sport America for more information.  Two sessions 6:00-7:00PM and 7:00-8:00PM.
URL:https://adaptivesportsne.org/event/conditioning-soccer-asa-lexington/2018-01-04/
LOCATION:Cotting School\, Lexington\, MA\, United States
ORGANIZER;CN="Access Sport America":MAILTO:betty@accessportamerica.org
GEO:42.4430372;-71.2289641
END:VEVENT
BEGIN:VEVENT
DTSTART;TZID=America/Halifax:20180111T180000
DTEND;TZID=America/Halifax:20180111T200000
DTSTAMP:20260419T213857
CREATED:20170831T204749Z
LAST-MODIFIED:20170831T213657Z
UID:10000595-1515693600-1515700800@adaptivesportsne.org
SUMMARY:Soccer & Conditioning - AccessSpts (Lexington)
DESCRIPTION:Contact Access Sport America for more information.  Two sessions 6:00-7:00PM and 7:00-8:00PM.
URL:https://adaptivesportsne.org/event/conditioning-soccer-asa-lexington/2018-01-11/
LOCATION:Cotting School\, Lexington\, MA\, United States
ORGANIZER;CN="Access Sport America":MAILTO:betty@accessportamerica.org
GEO:42.4430372;-71.2289641
END:VEVENT
BEGIN:VEVENT
DTSTART;TZID=America/Halifax:20180118T180000
DTEND;TZID=America/Halifax:20180118T200000
DTSTAMP:20260419T213857
CREATED:20170831T204749Z
LAST-MODIFIED:20170831T213657Z
UID:10000596-1516298400-1516305600@adaptivesportsne.org
SUMMARY:Soccer & Conditioning - AccessSpts (Lexington)
DESCRIPTION:Contact Access Sport America for more information.  Two sessions 6:00-7:00PM and 7:00-8:00PM.
URL:https://adaptivesportsne.org/event/conditioning-soccer-asa-lexington/2018-01-18/
LOCATION:Cotting School\, Lexington\, MA\, United States
ORGANIZER;CN="Access Sport America":MAILTO:betty@accessportamerica.org
GEO:42.4430372;-71.2289641
END:VEVENT
BEGIN:VEVENT
DTSTART;TZID=America/Halifax:20180125T180000
DTEND;TZID=America/Halifax:20180125T200000
DTSTAMP:20260419T213857
CREATED:20170831T204749Z
LAST-MODIFIED:20170831T213657Z
UID:10000597-1516903200-1516910400@adaptivesportsne.org
SUMMARY:Soccer & Conditioning - AccessSpts (Lexington)
DESCRIPTION:Contact Access Sport America for more information.  Two sessions 6:00-7:00PM and 7:00-8:00PM.
URL:https://adaptivesportsne.org/event/conditioning-soccer-asa-lexington/2018-01-25/
LOCATION:Cotting School\, Lexington\, MA\, United States
ORGANIZER;CN="Access Sport America":MAILTO:betty@accessportamerica.org
GEO:42.4430372;-71.2289641
END:VEVENT
BEGIN:VEVENT
DTSTART;TZID=America/Halifax:20180201T180000
DTEND;TZID=America/Halifax:20180201T200000
DTSTAMP:20260419T213857
CREATED:20170831T204749Z
LAST-MODIFIED:20170831T213657Z
UID:10000598-1517508000-1517515200@adaptivesportsne.org
SUMMARY:Soccer & Conditioning - AccessSpts (Lexington)
DESCRIPTION:Contact Access Sport America for more information.  Two sessions 6:00-7:00PM and 7:00-8:00PM.
URL:https://adaptivesportsne.org/event/conditioning-soccer-asa-lexington/2018-02-01/
LOCATION:Cotting School\, Lexington\, MA\, United States
ORGANIZER;CN="Access Sport America":MAILTO:betty@accessportamerica.org
GEO:42.4430372;-71.2289641
END:VEVENT
BEGIN:VEVENT
DTSTART;TZID=America/Halifax:20180208T180000
DTEND;TZID=America/Halifax:20180208T200000
DTSTAMP:20260419T213857
CREATED:20170831T204749Z
LAST-MODIFIED:20170831T213657Z
UID:10000599-1518112800-1518120000@adaptivesportsne.org
SUMMARY:Soccer & Conditioning - AccessSpts (Lexington)
DESCRIPTION:Contact Access Sport America for more information.  Two sessions 6:00-7:00PM and 7:00-8:00PM.
URL:https://adaptivesportsne.org/event/conditioning-soccer-asa-lexington/2018-02-08/
LOCATION:Cotting School\, Lexington\, MA\, United States
ORGANIZER;CN="Access Sport America":MAILTO:betty@accessportamerica.org
GEO:42.4430372;-71.2289641
END:VEVENT
BEGIN:VEVENT
DTSTART;TZID=America/Halifax:20180215T180000
DTEND;TZID=America/Halifax:20180215T200000
DTSTAMP:20260419T213857
CREATED:20170831T204749Z
LAST-MODIFIED:20170831T213657Z
UID:10000600-1518717600-1518724800@adaptivesportsne.org
SUMMARY:Soccer & Conditioning - AccessSpts (Lexington)
DESCRIPTION:Contact Access Sport America for more information.  Two sessions 6:00-7:00PM and 7:00-8:00PM.
URL:https://adaptivesportsne.org/event/conditioning-soccer-asa-lexington/2018-02-15/
LOCATION:Cotting School\, Lexington\, MA\, United States
ORGANIZER;CN="Access Sport America":MAILTO:betty@accessportamerica.org
GEO:42.4430372;-71.2289641
END:VEVENT
BEGIN:VEVENT
DTSTART;TZID=America/Halifax:20180222T180000
DTEND;TZID=America/Halifax:20180222T200000
DTSTAMP:20260419T213857
CREATED:20170831T204749Z
LAST-MODIFIED:20170831T213657Z
UID:10000601-1519322400-1519329600@adaptivesportsne.org
SUMMARY:Soccer & Conditioning - AccessSpts (Lexington)
DESCRIPTION:Contact Access Sport America for more information.  Two sessions 6:00-7:00PM and 7:00-8:00PM.
URL:https://adaptivesportsne.org/event/conditioning-soccer-asa-lexington/2018-02-22/
LOCATION:Cotting School\, Lexington\, MA\, United States
ORGANIZER;CN="Access Sport America":MAILTO:betty@accessportamerica.org
GEO:42.4430372;-71.2289641
END:VEVENT
BEGIN:VEVENT
DTSTART;TZID=America/Halifax:20180301T180000
DTEND;TZID=America/Halifax:20180301T200000
DTSTAMP:20260419T213857
CREATED:20170831T204749Z
LAST-MODIFIED:20170831T213657Z
UID:10000602-1519927200-1519934400@adaptivesportsne.org
SUMMARY:Soccer & Conditioning - AccessSpts (Lexington)
DESCRIPTION:Contact Access Sport America for more information.  Two sessions 6:00-7:00PM and 7:00-8:00PM.
URL:https://adaptivesportsne.org/event/conditioning-soccer-asa-lexington/2018-03-01/
LOCATION:Cotting School\, Lexington\, MA\, United States
ORGANIZER;CN="Access Sport America":MAILTO:betty@accessportamerica.org
GEO:42.4430372;-71.2289641
END:VEVENT
BEGIN:VEVENT
DTSTART;TZID=America/Halifax:20180308T180000
DTEND;TZID=America/Halifax:20180308T200000
DTSTAMP:20260419T213857
CREATED:20170831T204749Z
LAST-MODIFIED:20170831T213657Z
UID:10000603-1520532000-1520539200@adaptivesportsne.org
SUMMARY:Soccer & Conditioning - AccessSpts (Lexington)
DESCRIPTION:Contact Access Sport America for more information.  Two sessions 6:00-7:00PM and 7:00-8:00PM.
URL:https://adaptivesportsne.org/event/conditioning-soccer-asa-lexington/2018-03-08/
LOCATION:Cotting School\, Lexington\, MA\, United States
ORGANIZER;CN="Access Sport America":MAILTO:betty@accessportamerica.org
GEO:42.4430372;-71.2289641
END:VEVENT
BEGIN:VEVENT
DTSTART;TZID=America/Halifax:20180315T180000
DTEND;TZID=America/Halifax:20180315T200000
DTSTAMP:20260419T213857
CREATED:20170831T204749Z
LAST-MODIFIED:20170831T213657Z
UID:10000604-1521136800-1521144000@adaptivesportsne.org
SUMMARY:Soccer & Conditioning - AccessSpts (Lexington)
DESCRIPTION:Contact Access Sport America for more information.  Two sessions 6:00-7:00PM and 7:00-8:00PM.
URL:https://adaptivesportsne.org/event/conditioning-soccer-asa-lexington/2018-03-15/
LOCATION:Cotting School\, Lexington\, MA\, United States
ORGANIZER;CN="Access Sport America":MAILTO:betty@accessportamerica.org
GEO:42.4430372;-71.2289641
END:VEVENT
BEGIN:VEVENT
DTSTART;TZID=America/Halifax:20180322T180000
DTEND;TZID=America/Halifax:20180322T200000
DTSTAMP:20260419T213857
CREATED:20170831T204749Z
LAST-MODIFIED:20170831T213657Z
UID:10000605-1521741600-1521748800@adaptivesportsne.org
SUMMARY:Soccer & Conditioning - AccessSpts (Lexington)
DESCRIPTION:Contact Access Sport America for more information.  Two sessions 6:00-7:00PM and 7:00-8:00PM.
URL:https://adaptivesportsne.org/event/conditioning-soccer-asa-lexington/2018-03-22/
LOCATION:Cotting School\, Lexington\, MA\, United States
ORGANIZER;CN="Access Sport America":MAILTO:betty@accessportamerica.org
GEO:42.4430372;-71.2289641
END:VEVENT
BEGIN:VEVENT
DTSTART;TZID=America/Halifax:20180329T180000
DTEND;TZID=America/Halifax:20180329T200000
DTSTAMP:20260419T213857
CREATED:20170831T204749Z
LAST-MODIFIED:20170831T213657Z
UID:10000606-1522346400-1522353600@adaptivesportsne.org
SUMMARY:Soccer & Conditioning - AccessSpts (Lexington)
DESCRIPTION:Contact Access Sport America for more information.  Two sessions 6:00-7:00PM and 7:00-8:00PM.
URL:https://adaptivesportsne.org/event/conditioning-soccer-asa-lexington/2018-03-29/
LOCATION:Cotting School\, Lexington\, MA\, United States
ORGANIZER;CN="Access Sport America":MAILTO:betty@accessportamerica.org
GEO:42.4430372;-71.2289641
END:VEVENT
BEGIN:VEVENT
DTSTART;TZID=America/Halifax:20180405T180000
DTEND;TZID=America/Halifax:20180405T200000
DTSTAMP:20260419T213857
CREATED:20170831T204749Z
LAST-MODIFIED:20170831T213657Z
UID:10000607-1522951200-1522958400@adaptivesportsne.org
SUMMARY:Soccer & Conditioning - AccessSpts (Lexington)
DESCRIPTION:Contact Access Sport America for more information.  Two sessions 6:00-7:00PM and 7:00-8:00PM.
URL:https://adaptivesportsne.org/event/conditioning-soccer-asa-lexington/2018-04-05/
LOCATION:Cotting School\, Lexington\, MA\, United States
ORGANIZER;CN="Access Sport America":MAILTO:betty@accessportamerica.org
GEO:42.4430372;-71.2289641
END:VEVENT
BEGIN:VEVENT
DTSTART;TZID=America/Halifax:20180412T180000
DTEND;TZID=America/Halifax:20180412T200000
DTSTAMP:20260419T213857
CREATED:20170831T204749Z
LAST-MODIFIED:20170831T213657Z
UID:10000608-1523556000-1523563200@adaptivesportsne.org
SUMMARY:Soccer & Conditioning - AccessSpts (Lexington)
DESCRIPTION:Contact Access Sport America for more information.  Two sessions 6:00-7:00PM and 7:00-8:00PM.
URL:https://adaptivesportsne.org/event/conditioning-soccer-asa-lexington/2018-04-12/
LOCATION:Cotting School\, Lexington\, MA\, United States
ORGANIZER;CN="Access Sport America":MAILTO:betty@accessportamerica.org
GEO:42.4430372;-71.2289641
END:VEVENT
BEGIN:VEVENT
DTSTART;TZID=America/Halifax:20180419T180000
DTEND;TZID=America/Halifax:20180419T200000
DTSTAMP:20260419T213857
CREATED:20170831T204749Z
LAST-MODIFIED:20170831T213657Z
UID:10000609-1524160800-1524168000@adaptivesportsne.org
SUMMARY:Soccer & Conditioning - AccessSpts (Lexington)
DESCRIPTION:Contact Access Sport America for more information.  Two sessions 6:00-7:00PM and 7:00-8:00PM.
URL:https://adaptivesportsne.org/event/conditioning-soccer-asa-lexington/2018-04-19/
LOCATION:Cotting School\, Lexington\, MA\, United States
ORGANIZER;CN="Access Sport America":MAILTO:betty@accessportamerica.org
GEO:42.4430372;-71.2289641
END:VEVENT
BEGIN:VEVENT
DTSTART;TZID=America/Halifax:20180426T180000
DTEND;TZID=America/Halifax:20180426T200000
DTSTAMP:20260419T213857
CREATED:20170831T204749Z
LAST-MODIFIED:20170831T213657Z
UID:10000610-1524765600-1524772800@adaptivesportsne.org
SUMMARY:Soccer & Conditioning - AccessSpts (Lexington)
DESCRIPTION:Contact Access Sport America for more information.  Two sessions 6:00-7:00PM and 7:00-8:00PM.
URL:https://adaptivesportsne.org/event/conditioning-soccer-asa-lexington/2018-04-26/
LOCATION:Cotting School\, Lexington\, MA\, United States
ORGANIZER;CN="Access Sport America":MAILTO:betty@accessportamerica.org
GEO:42.4430372;-71.2289641
END:VEVENT
END:VCALENDAR