BEGIN:VCALENDAR
VERSION:2.0
PRODID:-//Adaptive Sports New England - ECPv6.15.20//NONSGML v1.0//EN
CALSCALE:GREGORIAN
METHOD:PUBLISH
X-ORIGINAL-URL:https://adaptivesportsne.org
X-WR-CALDESC:Events for Adaptive Sports New England
REFRESH-INTERVAL;VALUE=DURATION:PT1H
X-Robots-Tag:noindex
X-PUBLISHED-TTL:PT1H
BEGIN:VTIMEZONE
TZID:America/Halifax
BEGIN:DAYLIGHT
TZOFFSETFROM:-0400
TZOFFSETTO:-0300
TZNAME:ADT
DTSTART:20150308T060000
END:DAYLIGHT
BEGIN:STANDARD
TZOFFSETFROM:-0300
TZOFFSETTO:-0400
TZNAME:AST
DTSTART:20151101T050000
END:STANDARD
BEGIN:DAYLIGHT
TZOFFSETFROM:-0400
TZOFFSETTO:-0300
TZNAME:ADT
DTSTART:20160313T060000
END:DAYLIGHT
BEGIN:STANDARD
TZOFFSETFROM:-0300
TZOFFSETTO:-0400
TZNAME:AST
DTSTART:20161106T050000
END:STANDARD
BEGIN:DAYLIGHT
TZOFFSETFROM:-0400
TZOFFSETTO:-0300
TZNAME:ADT
DTSTART:20170312T060000
END:DAYLIGHT
BEGIN:STANDARD
TZOFFSETFROM:-0300
TZOFFSETTO:-0400
TZNAME:AST
DTSTART:20171105T050000
END:STANDARD
BEGIN:DAYLIGHT
TZOFFSETFROM:-0400
TZOFFSETTO:-0300
TZNAME:ADT
DTSTART:20180311T060000
END:DAYLIGHT
BEGIN:STANDARD
TZOFFSETFROM:-0300
TZOFFSETTO:-0400
TZNAME:AST
DTSTART:20181104T050000
END:STANDARD
BEGIN:DAYLIGHT
TZOFFSETFROM:-0400
TZOFFSETTO:-0300
TZNAME:ADT
DTSTART:20190310T060000
END:DAYLIGHT
BEGIN:STANDARD
TZOFFSETFROM:-0300
TZOFFSETTO:-0400
TZNAME:AST
DTSTART:20191103T050000
END:STANDARD
BEGIN:DAYLIGHT
TZOFFSETFROM:-0400
TZOFFSETTO:-0300
TZNAME:ADT
DTSTART:20200308T060000
END:DAYLIGHT
BEGIN:STANDARD
TZOFFSETFROM:-0300
TZOFFSETTO:-0400
TZNAME:AST
DTSTART:20201101T050000
END:STANDARD
END:VTIMEZONE
BEGIN:VEVENT
DTSTART;TZID=America/Halifax:20190915T110000
DTEND;TZID=America/Halifax:20190915T170000
DTSTAMP:20260419T141102
CREATED:20190527T165546Z
LAST-MODIFIED:20190527T165546Z
UID:10001440-1568545200-1568566800@adaptivesportsne.org
SUMMARY:Abilities Expo (Boston)
DESCRIPTION:
URL:https://adaptivesportsne.org/event/abilities-expo-boston-3/2019-09-15/
LOCATION:Boston Convention and Exhibition Center\, 415 Summer Street\, Boston\, MA\, 02210\, United States
CATEGORIES:Special Events
GEO:42.3461949;-71.0456368
X-APPLE-STRUCTURED-LOCATION;VALUE=URI;X-ADDRESS=Boston Convention and Exhibition Center 415 Summer Street Boston MA 02210 United States;X-APPLE-RADIUS=500;X-TITLE=415 Summer Street:geo:-71.0456368,42.3461949
END:VEVENT
BEGIN:VEVENT
DTSTART;TZID=America/Halifax:20190914T110000
DTEND;TZID=America/Halifax:20190914T170000
DTSTAMP:20260419T141102
CREATED:20190527T165546Z
LAST-MODIFIED:20190527T165546Z
UID:10001439-1568458800-1568480400@adaptivesportsne.org
SUMMARY:Abilities Expo (Boston)
DESCRIPTION:
URL:https://adaptivesportsne.org/event/abilities-expo-boston-3/2019-09-14/
LOCATION:Boston Convention and Exhibition Center\, 415 Summer Street\, Boston\, MA\, 02210\, United States
CATEGORIES:Special Events
GEO:42.3461949;-71.0456368
X-APPLE-STRUCTURED-LOCATION;VALUE=URI;X-ADDRESS=Boston Convention and Exhibition Center 415 Summer Street Boston MA 02210 United States;X-APPLE-RADIUS=500;X-TITLE=415 Summer Street:geo:-71.0456368,42.3461949
END:VEVENT
BEGIN:VEVENT
DTSTART;TZID=America/Halifax:20190913T110000
DTEND;TZID=America/Halifax:20190913T170000
DTSTAMP:20260419T141102
CREATED:20190527T165546Z
LAST-MODIFIED:20190527T165546Z
UID:10001438-1568372400-1568394000@adaptivesportsne.org
SUMMARY:Abilities Expo (Boston)
DESCRIPTION:
URL:https://adaptivesportsne.org/event/abilities-expo-boston-3/2019-09-13/
LOCATION:Boston Convention and Exhibition Center\, 415 Summer Street\, Boston\, MA\, 02210\, United States
CATEGORIES:Special Events
GEO:42.3461949;-71.0456368
X-APPLE-STRUCTURED-LOCATION;VALUE=URI;X-ADDRESS=Boston Convention and Exhibition Center 415 Summer Street Boston MA 02210 United States;X-APPLE-RADIUS=500;X-TITLE=415 Summer Street:geo:-71.0456368,42.3461949
END:VEVENT
BEGIN:VEVENT
DTSTART;TZID=America/Halifax:20180923T110000
DTEND;TZID=America/Halifax:20180923T170000
DTSTAMP:20260419T141102
CREATED:20180622T204530Z
LAST-MODIFIED:20180908T191013Z
UID:10002889-1537700400-1537722000@adaptivesportsne.org
SUMMARY:Abilities Expo (Boston)
DESCRIPTION:
URL:https://adaptivesportsne.org/event/abilities-expo-3/2018-09-23/
LOCATION:Boston Convention and Exhibition Center\, 415 Summer Street\, Boston\, MA\, 02210\, United States
CATEGORIES:Special Events
GEO:42.3461949;-71.0456368
X-APPLE-STRUCTURED-LOCATION;VALUE=URI;X-ADDRESS=Boston Convention and Exhibition Center 415 Summer Street Boston MA 02210 United States;X-APPLE-RADIUS=500;X-TITLE=415 Summer Street:geo:-71.0456368,42.3461949
END:VEVENT
BEGIN:VEVENT
DTSTART;TZID=America/Halifax:20180922T110000
DTEND;TZID=America/Halifax:20180922T170000
DTSTAMP:20260419T141102
CREATED:20180622T204530Z
LAST-MODIFIED:20180908T191013Z
UID:10002888-1537614000-1537635600@adaptivesportsne.org
SUMMARY:Abilities Expo (Boston)
DESCRIPTION:
URL:https://adaptivesportsne.org/event/abilities-expo-3/2018-09-22/
LOCATION:Boston Convention and Exhibition Center\, 415 Summer Street\, Boston\, MA\, 02210\, United States
CATEGORIES:Special Events
GEO:42.3461949;-71.0456368
X-APPLE-STRUCTURED-LOCATION;VALUE=URI;X-ADDRESS=Boston Convention and Exhibition Center 415 Summer Street Boston MA 02210 United States;X-APPLE-RADIUS=500;X-TITLE=415 Summer Street:geo:-71.0456368,42.3461949
END:VEVENT
BEGIN:VEVENT
DTSTART;TZID=America/Halifax:20180921T110000
DTEND;TZID=America/Halifax:20180921T170000
DTSTAMP:20260419T141102
CREATED:20180622T204530Z
LAST-MODIFIED:20180908T191013Z
UID:10002887-1537527600-1537549200@adaptivesportsne.org
SUMMARY:Abilities Expo (Boston)
DESCRIPTION:
URL:https://adaptivesportsne.org/event/abilities-expo-3/2018-09-21/
LOCATION:Boston Convention and Exhibition Center\, 415 Summer Street\, Boston\, MA\, 02210\, United States
CATEGORIES:Special Events
GEO:42.3461949;-71.0456368
X-APPLE-STRUCTURED-LOCATION;VALUE=URI;X-ADDRESS=Boston Convention and Exhibition Center 415 Summer Street Boston MA 02210 United States;X-APPLE-RADIUS=500;X-TITLE=415 Summer Street:geo:-71.0456368,42.3461949
END:VEVENT
BEGIN:VEVENT
DTSTART;TZID=America/Halifax:20170910T110000
DTEND;TZID=America/Halifax:20170910T170000
DTSTAMP:20260419T141102
CREATED:20170723T211101Z
LAST-MODIFIED:20170723T211226Z
UID:10002154-1505041200-1505062800@adaptivesportsne.org
SUMMARY:Abilities Expo (Boston)
DESCRIPTION:Vist Adaptive Sports New England and many other Greater Boston adaptive Sports organizations all weekend!  This is a great venue to meet adaptive sports providers and resources.
URL:https://adaptivesportsne.org/event/abilities-expo-boston-2/2017-09-10/
LOCATION:Boston Convention and Exhibition Center\, 415 Summer Street\, Boston\, MA\, 02210\, United States
GEO:42.3461949;-71.0456368
X-APPLE-STRUCTURED-LOCATION;VALUE=URI;X-ADDRESS=Boston Convention and Exhibition Center 415 Summer Street Boston MA 02210 United States;X-APPLE-RADIUS=500;X-TITLE=415 Summer Street:geo:-71.0456368,42.3461949
END:VEVENT
BEGIN:VEVENT
DTSTART;TZID=America/Halifax:20170909T110000
DTEND;TZID=America/Halifax:20170909T170000
DTSTAMP:20260419T141102
CREATED:20170723T211101Z
LAST-MODIFIED:20170723T211226Z
UID:10002153-1504954800-1504976400@adaptivesportsne.org
SUMMARY:Abilities Expo (Boston)
DESCRIPTION:Vist Adaptive Sports New England and many other Greater Boston adaptive Sports organizations all weekend!  This is a great venue to meet adaptive sports providers and resources.
URL:https://adaptivesportsne.org/event/abilities-expo-boston-2/2017-09-09/
LOCATION:Boston Convention and Exhibition Center\, 415 Summer Street\, Boston\, MA\, 02210\, United States
GEO:42.3461949;-71.0456368
X-APPLE-STRUCTURED-LOCATION;VALUE=URI;X-ADDRESS=Boston Convention and Exhibition Center 415 Summer Street Boston MA 02210 United States;X-APPLE-RADIUS=500;X-TITLE=415 Summer Street:geo:-71.0456368,42.3461949
END:VEVENT
BEGIN:VEVENT
DTSTART;TZID=America/Halifax:20170908T110000
DTEND;TZID=America/Halifax:20170908T170000
DTSTAMP:20260419T141102
CREATED:20170723T211101Z
LAST-MODIFIED:20170723T211226Z
UID:10002152-1504868400-1504890000@adaptivesportsne.org
SUMMARY:Abilities Expo (Boston)
DESCRIPTION:Vist Adaptive Sports New England and many other Greater Boston adaptive Sports organizations all weekend!  This is a great venue to meet adaptive sports providers and resources.
URL:https://adaptivesportsne.org/event/abilities-expo-boston-2/2017-09-08/
LOCATION:Boston Convention and Exhibition Center\, 415 Summer Street\, Boston\, MA\, 02210\, United States
GEO:42.3461949;-71.0456368
X-APPLE-STRUCTURED-LOCATION;VALUE=URI;X-ADDRESS=Boston Convention and Exhibition Center 415 Summer Street Boston MA 02210 United States;X-APPLE-RADIUS=500;X-TITLE=415 Summer Street:geo:-71.0456368,42.3461949
END:VEVENT
BEGIN:VEVENT
DTSTART;TZID=America/Halifax:20160916T110000
DTEND;TZID=America/Halifax:20160916T170000
DTSTAMP:20260419T141102
CREATED:20160821T000145Z
LAST-MODIFIED:20160821T000145Z
UID:10001556-1474023600-1474045200@adaptivesportsne.org
SUMMARY:Abilities Expo Boston
DESCRIPTION:FREE – Pre-registraion recommended to save time at check-in.
URL:https://adaptivesportsne.org/event/abilities-expo-boston/2016-09-16/
LOCATION:Boston Convention and Exhibition Center\, 415 Summer Street\, Boston\, MA\, 02210\, United States
GEO:42.3461949;-71.0456368
X-APPLE-STRUCTURED-LOCATION;VALUE=URI;X-ADDRESS=Boston Convention and Exhibition Center 415 Summer Street Boston MA 02210 United States;X-APPLE-RADIUS=500;X-TITLE=415 Summer Street:geo:-71.0456368,42.3461949
END:VEVENT
END:VCALENDAR