BEGIN:VCALENDAR
VERSION:2.0
PRODID:-//Adaptive Sports New England - ECPv6.15.20//NONSGML v1.0//EN
CALSCALE:GREGORIAN
METHOD:PUBLISH
X-ORIGINAL-URL:https://adaptivesportsne.org
X-WR-CALDESC:Events for Adaptive Sports New England
REFRESH-INTERVAL;VALUE=DURATION:PT1H
X-Robots-Tag:noindex
X-PUBLISHED-TTL:PT1H
BEGIN:VTIMEZONE
TZID:America/Halifax
BEGIN:DAYLIGHT
TZOFFSETFROM:-0400
TZOFFSETTO:-0300
TZNAME:ADT
DTSTART:20170312T060000
END:DAYLIGHT
BEGIN:STANDARD
TZOFFSETFROM:-0300
TZOFFSETTO:-0400
TZNAME:AST
DTSTART:20171105T050000
END:STANDARD
BEGIN:DAYLIGHT
TZOFFSETFROM:-0400
TZOFFSETTO:-0300
TZNAME:ADT
DTSTART:20180311T060000
END:DAYLIGHT
BEGIN:STANDARD
TZOFFSETFROM:-0300
TZOFFSETTO:-0400
TZNAME:AST
DTSTART:20181104T050000
END:STANDARD
BEGIN:DAYLIGHT
TZOFFSETFROM:-0400
TZOFFSETTO:-0300
TZNAME:ADT
DTSTART:20190310T060000
END:DAYLIGHT
BEGIN:STANDARD
TZOFFSETFROM:-0300
TZOFFSETTO:-0400
TZNAME:AST
DTSTART:20191103T050000
END:STANDARD
END:VTIMEZONE
BEGIN:VEVENT
DTSTART;TZID=America/Halifax:20180610T150000
DTEND;TZID=America/Halifax:20180610T163000
DTSTAMP:20260420T131520
CREATED:20170830T161746Z
LAST-MODIFIED:20180622T005500Z
UID:10000560-1528642800-1528648200@adaptivesportsne.org
SUMMARY:PSC SWIM TEAM - ASNE (Quincy)
DESCRIPTION:Paralympic Sport Club Boston Swim Team Training.  All levels of competitiveness. $50 for Fall season (through December 17). \nREGISTER HERE.
URL:https://adaptivesportsne.org/event/swim-team-adptvsptsne-quincy/2018-06-10/
LOCATION:South Shore YMCA – Quincy\, 79 Coddington St\, Quincy \, MA\, 02169\, United States
CATEGORIES:Swimming
ORGANIZER;CN="Adaptive Sports New England":MAILTO:joe.walsh@adaptivesportsne.org
GEO:42.252978;-70.997083
X-APPLE-STRUCTURED-LOCATION;VALUE=URI;X-ADDRESS=South Shore YMCA – Quincy 79 Coddington St Quincy  MA 02169 United States;X-APPLE-RADIUS=500;X-TITLE=79 Coddington St:geo:-70.997083,42.252978
END:VEVENT
BEGIN:VEVENT
DTSTART;TZID=America/Halifax:20180603T150000
DTEND;TZID=America/Halifax:20180603T180000
DTSTAMP:20260420T131520
CREATED:20180520T160939Z
LAST-MODIFIED:20180520T160939Z
UID:10001193-1528038000-1528048800@adaptivesportsne.org
SUMMARY:SWIM LESSONS - AdptvSptsNE (Quincy)
DESCRIPTION:For youth with visual or mobility impairments.  45 minute lessons conducted in cooperation with the Quincy YMCA.
URL:https://adaptivesportsne.org/event/swim-lessons-adptvsptsne-quincy/2018-06-03/
LOCATION:South Shore YMCA – Quincy\, 79 Coddington St\, Quincy \, MA\, 02169\, United States
ORGANIZER;CN="Adaptive Sports New England":MAILTO:joe.walsh@adaptivesportsne.org
GEO:42.252978;-70.997083
X-APPLE-STRUCTURED-LOCATION;VALUE=URI;X-ADDRESS=South Shore YMCA – Quincy 79 Coddington St Quincy  MA 02169 United States;X-APPLE-RADIUS=500;X-TITLE=79 Coddington St:geo:-70.997083,42.252978
END:VEVENT
BEGIN:VEVENT
DTSTART;TZID=America/Halifax:20180603T150000
DTEND;TZID=America/Halifax:20180603T163000
DTSTAMP:20260420T131520
CREATED:20170830T161746Z
LAST-MODIFIED:20180622T005500Z
UID:10000559-1528038000-1528043400@adaptivesportsne.org
SUMMARY:PSC SWIM TEAM - ASNE (Quincy)
DESCRIPTION:Paralympic Sport Club Boston Swim Team Training.  All levels of competitiveness. $50 for Fall season (through December 17). \nREGISTER HERE.
URL:https://adaptivesportsne.org/event/swim-team-adptvsptsne-quincy/2018-06-03/
LOCATION:South Shore YMCA – Quincy\, 79 Coddington St\, Quincy \, MA\, 02169\, United States
CATEGORIES:Swimming
ORGANIZER;CN="Adaptive Sports New England":MAILTO:joe.walsh@adaptivesportsne.org
GEO:42.252978;-70.997083
X-APPLE-STRUCTURED-LOCATION;VALUE=URI;X-ADDRESS=South Shore YMCA – Quincy 79 Coddington St Quincy  MA 02169 United States;X-APPLE-RADIUS=500;X-TITLE=79 Coddington St:geo:-70.997083,42.252978
END:VEVENT
BEGIN:VEVENT
DTSTART;TZID=America/Halifax:20180527T150000
DTEND;TZID=America/Halifax:20180527T163000
DTSTAMP:20260420T131520
CREATED:20170830T161746Z
LAST-MODIFIED:20180622T005500Z
UID:10000558-1527433200-1527438600@adaptivesportsne.org
SUMMARY:PSC SWIM TEAM - ASNE (Quincy)
DESCRIPTION:Paralympic Sport Club Boston Swim Team Training.  All levels of competitiveness. $50 for Fall season (through December 17). \nREGISTER HERE.
URL:https://adaptivesportsne.org/event/swim-team-adptvsptsne-quincy/2018-05-27/
LOCATION:South Shore YMCA – Quincy\, 79 Coddington St\, Quincy \, MA\, 02169\, United States
CATEGORIES:Swimming
ORGANIZER;CN="Adaptive Sports New England":MAILTO:joe.walsh@adaptivesportsne.org
GEO:42.252978;-70.997083
X-APPLE-STRUCTURED-LOCATION;VALUE=URI;X-ADDRESS=South Shore YMCA – Quincy 79 Coddington St Quincy  MA 02169 United States;X-APPLE-RADIUS=500;X-TITLE=79 Coddington St:geo:-70.997083,42.252978
END:VEVENT
BEGIN:VEVENT
DTSTART;TZID=America/Halifax:20180520T150000
DTEND;TZID=America/Halifax:20180520T180000
DTSTAMP:20260420T131520
CREATED:20180520T160939Z
LAST-MODIFIED:20180520T160939Z
UID:10001192-1526828400-1526839200@adaptivesportsne.org
SUMMARY:SWIM LESSONS - AdptvSptsNE (Quincy)
DESCRIPTION:For youth with visual or mobility impairments.  45 minute lessons conducted in cooperation with the Quincy YMCA.
URL:https://adaptivesportsne.org/event/swim-lessons-adptvsptsne-quincy/2018-05-20/
LOCATION:South Shore YMCA – Quincy\, 79 Coddington St\, Quincy \, MA\, 02169\, United States
ORGANIZER;CN="Adaptive Sports New England":MAILTO:joe.walsh@adaptivesportsne.org
GEO:42.252978;-70.997083
X-APPLE-STRUCTURED-LOCATION;VALUE=URI;X-ADDRESS=South Shore YMCA – Quincy 79 Coddington St Quincy  MA 02169 United States;X-APPLE-RADIUS=500;X-TITLE=79 Coddington St:geo:-70.997083,42.252978
END:VEVENT
BEGIN:VEVENT
DTSTART;TZID=America/Halifax:20180520T150000
DTEND;TZID=America/Halifax:20180520T163000
DTSTAMP:20260420T131520
CREATED:20170830T161746Z
LAST-MODIFIED:20180622T005500Z
UID:10000557-1526828400-1526833800@adaptivesportsne.org
SUMMARY:PSC SWIM TEAM - ASNE (Quincy)
DESCRIPTION:Paralympic Sport Club Boston Swim Team Training.  All levels of competitiveness. $50 for Fall season (through December 17). \nREGISTER HERE.
URL:https://adaptivesportsne.org/event/swim-team-adptvsptsne-quincy/2018-05-20/
LOCATION:South Shore YMCA – Quincy\, 79 Coddington St\, Quincy \, MA\, 02169\, United States
CATEGORIES:Swimming
ORGANIZER;CN="Adaptive Sports New England":MAILTO:joe.walsh@adaptivesportsne.org
GEO:42.252978;-70.997083
X-APPLE-STRUCTURED-LOCATION;VALUE=URI;X-ADDRESS=South Shore YMCA – Quincy 79 Coddington St Quincy  MA 02169 United States;X-APPLE-RADIUS=500;X-TITLE=79 Coddington St:geo:-70.997083,42.252978
END:VEVENT
BEGIN:VEVENT
DTSTART;TZID=America/Halifax:20180513T150000
DTEND;TZID=America/Halifax:20180513T180000
DTSTAMP:20260420T131520
CREATED:20180520T160939Z
LAST-MODIFIED:20180520T160939Z
UID:10001191-1526223600-1526234400@adaptivesportsne.org
SUMMARY:SWIM LESSONS - AdptvSptsNE (Quincy)
DESCRIPTION:For youth with visual or mobility impairments.  45 minute lessons conducted in cooperation with the Quincy YMCA.
URL:https://adaptivesportsne.org/event/swim-lessons-adptvsptsne-quincy/2018-05-13/
LOCATION:South Shore YMCA – Quincy\, 79 Coddington St\, Quincy \, MA\, 02169\, United States
ORGANIZER;CN="Adaptive Sports New England":MAILTO:joe.walsh@adaptivesportsne.org
GEO:42.252978;-70.997083
X-APPLE-STRUCTURED-LOCATION;VALUE=URI;X-ADDRESS=South Shore YMCA – Quincy 79 Coddington St Quincy  MA 02169 United States;X-APPLE-RADIUS=500;X-TITLE=79 Coddington St:geo:-70.997083,42.252978
END:VEVENT
BEGIN:VEVENT
DTSTART;TZID=America/Halifax:20180513T150000
DTEND;TZID=America/Halifax:20180513T163000
DTSTAMP:20260420T131520
CREATED:20170830T161746Z
LAST-MODIFIED:20180622T005500Z
UID:10000556-1526223600-1526229000@adaptivesportsne.org
SUMMARY:PSC SWIM TEAM - ASNE (Quincy)
DESCRIPTION:Paralympic Sport Club Boston Swim Team Training.  All levels of competitiveness. $50 for Fall season (through December 17). \nREGISTER HERE.
URL:https://adaptivesportsne.org/event/swim-team-adptvsptsne-quincy/2018-05-13/
LOCATION:South Shore YMCA – Quincy\, 79 Coddington St\, Quincy \, MA\, 02169\, United States
CATEGORIES:Swimming
ORGANIZER;CN="Adaptive Sports New England":MAILTO:joe.walsh@adaptivesportsne.org
GEO:42.252978;-70.997083
X-APPLE-STRUCTURED-LOCATION;VALUE=URI;X-ADDRESS=South Shore YMCA – Quincy 79 Coddington St Quincy  MA 02169 United States;X-APPLE-RADIUS=500;X-TITLE=79 Coddington St:geo:-70.997083,42.252978
END:VEVENT
BEGIN:VEVENT
DTSTART;TZID=America/Halifax:20180506T150000
DTEND;TZID=America/Halifax:20180506T180000
DTSTAMP:20260420T131520
CREATED:20180520T160939Z
LAST-MODIFIED:20180520T160939Z
UID:10001190-1525618800-1525629600@adaptivesportsne.org
SUMMARY:SWIM LESSONS - AdptvSptsNE (Quincy)
DESCRIPTION:For youth with visual or mobility impairments.  45 minute lessons conducted in cooperation with the Quincy YMCA.
URL:https://adaptivesportsne.org/event/swim-lessons-adptvsptsne-quincy/2018-05-06/
LOCATION:South Shore YMCA – Quincy\, 79 Coddington St\, Quincy \, MA\, 02169\, United States
ORGANIZER;CN="Adaptive Sports New England":MAILTO:joe.walsh@adaptivesportsne.org
GEO:42.252978;-70.997083
X-APPLE-STRUCTURED-LOCATION;VALUE=URI;X-ADDRESS=South Shore YMCA – Quincy 79 Coddington St Quincy  MA 02169 United States;X-APPLE-RADIUS=500;X-TITLE=79 Coddington St:geo:-70.997083,42.252978
END:VEVENT
BEGIN:VEVENT
DTSTART;TZID=America/Halifax:20180506T150000
DTEND;TZID=America/Halifax:20180506T163000
DTSTAMP:20260420T131520
CREATED:20170830T161746Z
LAST-MODIFIED:20180622T005500Z
UID:10000555-1525618800-1525624200@adaptivesportsne.org
SUMMARY:PSC SWIM TEAM - ASNE (Quincy)
DESCRIPTION:Paralympic Sport Club Boston Swim Team Training.  All levels of competitiveness. $50 for Fall season (through December 17). \nREGISTER HERE.
URL:https://adaptivesportsne.org/event/swim-team-adptvsptsne-quincy/2018-05-06/
LOCATION:South Shore YMCA – Quincy\, 79 Coddington St\, Quincy \, MA\, 02169\, United States
CATEGORIES:Swimming
ORGANIZER;CN="Adaptive Sports New England":MAILTO:joe.walsh@adaptivesportsne.org
GEO:42.252978;-70.997083
X-APPLE-STRUCTURED-LOCATION;VALUE=URI;X-ADDRESS=South Shore YMCA – Quincy 79 Coddington St Quincy  MA 02169 United States;X-APPLE-RADIUS=500;X-TITLE=79 Coddington St:geo:-70.997083,42.252978
END:VEVENT
BEGIN:VEVENT
DTSTART;TZID=America/Halifax:20180429T150000
DTEND;TZID=America/Halifax:20180429T180000
DTSTAMP:20260420T131520
CREATED:20180520T160939Z
LAST-MODIFIED:20180520T160939Z
UID:10001189-1525014000-1525024800@adaptivesportsne.org
SUMMARY:SWIM LESSONS - AdptvSptsNE (Quincy)
DESCRIPTION:For youth with visual or mobility impairments.  45 minute lessons conducted in cooperation with the Quincy YMCA.
URL:https://adaptivesportsne.org/event/swim-lessons-adptvsptsne-quincy/2018-04-29/
LOCATION:South Shore YMCA – Quincy\, 79 Coddington St\, Quincy \, MA\, 02169\, United States
ORGANIZER;CN="Adaptive Sports New England":MAILTO:joe.walsh@adaptivesportsne.org
GEO:42.252978;-70.997083
X-APPLE-STRUCTURED-LOCATION;VALUE=URI;X-ADDRESS=South Shore YMCA – Quincy 79 Coddington St Quincy  MA 02169 United States;X-APPLE-RADIUS=500;X-TITLE=79 Coddington St:geo:-70.997083,42.252978
END:VEVENT
BEGIN:VEVENT
DTSTART;TZID=America/Halifax:20180429T150000
DTEND;TZID=America/Halifax:20180429T163000
DTSTAMP:20260420T131520
CREATED:20170830T161746Z
LAST-MODIFIED:20180622T005500Z
UID:10000554-1525014000-1525019400@adaptivesportsne.org
SUMMARY:PSC SWIM TEAM - ASNE (Quincy)
DESCRIPTION:Paralympic Sport Club Boston Swim Team Training.  All levels of competitiveness. $50 for Fall season (through December 17). \nREGISTER HERE.
URL:https://adaptivesportsne.org/event/swim-team-adptvsptsne-quincy/2018-04-29/
LOCATION:South Shore YMCA – Quincy\, 79 Coddington St\, Quincy \, MA\, 02169\, United States
CATEGORIES:Swimming
ORGANIZER;CN="Adaptive Sports New England":MAILTO:joe.walsh@adaptivesportsne.org
GEO:42.252978;-70.997083
X-APPLE-STRUCTURED-LOCATION;VALUE=URI;X-ADDRESS=South Shore YMCA – Quincy 79 Coddington St Quincy  MA 02169 United States;X-APPLE-RADIUS=500;X-TITLE=79 Coddington St:geo:-70.997083,42.252978
END:VEVENT
BEGIN:VEVENT
DTSTART;TZID=America/Halifax:20180422T150000
DTEND;TZID=America/Halifax:20180422T163000
DTSTAMP:20260420T131520
CREATED:20170830T161746Z
LAST-MODIFIED:20180622T005500Z
UID:10000553-1524409200-1524414600@adaptivesportsne.org
SUMMARY:PSC SWIM TEAM - ASNE (Quincy)
DESCRIPTION:Paralympic Sport Club Boston Swim Team Training.  All levels of competitiveness. $50 for Fall season (through December 17). \nREGISTER HERE.
URL:https://adaptivesportsne.org/event/swim-team-adptvsptsne-quincy/2018-04-22/
LOCATION:South Shore YMCA – Quincy\, 79 Coddington St\, Quincy \, MA\, 02169\, United States
CATEGORIES:Swimming
ORGANIZER;CN="Adaptive Sports New England":MAILTO:joe.walsh@adaptivesportsne.org
GEO:42.252978;-70.997083
X-APPLE-STRUCTURED-LOCATION;VALUE=URI;X-ADDRESS=South Shore YMCA – Quincy 79 Coddington St Quincy  MA 02169 United States;X-APPLE-RADIUS=500;X-TITLE=79 Coddington St:geo:-70.997083,42.252978
END:VEVENT
BEGIN:VEVENT
DTSTART;TZID=America/Halifax:20180415T150000
DTEND;TZID=America/Halifax:20180415T163000
DTSTAMP:20260420T131520
CREATED:20170830T161746Z
LAST-MODIFIED:20180622T005500Z
UID:10000552-1523804400-1523809800@adaptivesportsne.org
SUMMARY:PSC SWIM TEAM - ASNE (Quincy)
DESCRIPTION:Paralympic Sport Club Boston Swim Team Training.  All levels of competitiveness. $50 for Fall season (through December 17). \nREGISTER HERE.
URL:https://adaptivesportsne.org/event/swim-team-adptvsptsne-quincy/2018-04-15/
LOCATION:South Shore YMCA – Quincy\, 79 Coddington St\, Quincy \, MA\, 02169\, United States
CATEGORIES:Swimming
ORGANIZER;CN="Adaptive Sports New England":MAILTO:joe.walsh@adaptivesportsne.org
GEO:42.252978;-70.997083
X-APPLE-STRUCTURED-LOCATION;VALUE=URI;X-ADDRESS=South Shore YMCA – Quincy 79 Coddington St Quincy  MA 02169 United States;X-APPLE-RADIUS=500;X-TITLE=79 Coddington St:geo:-70.997083,42.252978
END:VEVENT
BEGIN:VEVENT
DTSTART;VALUE=DATE:20180407
DTEND;VALUE=DATE:20180409
DTSTAMP:20260420T131520
CREATED:20180217T163203Z
LAST-MODIFIED:20180217T163203Z
UID:10002585-1523059200-1523231999@adaptivesportsne.org
SUMMARY:Northeast Para Swim Clinic - AdptvSptsNE (Amherst)
DESCRIPTION:See more info and register HERE
URL:https://adaptivesportsne.org/event/northeast-para-swim-clinic-adptvsptsne-amherst/
LOCATION:University of Massachusetts/Amherst\, Boydon Gym\, 131 Commonwealth Ave.\, Amherst\, MA\, 01002\, United States
ORGANIZER;CN="Adaptive Sports New England":MAILTO:joe.walsh@adaptivesportsne.org
GEO:42.386427;-72.5306502
X-APPLE-STRUCTURED-LOCATION;VALUE=URI;X-ADDRESS=University of Massachusetts/Amherst Boydon Gym 131 Commonwealth Ave. Amherst MA 01002 United States;X-APPLE-RADIUS=500;X-TITLE=Boydon Gym\, 131 Commonwealth Ave.:geo:-72.5306502,42.386427
END:VEVENT
BEGIN:VEVENT
DTSTART;TZID=America/Halifax:20180325T150000
DTEND;TZID=America/Halifax:20180325T163000
DTSTAMP:20260420T131520
CREATED:20170830T161746Z
LAST-MODIFIED:20180622T005500Z
UID:10000551-1521990000-1521995400@adaptivesportsne.org
SUMMARY:PSC SWIM TEAM - ASNE (Quincy)
DESCRIPTION:Paralympic Sport Club Boston Swim Team Training.  All levels of competitiveness. $50 for Fall season (through December 17). \nREGISTER HERE.
URL:https://adaptivesportsne.org/event/swim-team-adptvsptsne-quincy/2018-03-25/
LOCATION:South Shore YMCA – Quincy\, 79 Coddington St\, Quincy \, MA\, 02169\, United States
CATEGORIES:Swimming
ORGANIZER;CN="Adaptive Sports New England":MAILTO:joe.walsh@adaptivesportsne.org
GEO:42.252978;-70.997083
X-APPLE-STRUCTURED-LOCATION;VALUE=URI;X-ADDRESS=South Shore YMCA – Quincy 79 Coddington St Quincy  MA 02169 United States;X-APPLE-RADIUS=500;X-TITLE=79 Coddington St:geo:-70.997083,42.252978
END:VEVENT
BEGIN:VEVENT
DTSTART;TZID=America/Halifax:20180325T140000
DTEND;TZID=America/Halifax:20180325T153000
DTSTAMP:20260420T131520
CREATED:20170914T143747Z
LAST-MODIFIED:20171107T010723Z
UID:10002304-1521986400-1521991800@adaptivesportsne.org
SUMMARY:Youth WC Basketball - AdptvSptsNE (Quincy)
DESCRIPTION:Wheelchair basketball practice and play for youth and young adults.
URL:https://adaptivesportsne.org/event/youth-wc-bbl-practice-adptvsptsne-quincy/2018-03-25/
LOCATION:South Shore YMCA – Quincy\, 79 Coddington St\, Quincy \, MA\, 02169\, United States
ORGANIZER;CN="Adaptive Sports New England":MAILTO:joe.walsh@adaptivesportsne.org
GEO:42.252978;-70.997083
X-APPLE-STRUCTURED-LOCATION;VALUE=URI;X-ADDRESS=South Shore YMCA – Quincy 79 Coddington St Quincy  MA 02169 United States;X-APPLE-RADIUS=500;X-TITLE=79 Coddington St:geo:-70.997083,42.252978
END:VEVENT
BEGIN:VEVENT
DTSTART;TZID=America/Halifax:20180318T150000
DTEND;TZID=America/Halifax:20180318T163000
DTSTAMP:20260420T131520
CREATED:20170830T161746Z
LAST-MODIFIED:20180622T005500Z
UID:10000550-1521385200-1521390600@adaptivesportsne.org
SUMMARY:PSC SWIM TEAM - ASNE (Quincy)
DESCRIPTION:Paralympic Sport Club Boston Swim Team Training.  All levels of competitiveness. $50 for Fall season (through December 17). \nREGISTER HERE.
URL:https://adaptivesportsne.org/event/swim-team-adptvsptsne-quincy/2018-03-18/
LOCATION:South Shore YMCA – Quincy\, 79 Coddington St\, Quincy \, MA\, 02169\, United States
CATEGORIES:Swimming
ORGANIZER;CN="Adaptive Sports New England":MAILTO:joe.walsh@adaptivesportsne.org
GEO:42.252978;-70.997083
X-APPLE-STRUCTURED-LOCATION;VALUE=URI;X-ADDRESS=South Shore YMCA – Quincy 79 Coddington St Quincy  MA 02169 United States;X-APPLE-RADIUS=500;X-TITLE=79 Coddington St:geo:-70.997083,42.252978
END:VEVENT
BEGIN:VEVENT
DTSTART;TZID=America/Halifax:20180318T140000
DTEND;TZID=America/Halifax:20180318T153000
DTSTAMP:20260420T131520
CREATED:20170914T143747Z
LAST-MODIFIED:20171107T010723Z
UID:10002303-1521381600-1521387000@adaptivesportsne.org
SUMMARY:Youth WC Basketball - AdptvSptsNE (Quincy)
DESCRIPTION:Wheelchair basketball practice and play for youth and young adults.
URL:https://adaptivesportsne.org/event/youth-wc-bbl-practice-adptvsptsne-quincy/2018-03-18/
LOCATION:South Shore YMCA – Quincy\, 79 Coddington St\, Quincy \, MA\, 02169\, United States
ORGANIZER;CN="Adaptive Sports New England":MAILTO:joe.walsh@adaptivesportsne.org
GEO:42.252978;-70.997083
X-APPLE-STRUCTURED-LOCATION;VALUE=URI;X-ADDRESS=South Shore YMCA – Quincy 79 Coddington St Quincy  MA 02169 United States;X-APPLE-RADIUS=500;X-TITLE=79 Coddington St:geo:-70.997083,42.252978
END:VEVENT
BEGIN:VEVENT
DTSTART;TZID=America/Halifax:20180311T150000
DTEND;TZID=America/Halifax:20180311T163000
DTSTAMP:20260420T131520
CREATED:20170830T161746Z
LAST-MODIFIED:20180622T005500Z
UID:10000549-1520780400-1520785800@adaptivesportsne.org
SUMMARY:PSC SWIM TEAM - ASNE (Quincy)
DESCRIPTION:Paralympic Sport Club Boston Swim Team Training.  All levels of competitiveness. $50 for Fall season (through December 17). \nREGISTER HERE.
URL:https://adaptivesportsne.org/event/swim-team-adptvsptsne-quincy/2018-03-11/
LOCATION:South Shore YMCA – Quincy\, 79 Coddington St\, Quincy \, MA\, 02169\, United States
CATEGORIES:Swimming
ORGANIZER;CN="Adaptive Sports New England":MAILTO:joe.walsh@adaptivesportsne.org
GEO:42.252978;-70.997083
X-APPLE-STRUCTURED-LOCATION;VALUE=URI;X-ADDRESS=South Shore YMCA – Quincy 79 Coddington St Quincy  MA 02169 United States;X-APPLE-RADIUS=500;X-TITLE=79 Coddington St:geo:-70.997083,42.252978
END:VEVENT
BEGIN:VEVENT
DTSTART;TZID=America/Halifax:20180225T150000
DTEND;TZID=America/Halifax:20180225T163000
DTSTAMP:20260420T131520
CREATED:20170830T161746Z
LAST-MODIFIED:20180622T005500Z
UID:10000548-1519570800-1519576200@adaptivesportsne.org
SUMMARY:PSC SWIM TEAM - ASNE (Quincy)
DESCRIPTION:Paralympic Sport Club Boston Swim Team Training.  All levels of competitiveness. $50 for Fall season (through December 17). \nREGISTER HERE.
URL:https://adaptivesportsne.org/event/swim-team-adptvsptsne-quincy/2018-02-25/
LOCATION:South Shore YMCA – Quincy\, 79 Coddington St\, Quincy \, MA\, 02169\, United States
CATEGORIES:Swimming
ORGANIZER;CN="Adaptive Sports New England":MAILTO:joe.walsh@adaptivesportsne.org
GEO:42.252978;-70.997083
X-APPLE-STRUCTURED-LOCATION;VALUE=URI;X-ADDRESS=South Shore YMCA – Quincy 79 Coddington St Quincy  MA 02169 United States;X-APPLE-RADIUS=500;X-TITLE=79 Coddington St:geo:-70.997083,42.252978
END:VEVENT
BEGIN:VEVENT
DTSTART;TZID=America/Halifax:20180225T140000
DTEND;TZID=America/Halifax:20180225T153000
DTSTAMP:20260420T131520
CREATED:20170914T143747Z
LAST-MODIFIED:20171107T010723Z
UID:10002302-1519567200-1519572600@adaptivesportsne.org
SUMMARY:Youth WC Basketball - AdptvSptsNE (Quincy)
DESCRIPTION:Wheelchair basketball practice and play for youth and young adults.
URL:https://adaptivesportsne.org/event/youth-wc-bbl-practice-adptvsptsne-quincy/2018-02-25/
LOCATION:South Shore YMCA – Quincy\, 79 Coddington St\, Quincy \, MA\, 02169\, United States
ORGANIZER;CN="Adaptive Sports New England":MAILTO:joe.walsh@adaptivesportsne.org
GEO:42.252978;-70.997083
X-APPLE-STRUCTURED-LOCATION;VALUE=URI;X-ADDRESS=South Shore YMCA – Quincy 79 Coddington St Quincy  MA 02169 United States;X-APPLE-RADIUS=500;X-TITLE=79 Coddington St:geo:-70.997083,42.252978
END:VEVENT
BEGIN:VEVENT
DTSTART;TZID=America/Halifax:20180218T150000
DTEND;TZID=America/Halifax:20180218T163000
DTSTAMP:20260420T131520
CREATED:20170830T161746Z
LAST-MODIFIED:20180622T005500Z
UID:10000547-1518966000-1518971400@adaptivesportsne.org
SUMMARY:PSC SWIM TEAM - ASNE (Quincy)
DESCRIPTION:Paralympic Sport Club Boston Swim Team Training.  All levels of competitiveness. $50 for Fall season (through December 17). \nREGISTER HERE.
URL:https://adaptivesportsne.org/event/swim-team-adptvsptsne-quincy/2018-02-18/
LOCATION:South Shore YMCA – Quincy\, 79 Coddington St\, Quincy \, MA\, 02169\, United States
CATEGORIES:Swimming
ORGANIZER;CN="Adaptive Sports New England":MAILTO:joe.walsh@adaptivesportsne.org
GEO:42.252978;-70.997083
X-APPLE-STRUCTURED-LOCATION;VALUE=URI;X-ADDRESS=South Shore YMCA – Quincy 79 Coddington St Quincy  MA 02169 United States;X-APPLE-RADIUS=500;X-TITLE=79 Coddington St:geo:-70.997083,42.252978
END:VEVENT
BEGIN:VEVENT
DTSTART;TZID=America/Halifax:20180211T150000
DTEND;TZID=America/Halifax:20180211T163000
DTSTAMP:20260420T131520
CREATED:20170830T161746Z
LAST-MODIFIED:20180622T005500Z
UID:10000546-1518361200-1518366600@adaptivesportsne.org
SUMMARY:PSC SWIM TEAM - ASNE (Quincy)
DESCRIPTION:Paralympic Sport Club Boston Swim Team Training.  All levels of competitiveness. $50 for Fall season (through December 17). \nREGISTER HERE.
URL:https://adaptivesportsne.org/event/swim-team-adptvsptsne-quincy/2018-02-11/
LOCATION:South Shore YMCA – Quincy\, 79 Coddington St\, Quincy \, MA\, 02169\, United States
CATEGORIES:Swimming
ORGANIZER;CN="Adaptive Sports New England":MAILTO:joe.walsh@adaptivesportsne.org
GEO:42.252978;-70.997083
X-APPLE-STRUCTURED-LOCATION;VALUE=URI;X-ADDRESS=South Shore YMCA – Quincy 79 Coddington St Quincy  MA 02169 United States;X-APPLE-RADIUS=500;X-TITLE=79 Coddington St:geo:-70.997083,42.252978
END:VEVENT
BEGIN:VEVENT
DTSTART;TZID=America/Halifax:20180211T140000
DTEND;TZID=America/Halifax:20180211T153000
DTSTAMP:20260420T131520
CREATED:20170914T143747Z
LAST-MODIFIED:20171107T010723Z
UID:10002301-1518357600-1518363000@adaptivesportsne.org
SUMMARY:Youth WC Basketball - AdptvSptsNE (Quincy)
DESCRIPTION:Wheelchair basketball practice and play for youth and young adults.
URL:https://adaptivesportsne.org/event/youth-wc-bbl-practice-adptvsptsne-quincy/2018-02-11/
LOCATION:South Shore YMCA – Quincy\, 79 Coddington St\, Quincy \, MA\, 02169\, United States
ORGANIZER;CN="Adaptive Sports New England":MAILTO:joe.walsh@adaptivesportsne.org
GEO:42.252978;-70.997083
X-APPLE-STRUCTURED-LOCATION;VALUE=URI;X-ADDRESS=South Shore YMCA – Quincy 79 Coddington St Quincy  MA 02169 United States;X-APPLE-RADIUS=500;X-TITLE=79 Coddington St:geo:-70.997083,42.252978
END:VEVENT
BEGIN:VEVENT
DTSTART;TZID=America/Halifax:20180204T150000
DTEND;TZID=America/Halifax:20180204T163000
DTSTAMP:20260420T131520
CREATED:20170830T161746Z
LAST-MODIFIED:20180622T005500Z
UID:10000545-1517756400-1517761800@adaptivesportsne.org
SUMMARY:PSC SWIM TEAM - ASNE (Quincy)
DESCRIPTION:Paralympic Sport Club Boston Swim Team Training.  All levels of competitiveness. $50 for Fall season (through December 17). \nREGISTER HERE.
URL:https://adaptivesportsne.org/event/swim-team-adptvsptsne-quincy/2018-02-04/
LOCATION:South Shore YMCA – Quincy\, 79 Coddington St\, Quincy \, MA\, 02169\, United States
CATEGORIES:Swimming
ORGANIZER;CN="Adaptive Sports New England":MAILTO:joe.walsh@adaptivesportsne.org
GEO:42.252978;-70.997083
X-APPLE-STRUCTURED-LOCATION;VALUE=URI;X-ADDRESS=South Shore YMCA – Quincy 79 Coddington St Quincy  MA 02169 United States;X-APPLE-RADIUS=500;X-TITLE=79 Coddington St:geo:-70.997083,42.252978
END:VEVENT
BEGIN:VEVENT
DTSTART;TZID=America/Halifax:20180204T140000
DTEND;TZID=America/Halifax:20180204T153000
DTSTAMP:20260420T131520
CREATED:20170914T143747Z
LAST-MODIFIED:20171107T010723Z
UID:10002300-1517752800-1517758200@adaptivesportsne.org
SUMMARY:Youth WC Basketball - AdptvSptsNE (Quincy)
DESCRIPTION:Wheelchair basketball practice and play for youth and young adults.
URL:https://adaptivesportsne.org/event/youth-wc-bbl-practice-adptvsptsne-quincy/2018-02-04/
LOCATION:South Shore YMCA – Quincy\, 79 Coddington St\, Quincy \, MA\, 02169\, United States
ORGANIZER;CN="Adaptive Sports New England":MAILTO:joe.walsh@adaptivesportsne.org
GEO:42.252978;-70.997083
X-APPLE-STRUCTURED-LOCATION;VALUE=URI;X-ADDRESS=South Shore YMCA – Quincy 79 Coddington St Quincy  MA 02169 United States;X-APPLE-RADIUS=500;X-TITLE=79 Coddington St:geo:-70.997083,42.252978
END:VEVENT
BEGIN:VEVENT
DTSTART;TZID=America/Halifax:20180128T150000
DTEND;TZID=America/Halifax:20180128T163000
DTSTAMP:20260420T131520
CREATED:20170830T161746Z
LAST-MODIFIED:20180622T005500Z
UID:10000544-1517151600-1517157000@adaptivesportsne.org
SUMMARY:PSC SWIM TEAM - ASNE (Quincy)
DESCRIPTION:Paralympic Sport Club Boston Swim Team Training.  All levels of competitiveness. $50 for Fall season (through December 17). \nREGISTER HERE.
URL:https://adaptivesportsne.org/event/swim-team-adptvsptsne-quincy/2018-01-28/
LOCATION:South Shore YMCA – Quincy\, 79 Coddington St\, Quincy \, MA\, 02169\, United States
CATEGORIES:Swimming
ORGANIZER;CN="Adaptive Sports New England":MAILTO:joe.walsh@adaptivesportsne.org
GEO:42.252978;-70.997083
X-APPLE-STRUCTURED-LOCATION;VALUE=URI;X-ADDRESS=South Shore YMCA – Quincy 79 Coddington St Quincy  MA 02169 United States;X-APPLE-RADIUS=500;X-TITLE=79 Coddington St:geo:-70.997083,42.252978
END:VEVENT
BEGIN:VEVENT
DTSTART;TZID=America/Halifax:20180128T140000
DTEND;TZID=America/Halifax:20180128T153000
DTSTAMP:20260420T131520
CREATED:20170914T143747Z
LAST-MODIFIED:20171107T010723Z
UID:10002299-1517148000-1517153400@adaptivesportsne.org
SUMMARY:Youth WC Basketball - AdptvSptsNE (Quincy)
DESCRIPTION:Wheelchair basketball practice and play for youth and young adults.
URL:https://adaptivesportsne.org/event/youth-wc-bbl-practice-adptvsptsne-quincy/2018-01-28/
LOCATION:South Shore YMCA – Quincy\, 79 Coddington St\, Quincy \, MA\, 02169\, United States
ORGANIZER;CN="Adaptive Sports New England":MAILTO:joe.walsh@adaptivesportsne.org
GEO:42.252978;-70.997083
X-APPLE-STRUCTURED-LOCATION;VALUE=URI;X-ADDRESS=South Shore YMCA – Quincy 79 Coddington St Quincy  MA 02169 United States;X-APPLE-RADIUS=500;X-TITLE=79 Coddington St:geo:-70.997083,42.252978
END:VEVENT
BEGIN:VEVENT
DTSTART;TZID=America/Halifax:20180121T150000
DTEND;TZID=America/Halifax:20180121T163000
DTSTAMP:20260420T131520
CREATED:20170830T161746Z
LAST-MODIFIED:20180622T005500Z
UID:10000543-1516546800-1516552200@adaptivesportsne.org
SUMMARY:PSC SWIM TEAM - ASNE (Quincy)
DESCRIPTION:Paralympic Sport Club Boston Swim Team Training.  All levels of competitiveness. $50 for Fall season (through December 17). \nREGISTER HERE.
URL:https://adaptivesportsne.org/event/swim-team-adptvsptsne-quincy/2018-01-21/
LOCATION:South Shore YMCA – Quincy\, 79 Coddington St\, Quincy \, MA\, 02169\, United States
CATEGORIES:Swimming
ORGANIZER;CN="Adaptive Sports New England":MAILTO:joe.walsh@adaptivesportsne.org
GEO:42.252978;-70.997083
X-APPLE-STRUCTURED-LOCATION;VALUE=URI;X-ADDRESS=South Shore YMCA – Quincy 79 Coddington St Quincy  MA 02169 United States;X-APPLE-RADIUS=500;X-TITLE=79 Coddington St:geo:-70.997083,42.252978
END:VEVENT
END:VCALENDAR