BEGIN:VCALENDAR
VERSION:2.0
PRODID:-//Adaptive Sports New England - ECPv6.15.20//NONSGML v1.0//EN
CALSCALE:GREGORIAN
METHOD:PUBLISH
X-WR-CALNAME:Adaptive Sports New England
X-ORIGINAL-URL:https://adaptivesportsne.org
X-WR-CALDESC:Events for Adaptive Sports New England
REFRESH-INTERVAL;VALUE=DURATION:PT1H
X-Robots-Tag:noindex
X-PUBLISHED-TTL:PT1H
BEGIN:VTIMEZONE
TZID:America/Halifax
BEGIN:DAYLIGHT
TZOFFSETFROM:-0400
TZOFFSETTO:-0300
TZNAME:ADT
DTSTART:20130310T060000
END:DAYLIGHT
BEGIN:STANDARD
TZOFFSETFROM:-0300
TZOFFSETTO:-0400
TZNAME:AST
DTSTART:20131103T050000
END:STANDARD
BEGIN:DAYLIGHT
TZOFFSETFROM:-0400
TZOFFSETTO:-0300
TZNAME:ADT
DTSTART:20140309T060000
END:DAYLIGHT
BEGIN:STANDARD
TZOFFSETFROM:-0300
TZOFFSETTO:-0400
TZNAME:AST
DTSTART:20141102T050000
END:STANDARD
BEGIN:DAYLIGHT
TZOFFSETFROM:-0400
TZOFFSETTO:-0300
TZNAME:ADT
DTSTART:20150308T060000
END:DAYLIGHT
BEGIN:STANDARD
TZOFFSETFROM:-0300
TZOFFSETTO:-0400
TZNAME:AST
DTSTART:20151101T050000
END:STANDARD
BEGIN:DAYLIGHT
TZOFFSETFROM:-0400
TZOFFSETTO:-0300
TZNAME:ADT
DTSTART:20160313T060000
END:DAYLIGHT
BEGIN:STANDARD
TZOFFSETFROM:-0300
TZOFFSETTO:-0400
TZNAME:AST
DTSTART:20161106T050000
END:STANDARD
END:VTIMEZONE
BEGIN:VEVENT
DTSTART;VALUE=DATE:20151114
DTEND;VALUE=DATE:20151116
DTSTAMP:20260423T020157
CREATED:20151104T142820Z
LAST-MODIFIED:20151104T145329Z
UID:10000164-1447459200-1447631999@adaptivesportsne.org
SUMMARY:Wheelchair Tennis Camp
DESCRIPTION:INFORMATION AND REGISTRATION FLYER 
URL:https://adaptivesportsne.org/event/wheelchair-tennis-camp/
LOCATION:Harvard University Athletic Complex\, 65 North Harvard Street\, Boston\, MA\, 02163\, United States
GEO:42.3677007;-71.127811
X-APPLE-STRUCTURED-LOCATION;VALUE=URI;X-ADDRESS=Harvard University Athletic Complex 65 North Harvard Street Boston MA 02163 United States;X-APPLE-RADIUS=500;X-TITLE=65 North Harvard Street:geo:-71.127811,42.3677007
END:VEVENT
BEGIN:VEVENT
DTSTART;TZID=America/Halifax:20141005T120000
DTEND;TZID=America/Halifax:20141005T140000
DTSTAMP:20260423T020157
CREATED:20140930T235757Z
LAST-MODIFIED:20141014T001012Z
UID:10000183-1412510400-1412517600@adaptivesportsne.org
SUMMARY:WC Tennis
DESCRIPTION:New England Wheelchair Sports \nPick-up play
URL:https://adaptivesportsne.org/event/wc-tennis/2014-10-05/
LOCATION:Harvard University Athletic Complex\, 65 North Harvard Street\, Boston\, MA\, 02163\, United States
GEO:42.3677007;-71.127811
X-APPLE-STRUCTURED-LOCATION;VALUE=URI;X-ADDRESS=Harvard University Athletic Complex 65 North Harvard Street Boston MA 02163 United States;X-APPLE-RADIUS=500;X-TITLE=65 North Harvard Street:geo:-71.127811,42.3677007
END:VEVENT
END:VCALENDAR