BEGIN:VCALENDAR
VERSION:2.0
PRODID:-//Adaptive Sports New England - ECPv6.15.20//NONSGML v1.0//EN
CALSCALE:GREGORIAN
METHOD:PUBLISH
X-WR-CALNAME:Adaptive Sports New England
X-ORIGINAL-URL:https://adaptivesportsne.org
X-WR-CALDESC:Events for Adaptive Sports New England
REFRESH-INTERVAL;VALUE=DURATION:PT1H
X-Robots-Tag:noindex
X-PUBLISHED-TTL:PT1H
BEGIN:VTIMEZONE
TZID:America/Halifax
BEGIN:DAYLIGHT
TZOFFSETFROM:-0400
TZOFFSETTO:-0300
TZNAME:ADT
DTSTART:20190310T060000
END:DAYLIGHT
BEGIN:STANDARD
TZOFFSETFROM:-0300
TZOFFSETTO:-0400
TZNAME:AST
DTSTART:20191103T050000
END:STANDARD
BEGIN:DAYLIGHT
TZOFFSETFROM:-0400
TZOFFSETTO:-0300
TZNAME:ADT
DTSTART:20200308T060000
END:DAYLIGHT
BEGIN:STANDARD
TZOFFSETFROM:-0300
TZOFFSETTO:-0400
TZNAME:AST
DTSTART:20201101T050000
END:STANDARD
BEGIN:DAYLIGHT
TZOFFSETFROM:-0400
TZOFFSETTO:-0300
TZNAME:ADT
DTSTART:20210314T060000
END:DAYLIGHT
BEGIN:STANDARD
TZOFFSETFROM:-0300
TZOFFSETTO:-0400
TZNAME:AST
DTSTART:20211107T050000
END:STANDARD
END:VTIMEZONE
BEGIN:VEVENT
DTSTART;VALUE=DATE:20200721
DTEND;VALUE=DATE:20200722
DTSTAMP:20260420T015231
CREATED:20200623T144122Z
LAST-MODIFIED:20200828T194528Z
UID:10001624-1595289600-1595375999@adaptivesportsne.org
SUMMARY:Outdoor Spin - SASC (Charlestown)
DESCRIPTION:Multiple one hour classes\, check for details.
URL:https://adaptivesportsne.org/event/outdoor-spin-sasc-charlestown/2020-07-21/
LOCATION:Spaulding Rehabilitation Hospital\, 300 First Avenue\, Charlestown\, MA\, United States
CATEGORIES:Non-Competitive Recreation
ORGANIZER;CN="Spaulding Adaptive Sports Centers":MAILTO:scarper@partners.org
GEO:42.3785133;-71.049126
X-APPLE-STRUCTURED-LOCATION;VALUE=URI;X-ADDRESS=Spaulding Rehabilitation Hospital 300 First Avenue Charlestown MA United States;X-APPLE-RADIUS=500;X-TITLE=300 First Avenue:geo:-71.049126,42.3785133
END:VEVENT
BEGIN:VEVENT
DTSTART;VALUE=DATE:20200720
DTEND;VALUE=DATE:20200721
DTSTAMP:20260420T015231
CREATED:20200623T144122Z
LAST-MODIFIED:20200828T194528Z
UID:10001623-1595203200-1595289599@adaptivesportsne.org
SUMMARY:Outdoor Spin - SASC (Charlestown)
DESCRIPTION:Multiple one hour classes\, check for details.
URL:https://adaptivesportsne.org/event/outdoor-spin-sasc-charlestown/2020-07-20/
LOCATION:Spaulding Rehabilitation Hospital\, 300 First Avenue\, Charlestown\, MA\, United States
CATEGORIES:Non-Competitive Recreation
ORGANIZER;CN="Spaulding Adaptive Sports Centers":MAILTO:scarper@partners.org
GEO:42.3785133;-71.049126
X-APPLE-STRUCTURED-LOCATION;VALUE=URI;X-ADDRESS=Spaulding Rehabilitation Hospital 300 First Avenue Charlestown MA United States;X-APPLE-RADIUS=500;X-TITLE=300 First Avenue:geo:-71.049126,42.3785133
END:VEVENT
BEGIN:VEVENT
DTSTART;TZID=America/Halifax:20200718T103000
DTEND;TZID=America/Halifax:20200718T150000
DTSTAMP:20260420T015231
CREATED:20200623T153051Z
LAST-MODIFIED:20200623T153051Z
UID:10003439-1595068200-1595084400@adaptivesportsne.org
SUMMARY:Outdoor Spin - SASC (Brewster)
DESCRIPTION:Multiple one hour sessions\, check for details.
URL:https://adaptivesportsne.org/event/outdoor-spin-sasc-brewster-2/
LOCATION:McGraw Center\, 0 Main St\, Rt 6A\, Brewster\, 02631\, United States
CATEGORIES:Non-Competitive Recreation
ORGANIZER;CN="Spaulding Adaptive Sports Centers":MAILTO:scarper@partners.org
GEO:41.6876803;-70.1051777
X-APPLE-STRUCTURED-LOCATION;VALUE=URI;X-ADDRESS=McGraw Center 0 Main St Rt 6A Brewster 02631 United States;X-APPLE-RADIUS=500;X-TITLE=0 Main St\, Rt 6A:geo:-70.1051777,41.6876803
END:VEVENT
BEGIN:VEVENT
DTSTART;VALUE=DATE:20200717
DTEND;VALUE=DATE:20200718
DTSTAMP:20260420T015231
CREATED:20200623T144122Z
LAST-MODIFIED:20200828T194528Z
UID:10001622-1594944000-1595030399@adaptivesportsne.org
SUMMARY:Outdoor Spin - SASC (Charlestown)
DESCRIPTION:Multiple one hour classes\, check for details.
URL:https://adaptivesportsne.org/event/outdoor-spin-sasc-charlestown/2020-07-17/
LOCATION:Spaulding Rehabilitation Hospital\, 300 First Avenue\, Charlestown\, MA\, United States
CATEGORIES:Non-Competitive Recreation
ORGANIZER;CN="Spaulding Adaptive Sports Centers":MAILTO:scarper@partners.org
GEO:42.3785133;-71.049126
X-APPLE-STRUCTURED-LOCATION;VALUE=URI;X-ADDRESS=Spaulding Rehabilitation Hospital 300 First Avenue Charlestown MA United States;X-APPLE-RADIUS=500;X-TITLE=300 First Avenue:geo:-71.049126,42.3785133
END:VEVENT
BEGIN:VEVENT
DTSTART;TZID=America/Halifax:20200716T080000
DTEND;TZID=America/Halifax:20200716T123000
DTSTAMP:20260420T015231
CREATED:20200715T123421Z
LAST-MODIFIED:20200828T194303Z
UID:10003479-1594886400-1594902600@adaptivesportsne.org
SUMMARY:Cycling - SASC (Brewster)
DESCRIPTION:90 minute sessions; check for details
URL:https://adaptivesportsne.org/event/cycling-sasc-brewster-4/2020-07-16/
LOCATION:McGraw Center\, 0 Main St\, Rt 6A\, Brewster\, 02631\, United States
CATEGORIES:Non-Competitive Recreation
ORGANIZER;CN="Spaulding Adaptive Sports Centers":MAILTO:scarper@partners.org
GEO:41.6876803;-70.1051777
X-APPLE-STRUCTURED-LOCATION;VALUE=URI;X-ADDRESS=McGraw Center 0 Main St Rt 6A Brewster 02631 United States;X-APPLE-RADIUS=500;X-TITLE=0 Main St\, Rt 6A:geo:-70.1051777,41.6876803
END:VEVENT
BEGIN:VEVENT
DTSTART;VALUE=DATE:20200716
DTEND;VALUE=DATE:20200717
DTSTAMP:20260420T015231
CREATED:20200623T144122Z
LAST-MODIFIED:20200828T194528Z
UID:10001621-1594857600-1594943999@adaptivesportsne.org
SUMMARY:Outdoor Spin - SASC (Charlestown)
DESCRIPTION:Multiple one hour classes\, check for details.
URL:https://adaptivesportsne.org/event/outdoor-spin-sasc-charlestown/2020-07-16/
LOCATION:Spaulding Rehabilitation Hospital\, 300 First Avenue\, Charlestown\, MA\, United States
CATEGORIES:Non-Competitive Recreation
ORGANIZER;CN="Spaulding Adaptive Sports Centers":MAILTO:scarper@partners.org
GEO:42.3785133;-71.049126
X-APPLE-STRUCTURED-LOCATION;VALUE=URI;X-ADDRESS=Spaulding Rehabilitation Hospital 300 First Avenue Charlestown MA United States;X-APPLE-RADIUS=500;X-TITLE=300 First Avenue:geo:-71.049126,42.3785133
END:VEVENT
BEGIN:VEVENT
DTSTART;TZID=America/Halifax:20200715T100000
DTEND;TZID=America/Halifax:20200715T143000
DTSTAMP:20260420T015231
CREATED:20200623T151749Z
LAST-MODIFIED:20200623T151749Z
UID:10003425-1594807200-1594823400@adaptivesportsne.org
SUMMARY:Outdoor Spin - SASC (Peabody)
DESCRIPTION:Multiple one hour sessions\, check details.
URL:https://adaptivesportsne.org/event/outdoor-spin-sasc-peabody/
LOCATION:Peabody Bike Trail\, Peabody\, MA\, United States
CATEGORIES:Non-Competitive Recreation
ORGANIZER;CN="Spaulding Adaptive Sports Centers":MAILTO:scarper@partners.org
GEO:42.5278731;-70.9286609
END:VEVENT
BEGIN:VEVENT
DTSTART;TZID=America/Halifax:20200714T140000
DTEND;TZID=America/Halifax:20200714T150000
DTSTAMP:20260420T015231
CREATED:20200623T144822Z
LAST-MODIFIED:20200715T125507Z
UID:10001667-1594735200-1594738800@adaptivesportsne.org
SUMMARY:Outdoor Spin - SASC (Brewster)
DESCRIPTION:
URL:https://adaptivesportsne.org/event/outdoor-spin-sasc-brewster/2020-07-14/
LOCATION:Spaulding Cape Cod\, 311 Service Road\,\, Sandwich\, MA\, United States
CATEGORIES:Non-Competitive Recreation
ORGANIZER;CN="Spaulding Adaptive Sports Centers":MAILTO:scarper@partners.org
GEO:41.728451;-70.470069
X-APPLE-STRUCTURED-LOCATION;VALUE=URI;X-ADDRESS=Spaulding Cape Cod 311 Service Road Sandwich MA United States;X-APPLE-RADIUS=500;X-TITLE=311 Service Road\,:geo:-70.470069,41.728451
END:VEVENT
BEGIN:VEVENT
DTSTART;TZID=America/Halifax:20200714T080000
DTEND;TZID=America/Halifax:20200714T123000
DTSTAMP:20260420T015231
CREATED:20200715T123421Z
LAST-MODIFIED:20200828T194303Z
UID:10003478-1594713600-1594729800@adaptivesportsne.org
SUMMARY:Cycling - SASC (Brewster)
DESCRIPTION:90 minute sessions; check for details
URL:https://adaptivesportsne.org/event/cycling-sasc-brewster-4/2020-07-14/
LOCATION:McGraw Center\, 0 Main St\, Rt 6A\, Brewster\, 02631\, United States
CATEGORIES:Non-Competitive Recreation
ORGANIZER;CN="Spaulding Adaptive Sports Centers":MAILTO:scarper@partners.org
GEO:41.6876803;-70.1051777
X-APPLE-STRUCTURED-LOCATION;VALUE=URI;X-ADDRESS=McGraw Center 0 Main St Rt 6A Brewster 02631 United States;X-APPLE-RADIUS=500;X-TITLE=0 Main St\, Rt 6A:geo:-70.1051777,41.6876803
END:VEVENT
BEGIN:VEVENT
DTSTART;VALUE=DATE:20200714
DTEND;VALUE=DATE:20200715
DTSTAMP:20260420T015231
CREATED:20200623T144122Z
LAST-MODIFIED:20200828T194528Z
UID:10001620-1594684800-1594771199@adaptivesportsne.org
SUMMARY:Outdoor Spin - SASC (Charlestown)
DESCRIPTION:Multiple one hour classes\, check for details.
URL:https://adaptivesportsne.org/event/outdoor-spin-sasc-charlestown/2020-07-14/
LOCATION:Spaulding Rehabilitation Hospital\, 300 First Avenue\, Charlestown\, MA\, United States
CATEGORIES:Non-Competitive Recreation
ORGANIZER;CN="Spaulding Adaptive Sports Centers":MAILTO:scarper@partners.org
GEO:42.3785133;-71.049126
X-APPLE-STRUCTURED-LOCATION;VALUE=URI;X-ADDRESS=Spaulding Rehabilitation Hospital 300 First Avenue Charlestown MA United States;X-APPLE-RADIUS=500;X-TITLE=300 First Avenue:geo:-71.049126,42.3785133
END:VEVENT
BEGIN:VEVENT
DTSTART;VALUE=DATE:20200713
DTEND;VALUE=DATE:20200714
DTSTAMP:20260420T015231
CREATED:20200623T144122Z
LAST-MODIFIED:20200828T194528Z
UID:10001619-1594598400-1594684799@adaptivesportsne.org
SUMMARY:Outdoor Spin - SASC (Charlestown)
DESCRIPTION:Multiple one hour classes\, check for details.
URL:https://adaptivesportsne.org/event/outdoor-spin-sasc-charlestown/2020-07-13/
LOCATION:Spaulding Rehabilitation Hospital\, 300 First Avenue\, Charlestown\, MA\, United States
CATEGORIES:Non-Competitive Recreation
ORGANIZER;CN="Spaulding Adaptive Sports Centers":MAILTO:scarper@partners.org
GEO:42.3785133;-71.049126
X-APPLE-STRUCTURED-LOCATION;VALUE=URI;X-ADDRESS=Spaulding Rehabilitation Hospital 300 First Avenue Charlestown MA United States;X-APPLE-RADIUS=500;X-TITLE=300 First Avenue:geo:-71.049126,42.3785133
END:VEVENT
BEGIN:VEVENT
DTSTART;TZID=America/Halifax:20200710T093000
DTEND;TZID=America/Halifax:20200710T110000
DTSTAMP:20260420T015231
CREATED:20200623T152649Z
LAST-MODIFIED:20200623T152722Z
UID:10003437-1594373400-1594378800@adaptivesportsne.org
SUMMARY:Court Sports - SASC (Brewster)
DESCRIPTION:
URL:https://adaptivesportsne.org/event/court-sports-sasc-brewster/
LOCATION:McGraw Center\, 0 Main St\, Rt 6A\, Brewster\, 02631\, United States
CATEGORIES:Non-Competitive Recreation
ORGANIZER;CN="Spaulding Adaptive Sports Centers":MAILTO:scarper@partners.org
GEO:41.6876803;-70.1051777
X-APPLE-STRUCTURED-LOCATION;VALUE=URI;X-ADDRESS=McGraw Center 0 Main St Rt 6A Brewster 02631 United States;X-APPLE-RADIUS=500;X-TITLE=0 Main St\, Rt 6A:geo:-70.1051777,41.6876803
END:VEVENT
BEGIN:VEVENT
DTSTART;VALUE=DATE:20200710
DTEND;VALUE=DATE:20200711
DTSTAMP:20260420T015231
CREATED:20200623T144122Z
LAST-MODIFIED:20200828T194528Z
UID:10001618-1594339200-1594425599@adaptivesportsne.org
SUMMARY:Outdoor Spin - SASC (Charlestown)
DESCRIPTION:Multiple one hour classes\, check for details.
URL:https://adaptivesportsne.org/event/outdoor-spin-sasc-charlestown/2020-07-10/
LOCATION:Spaulding Rehabilitation Hospital\, 300 First Avenue\, Charlestown\, MA\, United States
CATEGORIES:Non-Competitive Recreation
ORGANIZER;CN="Spaulding Adaptive Sports Centers":MAILTO:scarper@partners.org
GEO:42.3785133;-71.049126
X-APPLE-STRUCTURED-LOCATION;VALUE=URI;X-ADDRESS=Spaulding Rehabilitation Hospital 300 First Avenue Charlestown MA United States;X-APPLE-RADIUS=500;X-TITLE=300 First Avenue:geo:-71.049126,42.3785133
END:VEVENT
BEGIN:VEVENT
DTSTART;VALUE=DATE:20200709
DTEND;VALUE=DATE:20200710
DTSTAMP:20260420T015231
CREATED:20200623T144122Z
LAST-MODIFIED:20200828T194528Z
UID:10001617-1594252800-1594339199@adaptivesportsne.org
SUMMARY:Outdoor Spin - SASC (Charlestown)
DESCRIPTION:Multiple one hour classes\, check for details.
URL:https://adaptivesportsne.org/event/outdoor-spin-sasc-charlestown/2020-07-09/
LOCATION:Spaulding Rehabilitation Hospital\, 300 First Avenue\, Charlestown\, MA\, United States
CATEGORIES:Non-Competitive Recreation
ORGANIZER;CN="Spaulding Adaptive Sports Centers":MAILTO:scarper@partners.org
GEO:42.3785133;-71.049126
X-APPLE-STRUCTURED-LOCATION;VALUE=URI;X-ADDRESS=Spaulding Rehabilitation Hospital 300 First Avenue Charlestown MA United States;X-APPLE-RADIUS=500;X-TITLE=300 First Avenue:geo:-71.049126,42.3785133
END:VEVENT
BEGIN:VEVENT
DTSTART;TZID=America/Halifax:20200708T140000
DTEND;TZID=America/Halifax:20200708T153000
DTSTAMP:20260420T015231
CREATED:20200623T151557Z
LAST-MODIFIED:20200623T152436Z
UID:10001673-1594216800-1594222200@adaptivesportsne.org
SUMMARY:Archery - SASC (Salem)
DESCRIPTION:
URL:https://adaptivesportsne.org/event/archery-sasc-salem-9/
LOCATION:Salem Willows Park\, 158 Fort Avenue\, Salem\, MA\, 01915\, United States
CATEGORIES:Other Para Sports
ORGANIZER;CN="Spaulding Adaptive Sports Centers":MAILTO:scarper@partners.org
GEO:42.5344419;-70.8702129
X-APPLE-STRUCTURED-LOCATION;VALUE=URI;X-ADDRESS=Salem Willows Park 158 Fort Avenue Salem MA 01915 United States;X-APPLE-RADIUS=500;X-TITLE=158 Fort Avenue:geo:-70.8702129,42.5344419
END:VEVENT
BEGIN:VEVENT
DTSTART;TZID=America/Halifax:20200708T100000
DTEND;TZID=America/Halifax:20200708T110000
DTSTAMP:20260420T015231
CREATED:20200623T151432Z
LAST-MODIFIED:20200623T153223Z
UID:10001671-1594202400-1594206000@adaptivesportsne.org
SUMMARY:Tennis/Pickleball - SASC (Beverly)
DESCRIPTION:
URL:https://adaptivesportsne.org/event/tennis-pickleball-sasc-beverly/
LOCATION:Beverly High School Tennis Courts\, 100 Sohier Rd\, Beverly\, MA\, 01915\, United States
CATEGORIES:Other Para Sports
ORGANIZER;CN="Spaulding Adaptive Sports Centers":MAILTO:scarper@partners.org
GEO:42.5646116;-70.8815731
X-APPLE-STRUCTURED-LOCATION;VALUE=URI;X-ADDRESS=Beverly High School Tennis Courts 100 Sohier Rd Beverly MA 01915 United States;X-APPLE-RADIUS=500;X-TITLE=100 Sohier Rd:geo:-70.8815731,42.5646116
END:VEVENT
BEGIN:VEVENT
DTSTART;TZID=America/Halifax:20200707T140000
DTEND;TZID=America/Halifax:20200707T150000
DTSTAMP:20260420T015231
CREATED:20200623T144822Z
LAST-MODIFIED:20200715T125507Z
UID:10001666-1594130400-1594134000@adaptivesportsne.org
SUMMARY:Outdoor Spin - SASC (Brewster)
DESCRIPTION:
URL:https://adaptivesportsne.org/event/outdoor-spin-sasc-brewster/2020-07-07/
LOCATION:Spaulding Cape Cod\, 311 Service Road\,\, Sandwich\, MA\, United States
CATEGORIES:Non-Competitive Recreation
ORGANIZER;CN="Spaulding Adaptive Sports Centers":MAILTO:scarper@partners.org
GEO:41.728451;-70.470069
X-APPLE-STRUCTURED-LOCATION;VALUE=URI;X-ADDRESS=Spaulding Cape Cod 311 Service Road Sandwich MA United States;X-APPLE-RADIUS=500;X-TITLE=311 Service Road\,:geo:-70.470069,41.728451
END:VEVENT
BEGIN:VEVENT
DTSTART;VALUE=DATE:20200707
DTEND;VALUE=DATE:20200708
DTSTAMP:20260420T015231
CREATED:20200623T144122Z
LAST-MODIFIED:20200828T194528Z
UID:10001616-1594080000-1594166399@adaptivesportsne.org
SUMMARY:Outdoor Spin - SASC (Charlestown)
DESCRIPTION:Multiple one hour classes\, check for details.
URL:https://adaptivesportsne.org/event/outdoor-spin-sasc-charlestown/2020-07-07/
LOCATION:Spaulding Rehabilitation Hospital\, 300 First Avenue\, Charlestown\, MA\, United States
CATEGORIES:Non-Competitive Recreation
ORGANIZER;CN="Spaulding Adaptive Sports Centers":MAILTO:scarper@partners.org
GEO:42.3785133;-71.049126
X-APPLE-STRUCTURED-LOCATION;VALUE=URI;X-ADDRESS=Spaulding Rehabilitation Hospital 300 First Avenue Charlestown MA United States;X-APPLE-RADIUS=500;X-TITLE=300 First Avenue:geo:-71.049126,42.3785133
END:VEVENT
BEGIN:VEVENT
DTSTART;VALUE=DATE:20200706
DTEND;VALUE=DATE:20200707
DTSTAMP:20260420T015231
CREATED:20200623T144122Z
LAST-MODIFIED:20200828T194528Z
UID:10001615-1593993600-1594079999@adaptivesportsne.org
SUMMARY:Outdoor Spin - SASC (Charlestown)
DESCRIPTION:Multiple one hour classes\, check for details.
URL:https://adaptivesportsne.org/event/outdoor-spin-sasc-charlestown/2020-07-06/
LOCATION:Spaulding Rehabilitation Hospital\, 300 First Avenue\, Charlestown\, MA\, United States
CATEGORIES:Non-Competitive Recreation
ORGANIZER;CN="Spaulding Adaptive Sports Centers":MAILTO:scarper@partners.org
GEO:42.3785133;-71.049126
X-APPLE-STRUCTURED-LOCATION;VALUE=URI;X-ADDRESS=Spaulding Rehabilitation Hospital 300 First Avenue Charlestown MA United States;X-APPLE-RADIUS=500;X-TITLE=300 First Avenue:geo:-71.049126,42.3785133
END:VEVENT
BEGIN:VEVENT
DTSTART;TZID=America/Halifax:20200329T120000
DTEND;TZID=America/Halifax:20200329T140000
DTSTAMP:20260420T015231
CREATED:20191218T163600Z
LAST-MODIFIED:20191218T163600Z
UID:10003367-1585483200-1585490400@adaptivesportsne.org
SUMMARY:Sled Hockey- SASC (Everett)
DESCRIPTION:
URL:https://adaptivesportsne.org/event/sled-hockey-sasc-everett-10/2020-03-29/
LOCATION:Allied Veterans Memorial Rink\, 65 Elm Street\, Everett\, MA\, United States
CATEGORIES:Sled Hockey
ORGANIZER;CN="Spaulding Adaptive Sports Centers":MAILTO:scarper@partners.org
GEO:42.4129126;-71.0445725
X-APPLE-STRUCTURED-LOCATION;VALUE=URI;X-ADDRESS=Allied Veterans Memorial Rink 65 Elm Street Everett MA United States;X-APPLE-RADIUS=500;X-TITLE=65 Elm Street:geo:-71.0445725,42.4129126
END:VEVENT
BEGIN:VEVENT
DTSTART;TZID=America/Halifax:20200322T120000
DTEND;TZID=America/Halifax:20200322T140000
DTSTAMP:20260420T015231
CREATED:20191218T163600Z
LAST-MODIFIED:20191218T163600Z
UID:10003366-1584878400-1584885600@adaptivesportsne.org
SUMMARY:Sled Hockey- SASC (Everett)
DESCRIPTION:
URL:https://adaptivesportsne.org/event/sled-hockey-sasc-everett-10/2020-03-22/
LOCATION:Allied Veterans Memorial Rink\, 65 Elm Street\, Everett\, MA\, United States
CATEGORIES:Sled Hockey
ORGANIZER;CN="Spaulding Adaptive Sports Centers":MAILTO:scarper@partners.org
GEO:42.4129126;-71.0445725
X-APPLE-STRUCTURED-LOCATION;VALUE=URI;X-ADDRESS=Allied Veterans Memorial Rink 65 Elm Street Everett MA United States;X-APPLE-RADIUS=500;X-TITLE=65 Elm Street:geo:-71.0445725,42.4129126
END:VEVENT
BEGIN:VEVENT
DTSTART;VALUE=DATE:20200321
DTEND;VALUE=DATE:20200323
DTSTAMP:20260420T015231
CREATED:20191218T171157Z
LAST-MODIFIED:20191218T171157Z
UID:10003405-1584748800-1584921599@adaptivesportsne.org
SUMMARY:Ski/Snowboard - SASC ( Sugarbush)
DESCRIPTION:
URL:https://adaptivesportsne.org/event/ski-snowboard-sasc-sugarbush/
LOCATION:Sugarbush Ski Resort\, Warren\, VT\, United States
CATEGORIES:Non-Competitive Recreation
ORGANIZER;CN="Spaulding Adaptive Sports Centers":MAILTO:scarper@partners.org
GEO:44.112005;-72.8559473
END:VEVENT
BEGIN:VEVENT
DTSTART;TZID=America/Halifax:20200318T140000
DTEND;TZID=America/Halifax:20200318T160000
DTSTAMP:20260420T015231
CREATED:20191218T170112Z
LAST-MODIFIED:20191218T170112Z
UID:10003399-1584540000-1584547200@adaptivesportsne.org
SUMMARY:Sled Hockey - SASC (Charlestown)
DESCRIPTION:
URL:https://adaptivesportsne.org/event/sled-hockey-sasc-charlestown-3/2020-03-18/
LOCATION:Emmons Horrigan O’Neil Memorial Rink\, 150 Rutherford Avenue\, Charlestown\, MA\, United States
CATEGORIES:Sled Hockey
ORGANIZER;CN="Spaulding Adaptive Sports Centers":MAILTO:scarper@partners.org
GEO:42.3740334;-71.0689282
X-APPLE-STRUCTURED-LOCATION;VALUE=URI;X-ADDRESS=Emmons Horrigan O’Neil Memorial Rink 150 Rutherford Avenue Charlestown MA United States;X-APPLE-RADIUS=500;X-TITLE=150 Rutherford Avenue:geo:-71.0689282,42.3740334
END:VEVENT
BEGIN:VEVENT
DTSTART;TZID=America/Halifax:20200314T110000
DTEND;TZID=America/Halifax:20200314T123000
DTSTAMP:20260420T015231
CREATED:20200102T190814Z
LAST-MODIFIED:20200102T190814Z
UID:10003421-1584183600-1584189000@adaptivesportsne.org
SUMMARY:WC Basketball - SASC (Hyannis)
DESCRIPTION:
URL:https://adaptivesportsne.org/event/wc-basketball-sasc-hyannis-2/2020-03-14/
LOCATION:Hyannis Youth & Community Center\, 141 Bassett Lane\, Hyannis\, MA\, United States
CATEGORIES:WC Basketball
ORGANIZER;CN="Spaulding Adaptive Sports Centers":MAILTO:scarper@partners.org
GEO:41.6538309;-70.292849
X-APPLE-STRUCTURED-LOCATION;VALUE=URI;X-ADDRESS=Hyannis Youth & Community Center 141 Bassett Lane Hyannis MA United States;X-APPLE-RADIUS=500;X-TITLE=141 Bassett Lane:geo:-70.292849,41.6538309
END:VEVENT
BEGIN:VEVENT
DTSTART;TZID=America/Halifax:20200308T120000
DTEND;TZID=America/Halifax:20200308T140000
DTSTAMP:20260420T015231
CREATED:20191218T163600Z
LAST-MODIFIED:20191218T163600Z
UID:10003365-1583668800-1583676000@adaptivesportsne.org
SUMMARY:Sled Hockey- SASC (Everett)
DESCRIPTION:
URL:https://adaptivesportsne.org/event/sled-hockey-sasc-everett-10/2020-03-08/
LOCATION:Allied Veterans Memorial Rink\, 65 Elm Street\, Everett\, MA\, United States
CATEGORIES:Sled Hockey
ORGANIZER;CN="Spaulding Adaptive Sports Centers":MAILTO:scarper@partners.org
GEO:42.4129126;-71.0445725
X-APPLE-STRUCTURED-LOCATION;VALUE=URI;X-ADDRESS=Allied Veterans Memorial Rink 65 Elm Street Everett MA United States;X-APPLE-RADIUS=500;X-TITLE=65 Elm Street:geo:-71.0445725,42.4129126
END:VEVENT
BEGIN:VEVENT
DTSTART;VALUE=DATE:20200307
DTEND;VALUE=DATE:20200308
DTSTAMP:20260420T015231
CREATED:20191218T171040Z
LAST-MODIFIED:20200202T140103Z
UID:10003404-1583539200-1583625599@adaptivesportsne.org
SUMMARY:Ski/Snowboard - SASC (Waterville)
DESCRIPTION:
URL:https://adaptivesportsne.org/event/ski-snowboard-sasc-waterville-2/
LOCATION:Waterville Valley Ski Area\, 1 Ski Area Road\, Waterville Valley\, NH\, 03215\, United States
CATEGORIES:Non-Competitive Recreation
ORGANIZER;CN="Spaulding Adaptive Sports Centers":MAILTO:scarper@partners.org
GEO:43.9649355;-71.5250949
X-APPLE-STRUCTURED-LOCATION;VALUE=URI;X-ADDRESS=Waterville Valley Ski Area 1 Ski Area Road Waterville Valley NH 03215 United States;X-APPLE-RADIUS=500;X-TITLE=1 Ski Area Road:geo:-71.5250949,43.9649355
END:VEVENT
BEGIN:VEVENT
DTSTART;TZID=America/Halifax:20200304T140000
DTEND;TZID=America/Halifax:20200304T160000
DTSTAMP:20260420T015231
CREATED:20191218T170112Z
LAST-MODIFIED:20191218T170112Z
UID:10003398-1583330400-1583337600@adaptivesportsne.org
SUMMARY:Sled Hockey - SASC (Charlestown)
DESCRIPTION:
URL:https://adaptivesportsne.org/event/sled-hockey-sasc-charlestown-3/2020-03-04/
LOCATION:Emmons Horrigan O’Neil Memorial Rink\, 150 Rutherford Avenue\, Charlestown\, MA\, United States
CATEGORIES:Sled Hockey
ORGANIZER;CN="Spaulding Adaptive Sports Centers":MAILTO:scarper@partners.org
GEO:42.3740334;-71.0689282
X-APPLE-STRUCTURED-LOCATION;VALUE=URI;X-ADDRESS=Emmons Horrigan O’Neil Memorial Rink 150 Rutherford Avenue Charlestown MA United States;X-APPLE-RADIUS=500;X-TITLE=150 Rutherford Avenue:geo:-71.0689282,42.3740334
END:VEVENT
BEGIN:VEVENT
DTSTART;TZID=America/Halifax:20200301T120000
DTEND;TZID=America/Halifax:20200301T140000
DTSTAMP:20260420T015231
CREATED:20191218T163600Z
LAST-MODIFIED:20191218T163600Z
UID:10003364-1583064000-1583071200@adaptivesportsne.org
SUMMARY:Sled Hockey- SASC (Everett)
DESCRIPTION:
URL:https://adaptivesportsne.org/event/sled-hockey-sasc-everett-10/2020-03-01/
LOCATION:Allied Veterans Memorial Rink\, 65 Elm Street\, Everett\, MA\, United States
CATEGORIES:Sled Hockey
ORGANIZER;CN="Spaulding Adaptive Sports Centers":MAILTO:scarper@partners.org
GEO:42.4129126;-71.0445725
X-APPLE-STRUCTURED-LOCATION;VALUE=URI;X-ADDRESS=Allied Veterans Memorial Rink 65 Elm Street Everett MA United States;X-APPLE-RADIUS=500;X-TITLE=65 Elm Street:geo:-71.0445725,42.4129126
END:VEVENT
BEGIN:VEVENT
DTSTART;TZID=America/Halifax:20200229T110000
DTEND;TZID=America/Halifax:20200229T123000
DTSTAMP:20260420T015231
CREATED:20200102T190814Z
LAST-MODIFIED:20200102T190814Z
UID:10003420-1582974000-1582979400@adaptivesportsne.org
SUMMARY:WC Basketball - SASC (Hyannis)
DESCRIPTION:
URL:https://adaptivesportsne.org/event/wc-basketball-sasc-hyannis-2/2020-02-29/
LOCATION:Hyannis Youth & Community Center\, 141 Bassett Lane\, Hyannis\, MA\, United States
CATEGORIES:WC Basketball
ORGANIZER;CN="Spaulding Adaptive Sports Centers":MAILTO:scarper@partners.org
GEO:41.6538309;-70.292849
X-APPLE-STRUCTURED-LOCATION;VALUE=URI;X-ADDRESS=Hyannis Youth & Community Center 141 Bassett Lane Hyannis MA United States;X-APPLE-RADIUS=500;X-TITLE=141 Bassett Lane:geo:-70.292849,41.6538309
END:VEVENT
BEGIN:VEVENT
DTSTART;TZID=America/Halifax:20200224T180000
DTEND;TZID=America/Halifax:20200224T190000
DTSTAMP:20260420T015231
CREATED:20191122T151846Z
LAST-MODIFIED:20191122T151846Z
UID:10003346-1582567200-1582570800@adaptivesportsne.org
SUMMARY:WC Basketball - SASC (Charlestown)
DESCRIPTION:
URL:https://adaptivesportsne.org/event/wc-basketball-sasc-charlestown/2020-02-24/
LOCATION:BCYF Charlestown\, 255 Medford Street\, Charlestown\, MA\, United States
CATEGORIES:WC Basketball
ORGANIZER;CN="Spaulding Adaptive Sports Centers":MAILTO:scarper@partners.org
GEO:42.3807314;-71.0614275
X-APPLE-STRUCTURED-LOCATION;VALUE=URI;X-ADDRESS=BCYF Charlestown 255 Medford Street Charlestown MA United States;X-APPLE-RADIUS=500;X-TITLE=255 Medford Street:geo:-71.0614275,42.3807314
END:VEVENT
END:VCALENDAR