BEGIN:VCALENDAR
VERSION:2.0
PRODID:-//Adaptive Sports New England - ECPv6.15.20//NONSGML v1.0//EN
CALSCALE:GREGORIAN
METHOD:PUBLISH
X-WR-CALNAME:Adaptive Sports New England
X-ORIGINAL-URL:https://adaptivesportsne.org
X-WR-CALDESC:Events for Adaptive Sports New England
REFRESH-INTERVAL;VALUE=DURATION:PT1H
X-Robots-Tag:noindex
X-PUBLISHED-TTL:PT1H
BEGIN:VTIMEZONE
TZID:America/Halifax
BEGIN:DAYLIGHT
TZOFFSETFROM:-0400
TZOFFSETTO:-0300
TZNAME:ADT
DTSTART:20190310T060000
END:DAYLIGHT
BEGIN:STANDARD
TZOFFSETFROM:-0300
TZOFFSETTO:-0400
TZNAME:AST
DTSTART:20191103T050000
END:STANDARD
BEGIN:DAYLIGHT
TZOFFSETFROM:-0400
TZOFFSETTO:-0300
TZNAME:ADT
DTSTART:20200308T060000
END:DAYLIGHT
BEGIN:STANDARD
TZOFFSETFROM:-0300
TZOFFSETTO:-0400
TZNAME:AST
DTSTART:20201101T050000
END:STANDARD
BEGIN:DAYLIGHT
TZOFFSETFROM:-0400
TZOFFSETTO:-0300
TZNAME:ADT
DTSTART:20210314T060000
END:DAYLIGHT
BEGIN:STANDARD
TZOFFSETFROM:-0300
TZOFFSETTO:-0400
TZNAME:AST
DTSTART:20211107T050000
END:STANDARD
END:VTIMEZONE
BEGIN:VEVENT
DTSTART;VALUE=DATE:20200307
DTEND;VALUE=DATE:20200308
DTSTAMP:20260423T023726
CREATED:20191218T171040Z
LAST-MODIFIED:20200202T140103Z
UID:10003404-1583539200-1583625599@adaptivesportsne.org
SUMMARY:Ski/Snowboard - SASC (Waterville)
DESCRIPTION:
URL:https://adaptivesportsne.org/event/ski-snowboard-sasc-waterville-2/
LOCATION:Waterville Valley Ski Area\, 1 Ski Area Road\, Waterville Valley\, NH\, 03215\, United States
CATEGORIES:Non-Competitive Recreation
ORGANIZER;CN="Spaulding Adaptive Sports Centers":MAILTO:scarper@partners.org
GEO:43.9649355;-71.5250949
X-APPLE-STRUCTURED-LOCATION;VALUE=URI;X-ADDRESS=Waterville Valley Ski Area 1 Ski Area Road Waterville Valley NH 03215 United States;X-APPLE-RADIUS=500;X-TITLE=1 Ski Area Road:geo:-71.5250949,43.9649355
END:VEVENT
BEGIN:VEVENT
DTSTART;TZID=America/Halifax:20200304T140000
DTEND;TZID=America/Halifax:20200304T160000
DTSTAMP:20260423T023726
CREATED:20191218T170112Z
LAST-MODIFIED:20191218T170112Z
UID:10003398-1583330400-1583337600@adaptivesportsne.org
SUMMARY:Sled Hockey - SASC (Charlestown)
DESCRIPTION:
URL:https://adaptivesportsne.org/event/sled-hockey-sasc-charlestown-3/2020-03-04/
LOCATION:Emmons Horrigan O’Neil Memorial Rink\, 150 Rutherford Avenue\, Charlestown\, MA\, United States
CATEGORIES:Sled Hockey
ORGANIZER;CN="Spaulding Adaptive Sports Centers":MAILTO:scarper@partners.org
GEO:42.3740334;-71.0689282
X-APPLE-STRUCTURED-LOCATION;VALUE=URI;X-ADDRESS=Emmons Horrigan O’Neil Memorial Rink 150 Rutherford Avenue Charlestown MA United States;X-APPLE-RADIUS=500;X-TITLE=150 Rutherford Avenue:geo:-71.0689282,42.3740334
END:VEVENT
BEGIN:VEVENT
DTSTART;TZID=America/Halifax:20200301T120000
DTEND;TZID=America/Halifax:20200301T140000
DTSTAMP:20260423T023726
CREATED:20191218T163600Z
LAST-MODIFIED:20191218T163600Z
UID:10003364-1583064000-1583071200@adaptivesportsne.org
SUMMARY:Sled Hockey- SASC (Everett)
DESCRIPTION:
URL:https://adaptivesportsne.org/event/sled-hockey-sasc-everett-10/2020-03-01/
LOCATION:Allied Veterans Memorial Rink\, 65 Elm Street\, Everett\, MA\, United States
CATEGORIES:Sled Hockey
ORGANIZER;CN="Spaulding Adaptive Sports Centers":MAILTO:scarper@partners.org
GEO:42.4129126;-71.0445725
X-APPLE-STRUCTURED-LOCATION;VALUE=URI;X-ADDRESS=Allied Veterans Memorial Rink 65 Elm Street Everett MA United States;X-APPLE-RADIUS=500;X-TITLE=65 Elm Street:geo:-71.0445725,42.4129126
END:VEVENT
BEGIN:VEVENT
DTSTART;TZID=America/Halifax:20200229T110000
DTEND;TZID=America/Halifax:20200229T123000
DTSTAMP:20260423T023726
CREATED:20200102T190814Z
LAST-MODIFIED:20200102T190814Z
UID:10003420-1582974000-1582979400@adaptivesportsne.org
SUMMARY:WC Basketball - SASC (Hyannis)
DESCRIPTION:
URL:https://adaptivesportsne.org/event/wc-basketball-sasc-hyannis-2/2020-02-29/
LOCATION:Hyannis Youth & Community Center\, 141 Bassett Lane\, Hyannis\, MA\, United States
CATEGORIES:WC Basketball
ORGANIZER;CN="Spaulding Adaptive Sports Centers":MAILTO:scarper@partners.org
GEO:41.6538309;-70.292849
X-APPLE-STRUCTURED-LOCATION;VALUE=URI;X-ADDRESS=Hyannis Youth & Community Center 141 Bassett Lane Hyannis MA United States;X-APPLE-RADIUS=500;X-TITLE=141 Bassett Lane:geo:-70.292849,41.6538309
END:VEVENT
BEGIN:VEVENT
DTSTART;TZID=America/Halifax:20200224T180000
DTEND;TZID=America/Halifax:20200224T190000
DTSTAMP:20260423T023726
CREATED:20191122T151846Z
LAST-MODIFIED:20191122T151846Z
UID:10003346-1582567200-1582570800@adaptivesportsne.org
SUMMARY:WC Basketball - SASC (Charlestown)
DESCRIPTION:
URL:https://adaptivesportsne.org/event/wc-basketball-sasc-charlestown/2020-02-24/
LOCATION:BCYF Charlestown\, 255 Medford Street\, Charlestown\, MA\, United States
CATEGORIES:WC Basketball
ORGANIZER;CN="Spaulding Adaptive Sports Centers":MAILTO:scarper@partners.org
GEO:42.3807314;-71.0614275
X-APPLE-STRUCTURED-LOCATION;VALUE=URI;X-ADDRESS=BCYF Charlestown 255 Medford Street Charlestown MA United States;X-APPLE-RADIUS=500;X-TITLE=255 Medford Street:geo:-71.0614275,42.3807314
END:VEVENT
BEGIN:VEVENT
DTSTART;TZID=America/Halifax:20200223T120000
DTEND;TZID=America/Halifax:20200223T140000
DTSTAMP:20260423T023726
CREATED:20191218T163600Z
LAST-MODIFIED:20191218T163600Z
UID:10003363-1582459200-1582466400@adaptivesportsne.org
SUMMARY:Sled Hockey- SASC (Everett)
DESCRIPTION:
URL:https://adaptivesportsne.org/event/sled-hockey-sasc-everett-10/2020-02-23/
LOCATION:Allied Veterans Memorial Rink\, 65 Elm Street\, Everett\, MA\, United States
CATEGORIES:Sled Hockey
ORGANIZER;CN="Spaulding Adaptive Sports Centers":MAILTO:scarper@partners.org
GEO:42.4129126;-71.0445725
X-APPLE-STRUCTURED-LOCATION;VALUE=URI;X-ADDRESS=Allied Veterans Memorial Rink 65 Elm Street Everett MA United States;X-APPLE-RADIUS=500;X-TITLE=65 Elm Street:geo:-71.0445725,42.4129126
END:VEVENT
BEGIN:VEVENT
DTSTART;VALUE=DATE:20200222
DTEND;VALUE=DATE:20200223
DTSTAMP:20260423T023726
CREATED:20191218T170935Z
LAST-MODIFIED:20191218T170935Z
UID:10003403-1582329600-1582415999@adaptivesportsne.org
SUMMARY:Ski/Snowboard - SASC (Pico/Killington)
DESCRIPTION:
URL:https://adaptivesportsne.org/event/ski-snowboard-sasc-pico-killington/
LOCATION:Pico/Killington\, Killington\, VT\, United States
CATEGORIES:Non-Competitive Recreation
ORGANIZER;CN="Spaulding Adaptive Sports Centers":MAILTO:scarper@partners.org
GEO:43.6775677;-72.7798247
END:VEVENT
BEGIN:VEVENT
DTSTART;TZID=America/Halifax:20200219T140000
DTEND;TZID=America/Halifax:20200219T160000
DTSTAMP:20260423T023726
CREATED:20191218T170112Z
LAST-MODIFIED:20191218T170112Z
UID:10003397-1582120800-1582128000@adaptivesportsne.org
SUMMARY:Sled Hockey - SASC (Charlestown)
DESCRIPTION:
URL:https://adaptivesportsne.org/event/sled-hockey-sasc-charlestown-3/2020-02-19/
LOCATION:Emmons Horrigan O’Neil Memorial Rink\, 150 Rutherford Avenue\, Charlestown\, MA\, United States
CATEGORIES:Sled Hockey
ORGANIZER;CN="Spaulding Adaptive Sports Centers":MAILTO:scarper@partners.org
GEO:42.3740334;-71.0689282
X-APPLE-STRUCTURED-LOCATION;VALUE=URI;X-ADDRESS=Emmons Horrigan O’Neil Memorial Rink 150 Rutherford Avenue Charlestown MA United States;X-APPLE-RADIUS=500;X-TITLE=150 Rutherford Avenue:geo:-71.0689282,42.3740334
END:VEVENT
BEGIN:VEVENT
DTSTART;TZID=America/Halifax:20200217T180000
DTEND;TZID=America/Halifax:20200217T190000
DTSTAMP:20260423T023726
CREATED:20191122T151846Z
LAST-MODIFIED:20191122T151846Z
UID:10003345-1581962400-1581966000@adaptivesportsne.org
SUMMARY:WC Basketball - SASC (Charlestown)
DESCRIPTION:
URL:https://adaptivesportsne.org/event/wc-basketball-sasc-charlestown/2020-02-17/
LOCATION:BCYF Charlestown\, 255 Medford Street\, Charlestown\, MA\, United States
CATEGORIES:WC Basketball
ORGANIZER;CN="Spaulding Adaptive Sports Centers":MAILTO:scarper@partners.org
GEO:42.3807314;-71.0614275
X-APPLE-STRUCTURED-LOCATION;VALUE=URI;X-ADDRESS=BCYF Charlestown 255 Medford Street Charlestown MA United States;X-APPLE-RADIUS=500;X-TITLE=255 Medford Street:geo:-71.0614275,42.3807314
END:VEVENT
BEGIN:VEVENT
DTSTART;TZID=America/Halifax:20200216T120000
DTEND;TZID=America/Halifax:20200216T140000
DTSTAMP:20260423T023726
CREATED:20191218T163600Z
LAST-MODIFIED:20191218T163600Z
UID:10003362-1581854400-1581861600@adaptivesportsne.org
SUMMARY:Sled Hockey- SASC (Everett)
DESCRIPTION:
URL:https://adaptivesportsne.org/event/sled-hockey-sasc-everett-10/2020-02-16/
LOCATION:Allied Veterans Memorial Rink\, 65 Elm Street\, Everett\, MA\, United States
CATEGORIES:Sled Hockey
ORGANIZER;CN="Spaulding Adaptive Sports Centers":MAILTO:scarper@partners.org
GEO:42.4129126;-71.0445725
X-APPLE-STRUCTURED-LOCATION;VALUE=URI;X-ADDRESS=Allied Veterans Memorial Rink 65 Elm Street Everett MA United States;X-APPLE-RADIUS=500;X-TITLE=65 Elm Street:geo:-71.0445725,42.4129126
END:VEVENT
BEGIN:VEVENT
DTSTART;TZID=America/Halifax:20200215T110000
DTEND;TZID=America/Halifax:20200215T123000
DTSTAMP:20260423T023726
CREATED:20200102T190814Z
LAST-MODIFIED:20200102T190814Z
UID:10003419-1581764400-1581769800@adaptivesportsne.org
SUMMARY:WC Basketball - SASC (Hyannis)
DESCRIPTION:
URL:https://adaptivesportsne.org/event/wc-basketball-sasc-hyannis-2/2020-02-15/
LOCATION:Hyannis Youth & Community Center\, 141 Bassett Lane\, Hyannis\, MA\, United States
CATEGORIES:WC Basketball
ORGANIZER;CN="Spaulding Adaptive Sports Centers":MAILTO:scarper@partners.org
GEO:41.6538309;-70.292849
X-APPLE-STRUCTURED-LOCATION;VALUE=URI;X-ADDRESS=Hyannis Youth & Community Center 141 Bassett Lane Hyannis MA United States;X-APPLE-RADIUS=500;X-TITLE=141 Bassett Lane:geo:-70.292849,41.6538309
END:VEVENT
BEGIN:VEVENT
DTSTART;TZID=America/Halifax:20200211T170000
DTEND;TZID=America/Halifax:20200211T190000
DTSTAMP:20260423T023726
CREATED:20191122T151105Z
LAST-MODIFIED:20191218T161936Z
UID:10003338-1581440400-1581447600@adaptivesportsne.org
SUMMARY:WC Basketball SASC (Andover)
DESCRIPTION:
URL:https://adaptivesportsne.org/event/wheelchair-basketball-sasc-andover/2020-02-11/
LOCATION:Andover/North Andover YMCA\, 165 Haverhill St\, Andover\, MA\, 01810\, United States
CATEGORIES:WC Basketball
ORGANIZER;CN="Spaulding Adaptive Sports Centers":MAILTO:scarper@partners.org
END:VEVENT
BEGIN:VEVENT
DTSTART;TZID=America/Halifax:20200210T180000
DTEND;TZID=America/Halifax:20200210T190000
DTSTAMP:20260423T023726
CREATED:20191122T151846Z
LAST-MODIFIED:20191122T151846Z
UID:10003344-1581357600-1581361200@adaptivesportsne.org
SUMMARY:WC Basketball - SASC (Charlestown)
DESCRIPTION:
URL:https://adaptivesportsne.org/event/wc-basketball-sasc-charlestown/2020-02-10/
LOCATION:BCYF Charlestown\, 255 Medford Street\, Charlestown\, MA\, United States
CATEGORIES:WC Basketball
ORGANIZER;CN="Spaulding Adaptive Sports Centers":MAILTO:scarper@partners.org
GEO:42.3807314;-71.0614275
X-APPLE-STRUCTURED-LOCATION;VALUE=URI;X-ADDRESS=BCYF Charlestown 255 Medford Street Charlestown MA United States;X-APPLE-RADIUS=500;X-TITLE=255 Medford Street:geo:-71.0614275,42.3807314
END:VEVENT
BEGIN:VEVENT
DTSTART;TZID=America/Halifax:20200209T120000
DTEND;TZID=America/Halifax:20200209T140000
DTSTAMP:20260423T023726
CREATED:20191218T163600Z
LAST-MODIFIED:20191218T163600Z
UID:10003361-1581249600-1581256800@adaptivesportsne.org
SUMMARY:Sled Hockey- SASC (Everett)
DESCRIPTION:
URL:https://adaptivesportsne.org/event/sled-hockey-sasc-everett-10/2020-02-09/
LOCATION:Allied Veterans Memorial Rink\, 65 Elm Street\, Everett\, MA\, United States
CATEGORIES:Sled Hockey
ORGANIZER;CN="Spaulding Adaptive Sports Centers":MAILTO:scarper@partners.org
GEO:42.4129126;-71.0445725
X-APPLE-STRUCTURED-LOCATION;VALUE=URI;X-ADDRESS=Allied Veterans Memorial Rink 65 Elm Street Everett MA United States;X-APPLE-RADIUS=500;X-TITLE=65 Elm Street:geo:-71.0445725,42.4129126
END:VEVENT
BEGIN:VEVENT
DTSTART;TZID=America/Halifax:20200208T110000
DTEND;TZID=America/Halifax:20200208T123000
DTSTAMP:20260423T023726
CREATED:20200102T190814Z
LAST-MODIFIED:20200102T190814Z
UID:10003418-1581159600-1581165000@adaptivesportsne.org
SUMMARY:WC Basketball - SASC (Hyannis)
DESCRIPTION:
URL:https://adaptivesportsne.org/event/wc-basketball-sasc-hyannis-2/2020-02-08/
LOCATION:Hyannis Youth & Community Center\, 141 Bassett Lane\, Hyannis\, MA\, United States
CATEGORIES:WC Basketball
ORGANIZER;CN="Spaulding Adaptive Sports Centers":MAILTO:scarper@partners.org
GEO:41.6538309;-70.292849
X-APPLE-STRUCTURED-LOCATION;VALUE=URI;X-ADDRESS=Hyannis Youth & Community Center 141 Bassett Lane Hyannis MA United States;X-APPLE-RADIUS=500;X-TITLE=141 Bassett Lane:geo:-70.292849,41.6538309
END:VEVENT
BEGIN:VEVENT
DTSTART;VALUE=DATE:20200208
DTEND;VALUE=DATE:20200209
DTSTAMP:20260423T023726
CREATED:20191218T170759Z
LAST-MODIFIED:20191218T170759Z
UID:10003402-1581120000-1581206399@adaptivesportsne.org
SUMMARY:Ski/Snowboard - SASC (Waterville)
DESCRIPTION:
URL:https://adaptivesportsne.org/event/ski-snowboard-sasc-waterville/
LOCATION:Waterville Valley Ski Area\, 1 Ski Area Road\, Waterville Valley\, NH\, 03215\, United States
CATEGORIES:Non-Competitive Recreation
ORGANIZER;CN="Spaulding Adaptive Sports Centers":MAILTO:scarper@partners.org
GEO:43.9649355;-71.5250949
X-APPLE-STRUCTURED-LOCATION;VALUE=URI;X-ADDRESS=Waterville Valley Ski Area 1 Ski Area Road Waterville Valley NH 03215 United States;X-APPLE-RADIUS=500;X-TITLE=1 Ski Area Road:geo:-71.5250949,43.9649355
END:VEVENT
BEGIN:VEVENT
DTSTART;TZID=America/Halifax:20200205T140000
DTEND;TZID=America/Halifax:20200205T160000
DTSTAMP:20260423T023726
CREATED:20191218T170112Z
LAST-MODIFIED:20191218T170112Z
UID:10003396-1580911200-1580918400@adaptivesportsne.org
SUMMARY:Sled Hockey - SASC (Charlestown)
DESCRIPTION:
URL:https://adaptivesportsne.org/event/sled-hockey-sasc-charlestown-3/2020-02-05/
LOCATION:Emmons Horrigan O’Neil Memorial Rink\, 150 Rutherford Avenue\, Charlestown\, MA\, United States
CATEGORIES:Sled Hockey
ORGANIZER;CN="Spaulding Adaptive Sports Centers":MAILTO:scarper@partners.org
GEO:42.3740334;-71.0689282
X-APPLE-STRUCTURED-LOCATION;VALUE=URI;X-ADDRESS=Emmons Horrigan O’Neil Memorial Rink 150 Rutherford Avenue Charlestown MA United States;X-APPLE-RADIUS=500;X-TITLE=150 Rutherford Avenue:geo:-71.0689282,42.3740334
END:VEVENT
BEGIN:VEVENT
DTSTART;TZID=America/Halifax:20200204T170000
DTEND;TZID=America/Halifax:20200204T190000
DTSTAMP:20260423T023726
CREATED:20191122T151105Z
LAST-MODIFIED:20191218T161936Z
UID:10003337-1580835600-1580842800@adaptivesportsne.org
SUMMARY:WC Basketball SASC (Andover)
DESCRIPTION:
URL:https://adaptivesportsne.org/event/wheelchair-basketball-sasc-andover/2020-02-04/
LOCATION:Andover/North Andover YMCA\, 165 Haverhill St\, Andover\, MA\, 01810\, United States
CATEGORIES:WC Basketball
ORGANIZER;CN="Spaulding Adaptive Sports Centers":MAILTO:scarper@partners.org
END:VEVENT
BEGIN:VEVENT
DTSTART;TZID=America/Halifax:20200203T180000
DTEND;TZID=America/Halifax:20200203T190000
DTSTAMP:20260423T023726
CREATED:20191122T151846Z
LAST-MODIFIED:20191122T151846Z
UID:10003343-1580752800-1580756400@adaptivesportsne.org
SUMMARY:WC Basketball - SASC (Charlestown)
DESCRIPTION:
URL:https://adaptivesportsne.org/event/wc-basketball-sasc-charlestown/2020-02-03/
LOCATION:BCYF Charlestown\, 255 Medford Street\, Charlestown\, MA\, United States
CATEGORIES:WC Basketball
ORGANIZER;CN="Spaulding Adaptive Sports Centers":MAILTO:scarper@partners.org
GEO:42.3807314;-71.0614275
X-APPLE-STRUCTURED-LOCATION;VALUE=URI;X-ADDRESS=BCYF Charlestown 255 Medford Street Charlestown MA United States;X-APPLE-RADIUS=500;X-TITLE=255 Medford Street:geo:-71.0614275,42.3807314
END:VEVENT
BEGIN:VEVENT
DTSTART;TZID=America/Halifax:20200202T120000
DTEND;TZID=America/Halifax:20200202T140000
DTSTAMP:20260423T023726
CREATED:20191218T163600Z
LAST-MODIFIED:20191218T163600Z
UID:10003360-1580644800-1580652000@adaptivesportsne.org
SUMMARY:Sled Hockey- SASC (Everett)
DESCRIPTION:
URL:https://adaptivesportsne.org/event/sled-hockey-sasc-everett-10/2020-02-02/
LOCATION:Allied Veterans Memorial Rink\, 65 Elm Street\, Everett\, MA\, United States
CATEGORIES:Sled Hockey
ORGANIZER;CN="Spaulding Adaptive Sports Centers":MAILTO:scarper@partners.org
GEO:42.4129126;-71.0445725
X-APPLE-STRUCTURED-LOCATION;VALUE=URI;X-ADDRESS=Allied Veterans Memorial Rink 65 Elm Street Everett MA United States;X-APPLE-RADIUS=500;X-TITLE=65 Elm Street:geo:-71.0445725,42.4129126
END:VEVENT
BEGIN:VEVENT
DTSTART;TZID=America/Halifax:20200201T110000
DTEND;TZID=America/Halifax:20200201T123000
DTSTAMP:20260423T023726
CREATED:20200102T190814Z
LAST-MODIFIED:20200102T190814Z
UID:10003417-1580554800-1580560200@adaptivesportsne.org
SUMMARY:WC Basketball - SASC (Hyannis)
DESCRIPTION:
URL:https://adaptivesportsne.org/event/wc-basketball-sasc-hyannis-2/2020-02-01/
LOCATION:Hyannis Youth & Community Center\, 141 Bassett Lane\, Hyannis\, MA\, United States
CATEGORIES:WC Basketball
ORGANIZER;CN="Spaulding Adaptive Sports Centers":MAILTO:scarper@partners.org
GEO:41.6538309;-70.292849
X-APPLE-STRUCTURED-LOCATION;VALUE=URI;X-ADDRESS=Hyannis Youth & Community Center 141 Bassett Lane Hyannis MA United States;X-APPLE-RADIUS=500;X-TITLE=141 Bassett Lane:geo:-70.292849,41.6538309
END:VEVENT
BEGIN:VEVENT
DTSTART;TZID=America/Halifax:20200128T170000
DTEND;TZID=America/Halifax:20200128T190000
DTSTAMP:20260423T023726
CREATED:20191122T151105Z
LAST-MODIFIED:20191218T161936Z
UID:10003336-1580230800-1580238000@adaptivesportsne.org
SUMMARY:WC Basketball SASC (Andover)
DESCRIPTION:
URL:https://adaptivesportsne.org/event/wheelchair-basketball-sasc-andover/2020-01-28/
LOCATION:Andover/North Andover YMCA\, 165 Haverhill St\, Andover\, MA\, 01810\, United States
CATEGORIES:WC Basketball
ORGANIZER;CN="Spaulding Adaptive Sports Centers":MAILTO:scarper@partners.org
END:VEVENT
BEGIN:VEVENT
DTSTART;TZID=America/Halifax:20200127T180000
DTEND;TZID=America/Halifax:20200127T190000
DTSTAMP:20260423T023726
CREATED:20191122T151846Z
LAST-MODIFIED:20191122T151846Z
UID:10003342-1580148000-1580151600@adaptivesportsne.org
SUMMARY:WC Basketball - SASC (Charlestown)
DESCRIPTION:
URL:https://adaptivesportsne.org/event/wc-basketball-sasc-charlestown/2020-01-27/
LOCATION:BCYF Charlestown\, 255 Medford Street\, Charlestown\, MA\, United States
CATEGORIES:WC Basketball
ORGANIZER;CN="Spaulding Adaptive Sports Centers":MAILTO:scarper@partners.org
GEO:42.3807314;-71.0614275
X-APPLE-STRUCTURED-LOCATION;VALUE=URI;X-ADDRESS=BCYF Charlestown 255 Medford Street Charlestown MA United States;X-APPLE-RADIUS=500;X-TITLE=255 Medford Street:geo:-71.0614275,42.3807314
END:VEVENT
BEGIN:VEVENT
DTSTART;VALUE=DATE:20200125
DTEND;VALUE=DATE:20200126
DTSTAMP:20260423T023726
CREATED:20191218T170635Z
LAST-MODIFIED:20191218T170635Z
UID:10003401-1579910400-1579996799@adaptivesportsne.org
SUMMARY:Ski/Snowboard - SASC (Sunapee)
DESCRIPTION:
URL:https://adaptivesportsne.org/event/ski-snowboard-sasc-sunapee/
LOCATION:Mount Sunapee Resort\, 1398 Route 103\, Newbury\, NH\, 03255\, United States
CATEGORIES:Non-Competitive Recreation
ORGANIZER;CN="Spaulding Adaptive Sports Centers":MAILTO:scarper@partners.org
GEO:43.3321815;-72.0786768
X-APPLE-STRUCTURED-LOCATION;VALUE=URI;X-ADDRESS=Mount Sunapee Resort 1398 Route 103 Newbury NH 03255 United States;X-APPLE-RADIUS=500;X-TITLE=1398 Route 103:geo:-72.0786768,43.3321815
END:VEVENT
BEGIN:VEVENT
DTSTART;TZID=America/Halifax:20200122T140000
DTEND;TZID=America/Halifax:20200122T160000
DTSTAMP:20260423T023726
CREATED:20191218T170112Z
LAST-MODIFIED:20191218T170112Z
UID:10003395-1579701600-1579708800@adaptivesportsne.org
SUMMARY:Sled Hockey - SASC (Charlestown)
DESCRIPTION:
URL:https://adaptivesportsne.org/event/sled-hockey-sasc-charlestown-3/2020-01-22/
LOCATION:Emmons Horrigan O’Neil Memorial Rink\, 150 Rutherford Avenue\, Charlestown\, MA\, United States
CATEGORIES:Sled Hockey
ORGANIZER;CN="Spaulding Adaptive Sports Centers":MAILTO:scarper@partners.org
GEO:42.3740334;-71.0689282
X-APPLE-STRUCTURED-LOCATION;VALUE=URI;X-ADDRESS=Emmons Horrigan O’Neil Memorial Rink 150 Rutherford Avenue Charlestown MA United States;X-APPLE-RADIUS=500;X-TITLE=150 Rutherford Avenue:geo:-71.0689282,42.3740334
END:VEVENT
BEGIN:VEVENT
DTSTART;TZID=America/Halifax:20200121T170000
DTEND;TZID=America/Halifax:20200121T190000
DTSTAMP:20260423T023726
CREATED:20191122T151105Z
LAST-MODIFIED:20191218T161936Z
UID:10003335-1579626000-1579633200@adaptivesportsne.org
SUMMARY:WC Basketball SASC (Andover)
DESCRIPTION:
URL:https://adaptivesportsne.org/event/wheelchair-basketball-sasc-andover/2020-01-21/
LOCATION:Andover/North Andover YMCA\, 165 Haverhill St\, Andover\, MA\, 01810\, United States
CATEGORIES:WC Basketball
ORGANIZER;CN="Spaulding Adaptive Sports Centers":MAILTO:scarper@partners.org
END:VEVENT
BEGIN:VEVENT
DTSTART;TZID=America/Halifax:20200120T180000
DTEND;TZID=America/Halifax:20200120T190000
DTSTAMP:20260423T023726
CREATED:20191122T151846Z
LAST-MODIFIED:20191122T151846Z
UID:10003341-1579543200-1579546800@adaptivesportsne.org
SUMMARY:WC Basketball - SASC (Charlestown)
DESCRIPTION:
URL:https://adaptivesportsne.org/event/wc-basketball-sasc-charlestown/2020-01-20/
LOCATION:BCYF Charlestown\, 255 Medford Street\, Charlestown\, MA\, United States
CATEGORIES:WC Basketball
ORGANIZER;CN="Spaulding Adaptive Sports Centers":MAILTO:scarper@partners.org
GEO:42.3807314;-71.0614275
X-APPLE-STRUCTURED-LOCATION;VALUE=URI;X-ADDRESS=BCYF Charlestown 255 Medford Street Charlestown MA United States;X-APPLE-RADIUS=500;X-TITLE=255 Medford Street:geo:-71.0614275,42.3807314
END:VEVENT
BEGIN:VEVENT
DTSTART;TZID=America/Halifax:20200114T170000
DTEND;TZID=America/Halifax:20200114T190000
DTSTAMP:20260423T023726
CREATED:20191122T151105Z
LAST-MODIFIED:20191218T161936Z
UID:10003334-1579021200-1579028400@adaptivesportsne.org
SUMMARY:WC Basketball SASC (Andover)
DESCRIPTION:
URL:https://adaptivesportsne.org/event/wheelchair-basketball-sasc-andover/2020-01-14/
LOCATION:Andover/North Andover YMCA\, 165 Haverhill St\, Andover\, MA\, 01810\, United States
CATEGORIES:WC Basketball
ORGANIZER;CN="Spaulding Adaptive Sports Centers":MAILTO:scarper@partners.org
END:VEVENT
BEGIN:VEVENT
DTSTART;TZID=America/Halifax:20200113T180000
DTEND;TZID=America/Halifax:20200113T190000
DTSTAMP:20260423T023726
CREATED:20191122T151846Z
LAST-MODIFIED:20191122T151846Z
UID:10003340-1578938400-1578942000@adaptivesportsne.org
SUMMARY:WC Basketball - SASC (Charlestown)
DESCRIPTION:
URL:https://adaptivesportsne.org/event/wc-basketball-sasc-charlestown/2020-01-13/
LOCATION:BCYF Charlestown\, 255 Medford Street\, Charlestown\, MA\, United States
CATEGORIES:WC Basketball
ORGANIZER;CN="Spaulding Adaptive Sports Centers":MAILTO:scarper@partners.org
GEO:42.3807314;-71.0614275
X-APPLE-STRUCTURED-LOCATION;VALUE=URI;X-ADDRESS=BCYF Charlestown 255 Medford Street Charlestown MA United States;X-APPLE-RADIUS=500;X-TITLE=255 Medford Street:geo:-71.0614275,42.3807314
END:VEVENT
BEGIN:VEVENT
DTSTART;VALUE=DATE:20200111
DTEND;VALUE=DATE:20200112
DTSTAMP:20260423T023726
CREATED:20191218T170431Z
LAST-MODIFIED:20191218T170431Z
UID:10003400-1578700800-1578787199@adaptivesportsne.org
SUMMARY:Ski/Snowboard - SASC (Cannon)
DESCRIPTION:
URL:https://adaptivesportsne.org/event/ski-snowboard-sasc-cannon/
LOCATION:Cannon Mountain State Park\, Franconia\, NH\, United States
CATEGORIES:Non-Competitive Recreation
ORGANIZER;CN="Spaulding Adaptive Sports Centers":MAILTO:scarper@partners.org
GEO:44.2271729;-71.7479075
END:VEVENT
END:VCALENDAR