BEGIN:VCALENDAR
VERSION:2.0
PRODID:-//Adaptive Sports New England - ECPv6.15.20//NONSGML v1.0//EN
CALSCALE:GREGORIAN
METHOD:PUBLISH
X-ORIGINAL-URL:https://adaptivesportsne.org
X-WR-CALDESC:Events for Adaptive Sports New England
REFRESH-INTERVAL;VALUE=DURATION:PT1H
X-Robots-Tag:noindex
X-PUBLISHED-TTL:PT1H
BEGIN:VTIMEZONE
TZID:America/Halifax
BEGIN:DAYLIGHT
TZOFFSETFROM:-0400
TZOFFSETTO:-0300
TZNAME:ADT
DTSTART:20180311T060000
END:DAYLIGHT
BEGIN:STANDARD
TZOFFSETFROM:-0300
TZOFFSETTO:-0400
TZNAME:AST
DTSTART:20181104T050000
END:STANDARD
BEGIN:DAYLIGHT
TZOFFSETFROM:-0400
TZOFFSETTO:-0300
TZNAME:ADT
DTSTART:20190310T060000
END:DAYLIGHT
BEGIN:STANDARD
TZOFFSETFROM:-0300
TZOFFSETTO:-0400
TZNAME:AST
DTSTART:20191103T050000
END:STANDARD
BEGIN:DAYLIGHT
TZOFFSETFROM:-0400
TZOFFSETTO:-0300
TZNAME:ADT
DTSTART:20200308T060000
END:DAYLIGHT
BEGIN:STANDARD
TZOFFSETFROM:-0300
TZOFFSETTO:-0400
TZNAME:AST
DTSTART:20201101T050000
END:STANDARD
END:VTIMEZONE
BEGIN:VEVENT
DTSTART;TZID=America/Halifax:20190915T120000
DTEND;TZID=America/Halifax:20190915T140000
DTSTAMP:20260425T094901
CREATED:20190731T211308Z
LAST-MODIFIED:20190731T211308Z
UID:10003277-1568548800-1568556000@adaptivesportsne.org
SUMMARY:Sled Hockey - SASC (Everett)
DESCRIPTION:
URL:https://adaptivesportsne.org/event/sled-hockey-sasc-everett-8/2019-09-15/
LOCATION:Allied Veterans Memorial Rink\, 65 Elm Street\, Everett\, MA\, United States
CATEGORIES:Sled Hockey
ORGANIZER;CN="Spaulding Adaptive Sports Centers":MAILTO:scarper@partners.org
GEO:42.4129126;-71.0445725
X-APPLE-STRUCTURED-LOCATION;VALUE=URI;X-ADDRESS=Allied Veterans Memorial Rink 65 Elm Street Everett MA United States;X-APPLE-RADIUS=500;X-TITLE=65 Elm Street:geo:-71.0445725,42.4129126
END:VEVENT
BEGIN:VEVENT
DTSTART;TZID=America/Halifax:20190908T120000
DTEND;TZID=America/Halifax:20190908T140000
DTSTAMP:20260425T094901
CREATED:20190731T211308Z
LAST-MODIFIED:20190731T211308Z
UID:10003276-1567944000-1567951200@adaptivesportsne.org
SUMMARY:Sled Hockey - SASC (Everett)
DESCRIPTION:
URL:https://adaptivesportsne.org/event/sled-hockey-sasc-everett-8/2019-09-08/
LOCATION:Allied Veterans Memorial Rink\, 65 Elm Street\, Everett\, MA\, United States
CATEGORIES:Sled Hockey
ORGANIZER;CN="Spaulding Adaptive Sports Centers":MAILTO:scarper@partners.org
GEO:42.4129126;-71.0445725
X-APPLE-STRUCTURED-LOCATION;VALUE=URI;X-ADDRESS=Allied Veterans Memorial Rink 65 Elm Street Everett MA United States;X-APPLE-RADIUS=500;X-TITLE=65 Elm Street:geo:-71.0445725,42.4129126
END:VEVENT
BEGIN:VEVENT
DTSTART;TZID=America/Halifax:20190905T170000
DTEND;TZID=America/Halifax:20190905T190000
DTSTAMP:20260425T094901
CREATED:20190509T185642Z
LAST-MODIFIED:20190524T111210Z
UID:10003250-1567702800-1567710000@adaptivesportsne.org
SUMMARY:Cycling Club - SASC (Charlestown)
DESCRIPTION:
URL:https://adaptivesportsne.org/event/cycling-series-sasc-charlestown/2019-09-05/
LOCATION:Spaulding Rehabilitation Hospital\, 300 First Avenue\, Charlestown\, MA\, United States
CATEGORIES:Non-Competitive Recreation
ORGANIZER;CN="Spaulding Adaptive Sports Centers":MAILTO:scarper@partners.org
GEO:42.3785133;-71.049126
X-APPLE-STRUCTURED-LOCATION;VALUE=URI;X-ADDRESS=Spaulding Rehabilitation Hospital 300 First Avenue Charlestown MA United States;X-APPLE-RADIUS=500;X-TITLE=300 First Avenue:geo:-71.049126,42.3785133
END:VEVENT
BEGIN:VEVENT
DTSTART;TZID=America/Halifax:20190904T170000
DTEND;TZID=America/Halifax:20190904T190000
DTSTAMP:20260425T094901
CREATED:20190509T185307Z
LAST-MODIFIED:20190509T185756Z
UID:10003241-1567616400-1567623600@adaptivesportsne.org
SUMMARY:Cycling Club - SASC (Sandwich)
DESCRIPTION:
URL:https://adaptivesportsne.org/event/cycling-club-sasc-sandwich/2019-09-04/
LOCATION:Cape Cod Canal Trail\, Sandwich\, MA\, United States
CATEGORIES:Non-Competitive Recreation
ORGANIZER;CN="Spaulding Adaptive Sports Centers":MAILTO:scarper@partners.org
GEO:41.7589615;-70.4939317
END:VEVENT
BEGIN:VEVENT
DTSTART;TZID=America/Halifax:20190904T100000
DTEND;TZID=America/Halifax:20190904T120000
DTSTAMP:20260425T094901
CREATED:20190620T135142Z
LAST-MODIFIED:20190620T135142Z
UID:10001464-1567591200-1567598400@adaptivesportsne.org
SUMMARY:Tennis SASC (Beverly)
DESCRIPTION:
URL:https://adaptivesportsne.org/event/tennis-sasc-beverly-7/
LOCATION:Beverly High School Tennis Courts\, 100 Sohier Rd\, Beverly\, MA\, 01915\, United States
CATEGORIES:Other Para Sports
ORGANIZER;CN="Spaulding Adaptive Sports Centers":MAILTO:scarper@partners.org
GEO:42.5646116;-70.8815731
X-APPLE-STRUCTURED-LOCATION;VALUE=URI;X-ADDRESS=Beverly High School Tennis Courts 100 Sohier Rd Beverly MA 01915 United States;X-APPLE-RADIUS=500;X-TITLE=100 Sohier Rd:geo:-70.8815731,42.5646116
END:VEVENT
BEGIN:VEVENT
DTSTART;TZID=America/Halifax:20190828T100000
DTEND;TZID=America/Halifax:20190828T120000
DTSTAMP:20260425T094901
CREATED:20190620T135537Z
LAST-MODIFIED:20190620T135537Z
UID:10001467-1566986400-1566993600@adaptivesportsne.org
SUMMARY:Archery SASC (Salem)
DESCRIPTION:
URL:https://adaptivesportsne.org/event/archery-sasc-salem-6/
LOCATION:Salem Willows Park\, 158 Fort Avenue\, Salem\, MA\, 01915\, United States
CATEGORIES:Other Para Sports
ORGANIZER;CN="Spaulding Adaptive Sports Centers":MAILTO:scarper@partners.org
GEO:42.5344419;-70.8702129
X-APPLE-STRUCTURED-LOCATION;VALUE=URI;X-ADDRESS=Salem Willows Park 158 Fort Avenue Salem MA 01915 United States;X-APPLE-RADIUS=500;X-TITLE=158 Fort Avenue:geo:-70.8702129,42.5344419
END:VEVENT
BEGIN:VEVENT
DTSTART;TZID=America/Halifax:20190826T163000
DTEND;TZID=America/Halifax:20190826T180000
DTSTAMP:20260425T094901
CREATED:20190620T143119Z
LAST-MODIFIED:20190620T143119Z
UID:10003257-1566837000-1566842400@adaptivesportsne.org
SUMMARY:Archery SASC (Camp Lyndon)
DESCRIPTION:
URL:https://adaptivesportsne.org/event/archery-sasc-camp-lyndon-4/
LOCATION:Camp Lyndon\, Sandwich\, MA\, United States
CATEGORIES:Other Para Sports
ORGANIZER;CN="Spaulding Adaptive Sports Centers":MAILTO:scarper@partners.org
GEO:41.7589615;-70.4939317
END:VEVENT
BEGIN:VEVENT
DTSTART;TZID=America/Halifax:20190825T100000
DTEND;TZID=America/Halifax:20190825T120000
DTSTAMP:20260425T094901
CREATED:20190731T210836Z
LAST-MODIFIED:20190731T210836Z
UID:10003275-1566727200-1566734400@adaptivesportsne.org
SUMMARY:Sled Hockey - SASC (Wilmington)
DESCRIPTION:
URL:https://adaptivesportsne.org/event/sled-hockey-sasc-wilmington-4/2019-08-25/
LOCATION:Ristuccia Arena\, 190 Main Street\, Wilmington\, MA\, 01887\, United States
CATEGORIES:Sled Hockey
ORGANIZER;CN="Spaulding Adaptive Sports Centers":MAILTO:scarper@partners.org
GEO:42.5587613;-71.182155
X-APPLE-STRUCTURED-LOCATION;VALUE=URI;X-ADDRESS=Ristuccia Arena 190 Main Street Wilmington MA 01887 United States;X-APPLE-RADIUS=500;X-TITLE=190 Main Street:geo:-71.182155,42.5587613
END:VEVENT
BEGIN:VEVENT
DTSTART;TZID=America/Halifax:20190822T170000
DTEND;TZID=America/Halifax:20190822T190000
DTSTAMP:20260425T094901
CREATED:20190509T185642Z
LAST-MODIFIED:20190524T111210Z
UID:10003249-1566493200-1566500400@adaptivesportsne.org
SUMMARY:Cycling Club - SASC (Charlestown)
DESCRIPTION:
URL:https://adaptivesportsne.org/event/cycling-series-sasc-charlestown/2019-08-22/
LOCATION:Spaulding Rehabilitation Hospital\, 300 First Avenue\, Charlestown\, MA\, United States
CATEGORIES:Non-Competitive Recreation
ORGANIZER;CN="Spaulding Adaptive Sports Centers":MAILTO:scarper@partners.org
GEO:42.3785133;-71.049126
X-APPLE-STRUCTURED-LOCATION;VALUE=URI;X-ADDRESS=Spaulding Rehabilitation Hospital 300 First Avenue Charlestown MA United States;X-APPLE-RADIUS=500;X-TITLE=300 First Avenue:geo:-71.049126,42.3785133
END:VEVENT
BEGIN:VEVENT
DTSTART;TZID=America/Halifax:20190821T170000
DTEND;TZID=America/Halifax:20190821T190000
DTSTAMP:20260425T094901
CREATED:20190509T185307Z
LAST-MODIFIED:20190509T185756Z
UID:10003240-1566406800-1566414000@adaptivesportsne.org
SUMMARY:Cycling Club - SASC (Sandwich)
DESCRIPTION:
URL:https://adaptivesportsne.org/event/cycling-club-sasc-sandwich/2019-08-21/
LOCATION:Cape Cod Canal Trail\, Sandwich\, MA\, United States
CATEGORIES:Non-Competitive Recreation
ORGANIZER;CN="Spaulding Adaptive Sports Centers":MAILTO:scarper@partners.org
GEO:41.7589615;-70.4939317
END:VEVENT
BEGIN:VEVENT
DTSTART;TZID=America/Halifax:20190811T100000
DTEND;TZID=America/Halifax:20190811T120000
DTSTAMP:20260425T094901
CREATED:20190731T210836Z
LAST-MODIFIED:20190731T210836Z
UID:10003274-1565517600-1565524800@adaptivesportsne.org
SUMMARY:Sled Hockey - SASC (Wilmington)
DESCRIPTION:
URL:https://adaptivesportsne.org/event/sled-hockey-sasc-wilmington-4/2019-08-11/
LOCATION:Ristuccia Arena\, 190 Main Street\, Wilmington\, MA\, 01887\, United States
CATEGORIES:Sled Hockey
ORGANIZER;CN="Spaulding Adaptive Sports Centers":MAILTO:scarper@partners.org
GEO:42.5587613;-71.182155
X-APPLE-STRUCTURED-LOCATION;VALUE=URI;X-ADDRESS=Ristuccia Arena 190 Main Street Wilmington MA 01887 United States;X-APPLE-RADIUS=500;X-TITLE=190 Main Street:geo:-71.182155,42.5587613
END:VEVENT
BEGIN:VEVENT
DTSTART;TZID=America/Halifax:20190808T170000
DTEND;TZID=America/Halifax:20190808T190000
DTSTAMP:20260425T094901
CREATED:20190509T185642Z
LAST-MODIFIED:20190524T111210Z
UID:10003248-1565283600-1565290800@adaptivesportsne.org
SUMMARY:Cycling Club - SASC (Charlestown)
DESCRIPTION:
URL:https://adaptivesportsne.org/event/cycling-series-sasc-charlestown/2019-08-08/
LOCATION:Spaulding Rehabilitation Hospital\, 300 First Avenue\, Charlestown\, MA\, United States
CATEGORIES:Non-Competitive Recreation
ORGANIZER;CN="Spaulding Adaptive Sports Centers":MAILTO:scarper@partners.org
GEO:42.3785133;-71.049126
X-APPLE-STRUCTURED-LOCATION;VALUE=URI;X-ADDRESS=Spaulding Rehabilitation Hospital 300 First Avenue Charlestown MA United States;X-APPLE-RADIUS=500;X-TITLE=300 First Avenue:geo:-71.049126,42.3785133
END:VEVENT
BEGIN:VEVENT
DTSTART;TZID=America/Halifax:20190807T170000
DTEND;TZID=America/Halifax:20190807T190000
DTSTAMP:20260425T094901
CREATED:20190509T185307Z
LAST-MODIFIED:20190509T185756Z
UID:10003239-1565197200-1565204400@adaptivesportsne.org
SUMMARY:Cycling Club - SASC (Sandwich)
DESCRIPTION:
URL:https://adaptivesportsne.org/event/cycling-club-sasc-sandwich/2019-08-07/
LOCATION:Cape Cod Canal Trail\, Sandwich\, MA\, United States
CATEGORIES:Non-Competitive Recreation
ORGANIZER;CN="Spaulding Adaptive Sports Centers":MAILTO:scarper@partners.org
GEO:41.7589615;-70.4939317
END:VEVENT
BEGIN:VEVENT
DTSTART;TZID=America/Halifax:20190807T100000
DTEND;TZID=America/Halifax:20190807T120000
DTSTAMP:20260425T094901
CREATED:20190620T134932Z
LAST-MODIFIED:20190620T134932Z
UID:10001462-1565172000-1565179200@adaptivesportsne.org
SUMMARY:Tennis SASC (Beverly)
DESCRIPTION:
URL:https://adaptivesportsne.org/event/tennis-sasc-beverly-6/
LOCATION:Beverly High School Tennis Courts\, 100 Sohier Rd\, Beverly\, MA\, 01915\, United States
CATEGORIES:Other Para Sports
ORGANIZER;CN="Spaulding Adaptive Sports Centers":MAILTO:scarper@partners.org
GEO:42.5646116;-70.8815731
X-APPLE-STRUCTURED-LOCATION;VALUE=URI;X-ADDRESS=Beverly High School Tennis Courts 100 Sohier Rd Beverly MA 01915 United States;X-APPLE-RADIUS=500;X-TITLE=100 Sohier Rd:geo:-70.8815731,42.5646116
END:VEVENT
BEGIN:VEVENT
DTSTART;TZID=America/Halifax:20190729T163000
DTEND;TZID=America/Halifax:20190729T180000
DTSTAMP:20260425T094901
CREATED:20190620T142723Z
LAST-MODIFIED:20190620T142723Z
UID:10003256-1564417800-1564423200@adaptivesportsne.org
SUMMARY:Archery SASC (Camp Lyndon)
DESCRIPTION:
URL:https://adaptivesportsne.org/event/archery-sasc-camp-lyndon-3/
LOCATION:Camp Lyndon\, Sandwich\, MA\, United States
CATEGORIES:Other Para Sports
ORGANIZER;CN="Spaulding Adaptive Sports Centers":MAILTO:scarper@partners.org
GEO:41.7589615;-70.4939317
END:VEVENT
BEGIN:VEVENT
DTSTART;TZID=America/Halifax:20190725T170000
DTEND;TZID=America/Halifax:20190725T190000
DTSTAMP:20260425T094901
CREATED:20190509T185642Z
LAST-MODIFIED:20190524T111210Z
UID:10003247-1564074000-1564081200@adaptivesportsne.org
SUMMARY:Cycling Club - SASC (Charlestown)
DESCRIPTION:
URL:https://adaptivesportsne.org/event/cycling-series-sasc-charlestown/2019-07-25/
LOCATION:Spaulding Rehabilitation Hospital\, 300 First Avenue\, Charlestown\, MA\, United States
CATEGORIES:Non-Competitive Recreation
ORGANIZER;CN="Spaulding Adaptive Sports Centers":MAILTO:scarper@partners.org
GEO:42.3785133;-71.049126
X-APPLE-STRUCTURED-LOCATION;VALUE=URI;X-ADDRESS=Spaulding Rehabilitation Hospital 300 First Avenue Charlestown MA United States;X-APPLE-RADIUS=500;X-TITLE=300 First Avenue:geo:-71.049126,42.3785133
END:VEVENT
BEGIN:VEVENT
DTSTART;TZID=America/Halifax:20190724T170000
DTEND;TZID=America/Halifax:20190724T190000
DTSTAMP:20260425T094901
CREATED:20190509T185307Z
LAST-MODIFIED:20190509T185756Z
UID:10003238-1563987600-1563994800@adaptivesportsne.org
SUMMARY:Cycling Club - SASC (Sandwich)
DESCRIPTION:
URL:https://adaptivesportsne.org/event/cycling-club-sasc-sandwich/2019-07-24/
LOCATION:Cape Cod Canal Trail\, Sandwich\, MA\, United States
CATEGORIES:Non-Competitive Recreation
ORGANIZER;CN="Spaulding Adaptive Sports Centers":MAILTO:scarper@partners.org
GEO:41.7589615;-70.4939317
END:VEVENT
BEGIN:VEVENT
DTSTART;TZID=America/Halifax:20190724T100000
DTEND;TZID=America/Halifax:20190724T120000
DTSTAMP:20260425T094901
CREATED:20190620T135315Z
LAST-MODIFIED:20190620T135315Z
UID:10001466-1563962400-1563969600@adaptivesportsne.org
SUMMARY:Archery SASC (Salem)
DESCRIPTION:
URL:https://adaptivesportsne.org/event/archery-sasc-salem-5/
LOCATION:Salem Willows Park\, 158 Fort Avenue\, Salem\, MA\, 01915\, United States
CATEGORIES:Other Para Sports
ORGANIZER;CN="Spaulding Adaptive Sports Centers":MAILTO:scarper@partners.org
GEO:42.5344419;-70.8702129
X-APPLE-STRUCTURED-LOCATION;VALUE=URI;X-ADDRESS=Salem Willows Park 158 Fort Avenue Salem MA 01915 United States;X-APPLE-RADIUS=500;X-TITLE=158 Fort Avenue:geo:-70.8702129,42.5344419
END:VEVENT
BEGIN:VEVENT
DTSTART;TZID=America/Halifax:20190715T163000
DTEND;TZID=America/Halifax:20190715T180000
DTSTAMP:20260425T094901
CREATED:20190620T141549Z
LAST-MODIFIED:20190620T141549Z
UID:10003255-1563208200-1563213600@adaptivesportsne.org
SUMMARY:Archery SASC (Camp Lyndon)
DESCRIPTION:
URL:https://adaptivesportsne.org/event/archery-sasc-camp-lyndon-2/
LOCATION:Camp Lyndon\, Sandwich\, MA\, United States
CATEGORIES:Other Para Sports
ORGANIZER;CN="Spaulding Adaptive Sports Centers":MAILTO:scarper@partners.org
GEO:41.7589615;-70.4939317
END:VEVENT
BEGIN:VEVENT
DTSTART;TZID=America/Halifax:20190711T170000
DTEND;TZID=America/Halifax:20190711T190000
DTSTAMP:20260425T094901
CREATED:20190509T185642Z
LAST-MODIFIED:20190524T111210Z
UID:10003246-1562864400-1562871600@adaptivesportsne.org
SUMMARY:Cycling Club - SASC (Charlestown)
DESCRIPTION:
URL:https://adaptivesportsne.org/event/cycling-series-sasc-charlestown/2019-07-11/
LOCATION:Spaulding Rehabilitation Hospital\, 300 First Avenue\, Charlestown\, MA\, United States
CATEGORIES:Non-Competitive Recreation
ORGANIZER;CN="Spaulding Adaptive Sports Centers":MAILTO:scarper@partners.org
GEO:42.3785133;-71.049126
X-APPLE-STRUCTURED-LOCATION;VALUE=URI;X-ADDRESS=Spaulding Rehabilitation Hospital 300 First Avenue Charlestown MA United States;X-APPLE-RADIUS=500;X-TITLE=300 First Avenue:geo:-71.049126,42.3785133
END:VEVENT
BEGIN:VEVENT
DTSTART;TZID=America/Halifax:20190710T170000
DTEND;TZID=America/Halifax:20190710T190000
DTSTAMP:20260425T094901
CREATED:20190509T185307Z
LAST-MODIFIED:20190509T185756Z
UID:10003237-1562778000-1562785200@adaptivesportsne.org
SUMMARY:Cycling Club - SASC (Sandwich)
DESCRIPTION:
URL:https://adaptivesportsne.org/event/cycling-club-sasc-sandwich/2019-07-10/
LOCATION:Cape Cod Canal Trail\, Sandwich\, MA\, United States
CATEGORIES:Non-Competitive Recreation
ORGANIZER;CN="Spaulding Adaptive Sports Centers":MAILTO:scarper@partners.org
GEO:41.7589615;-70.4939317
END:VEVENT
BEGIN:VEVENT
DTSTART;TZID=America/Halifax:20190703T130000
DTEND;TZID=America/Halifax:20190703T150000
DTSTAMP:20260425T094901
CREATED:20190620T135835Z
LAST-MODIFIED:20190620T135835Z
UID:10003254-1562158800-1562166000@adaptivesportsne.org
SUMMARY:Archery SASC (Salem)
DESCRIPTION:
URL:https://adaptivesportsne.org/event/archery-sasc-salem-8/
LOCATION:Salem Willows Park\, 158 Fort Avenue\, Salem\, MA\, 01915\, United States
CATEGORIES:Other Para Sports
ORGANIZER;CN="Spaulding Adaptive Sports Centers":MAILTO:scarper@partners.org
GEO:42.5344419;-70.8702129
X-APPLE-STRUCTURED-LOCATION;VALUE=URI;X-ADDRESS=Salem Willows Park 158 Fort Avenue Salem MA 01915 United States;X-APPLE-RADIUS=500;X-TITLE=158 Fort Avenue:geo:-70.8702129,42.5344419
END:VEVENT
BEGIN:VEVENT
DTSTART;TZID=America/Halifax:20190703T100000
DTEND;TZID=America/Halifax:20190703T120000
DTSTAMP:20260425T094901
CREATED:20190620T134703Z
LAST-MODIFIED:20190620T134703Z
UID:10001461-1562148000-1562155200@adaptivesportsne.org
SUMMARY:Tennis SASC (Beverly)
DESCRIPTION:
URL:https://adaptivesportsne.org/event/tennis-sasc-beverly-5/
LOCATION:Beverly High School Tennis Courts\, 100 Sohier Rd\, Beverly\, MA\, 01915\, United States
CATEGORIES:Other Para Sports
ORGANIZER;CN="Spaulding Adaptive Sports Centers":MAILTO:scarper@partners.org
GEO:42.5646116;-70.8815731
X-APPLE-STRUCTURED-LOCATION;VALUE=URI;X-ADDRESS=Beverly High School Tennis Courts 100 Sohier Rd Beverly MA 01915 United States;X-APPLE-RADIUS=500;X-TITLE=100 Sohier Rd:geo:-70.8815731,42.5646116
END:VEVENT
BEGIN:VEVENT
DTSTART;TZID=America/Halifax:20190701T180000
DTEND;TZID=America/Halifax:20190701T190000
DTSTAMP:20260425T094901
CREATED:20190509T184236Z
LAST-MODIFIED:20190509T184236Z
UID:10003233-1562004000-1562007600@adaptivesportsne.org
SUMMARY:Running Series - SASC (Medford)
DESCRIPTION:
URL:https://adaptivesportsne.org/event/running-series-sasc-medford-3/2019-07-01/
LOCATION:Hormel Stadium\,  Locust St\, Medford\, MA\, 02155\, United States
CATEGORIES:Track/Running
ORGANIZER;CN="Spaulding Adaptive Sports Centers":MAILTO:scarper@partners.org
GEO:42.4079699;-71.0931407
X-APPLE-STRUCTURED-LOCATION;VALUE=URI;X-ADDRESS=Hormel Stadium  Locust St Medford MA 02155 United States;X-APPLE-RADIUS=500;X-TITLE=Locust St:geo:-71.0931407,42.4079699
END:VEVENT
BEGIN:VEVENT
DTSTART;TZID=America/Halifax:20190701T160000
DTEND;TZID=America/Halifax:20190701T180000
DTSTAMP:20260425T094901
CREATED:20190620T141417Z
LAST-MODIFIED:20190620T141417Z
UID:10003253-1561996800-1562004000@adaptivesportsne.org
SUMMARY:Archery SASC (Camp Lyndon)
DESCRIPTION:
URL:https://adaptivesportsne.org/event/archery-sasc-camp-lyndon/
LOCATION:Camp Lyndon\, Sandwich\, MA\, United States
CATEGORIES:Other Para Sports
ORGANIZER;CN="Spaulding Adaptive Sports Centers":MAILTO:scarper@partners.org
GEO:41.7589615;-70.4939317
END:VEVENT
BEGIN:VEVENT
DTSTART;TZID=America/Halifax:20190627T170000
DTEND;TZID=America/Halifax:20190627T190000
DTSTAMP:20260425T094901
CREATED:20190509T185642Z
LAST-MODIFIED:20190524T111210Z
UID:10003245-1561654800-1561662000@adaptivesportsne.org
SUMMARY:Cycling Club - SASC (Charlestown)
DESCRIPTION:
URL:https://adaptivesportsne.org/event/cycling-series-sasc-charlestown/2019-06-27/
LOCATION:Spaulding Rehabilitation Hospital\, 300 First Avenue\, Charlestown\, MA\, United States
CATEGORIES:Non-Competitive Recreation
ORGANIZER;CN="Spaulding Adaptive Sports Centers":MAILTO:scarper@partners.org
GEO:42.3785133;-71.049126
X-APPLE-STRUCTURED-LOCATION;VALUE=URI;X-ADDRESS=Spaulding Rehabilitation Hospital 300 First Avenue Charlestown MA United States;X-APPLE-RADIUS=500;X-TITLE=300 First Avenue:geo:-71.049126,42.3785133
END:VEVENT
BEGIN:VEVENT
DTSTART;TZID=America/Halifax:20190626T170000
DTEND;TZID=America/Halifax:20190626T190000
DTSTAMP:20260425T094901
CREATED:20190509T185307Z
LAST-MODIFIED:20190509T185756Z
UID:10003236-1561568400-1561575600@adaptivesportsne.org
SUMMARY:Cycling Club - SASC (Sandwich)
DESCRIPTION:
URL:https://adaptivesportsne.org/event/cycling-club-sasc-sandwich/2019-06-26/
LOCATION:Cape Cod Canal Trail\, Sandwich\, MA\, United States
CATEGORIES:Non-Competitive Recreation
ORGANIZER;CN="Spaulding Adaptive Sports Centers":MAILTO:scarper@partners.org
GEO:41.7589615;-70.4939317
END:VEVENT
BEGIN:VEVENT
DTSTART;TZID=America/Halifax:20190626T130000
DTEND;TZID=America/Halifax:20190626T150000
DTSTAMP:20260425T094901
CREATED:20190620T133527Z
LAST-MODIFIED:20190620T133527Z
UID:10001460-1561554000-1561561200@adaptivesportsne.org
SUMMARY:Archery SASC (Salem)
DESCRIPTION:
URL:https://adaptivesportsne.org/event/archery-sasc-salem-4/
LOCATION:Salem Willows Park\, 158 Fort Avenue\, Salem\, MA\, 01915\, United States
CATEGORIES:Other Para Sports
ORGANIZER;CN="Spaulding Adaptive Sports Centers":MAILTO:scarper@partners.org
GEO:42.5344419;-70.8702129
X-APPLE-STRUCTURED-LOCATION;VALUE=URI;X-ADDRESS=Salem Willows Park 158 Fort Avenue Salem MA 01915 United States;X-APPLE-RADIUS=500;X-TITLE=158 Fort Avenue:geo:-70.8702129,42.5344419
END:VEVENT
BEGIN:VEVENT
DTSTART;TZID=America/Halifax:20190626T100000
DTEND;TZID=America/Halifax:20190626T120000
DTSTAMP:20260425T094901
CREATED:20190620T133124Z
LAST-MODIFIED:20190620T133124Z
UID:10001459-1561543200-1561550400@adaptivesportsne.org
SUMMARY:Tennis SASC (Beverly)
DESCRIPTION:
URL:https://adaptivesportsne.org/event/tennis-sasc-beverly-4/
LOCATION:Beverly High School Tennis Courts\, 100 Sohier Rd\, Beverly\, MA\, 01915\, United States
CATEGORIES:Other Para Sports
ORGANIZER;CN="Spaulding Adaptive Sports Centers":MAILTO:scarper@partners.org
GEO:42.5646116;-70.8815731
X-APPLE-STRUCTURED-LOCATION;VALUE=URI;X-ADDRESS=Beverly High School Tennis Courts 100 Sohier Rd Beverly MA 01915 United States;X-APPLE-RADIUS=500;X-TITLE=100 Sohier Rd:geo:-70.8815731,42.5646116
END:VEVENT
BEGIN:VEVENT
DTSTART;TZID=America/Halifax:20190624T180000
DTEND;TZID=America/Halifax:20190624T190000
DTSTAMP:20260425T094901
CREATED:20190509T184236Z
LAST-MODIFIED:20190509T184236Z
UID:10003232-1561399200-1561402800@adaptivesportsne.org
SUMMARY:Running Series - SASC (Medford)
DESCRIPTION:
URL:https://adaptivesportsne.org/event/running-series-sasc-medford-3/2019-06-24/
LOCATION:Hormel Stadium\,  Locust St\, Medford\, MA\, 02155\, United States
CATEGORIES:Track/Running
ORGANIZER;CN="Spaulding Adaptive Sports Centers":MAILTO:scarper@partners.org
GEO:42.4079699;-71.0931407
X-APPLE-STRUCTURED-LOCATION;VALUE=URI;X-ADDRESS=Hormel Stadium  Locust St Medford MA 02155 United States;X-APPLE-RADIUS=500;X-TITLE=Locust St:geo:-71.0931407,42.4079699
END:VEVENT
END:VCALENDAR