BEGIN:VCALENDAR
VERSION:2.0
PRODID:-//Adaptive Sports New England - ECPv6.15.20//NONSGML v1.0//EN
CALSCALE:GREGORIAN
METHOD:PUBLISH
X-ORIGINAL-URL:https://adaptivesportsne.org
X-WR-CALDESC:Events for Adaptive Sports New England
REFRESH-INTERVAL;VALUE=DURATION:PT1H
X-Robots-Tag:noindex
X-PUBLISHED-TTL:PT1H
BEGIN:VTIMEZONE
TZID:America/Halifax
BEGIN:DAYLIGHT
TZOFFSETFROM:-0400
TZOFFSETTO:-0300
TZNAME:ADT
DTSTART:20150308T060000
END:DAYLIGHT
BEGIN:STANDARD
TZOFFSETFROM:-0300
TZOFFSETTO:-0400
TZNAME:AST
DTSTART:20151101T050000
END:STANDARD
BEGIN:DAYLIGHT
TZOFFSETFROM:-0400
TZOFFSETTO:-0300
TZNAME:ADT
DTSTART:20160313T060000
END:DAYLIGHT
BEGIN:STANDARD
TZOFFSETFROM:-0300
TZOFFSETTO:-0400
TZNAME:AST
DTSTART:20161106T050000
END:STANDARD
BEGIN:DAYLIGHT
TZOFFSETFROM:-0400
TZOFFSETTO:-0300
TZNAME:ADT
DTSTART:20170312T060000
END:DAYLIGHT
BEGIN:STANDARD
TZOFFSETFROM:-0300
TZOFFSETTO:-0400
TZNAME:AST
DTSTART:20171105T050000
END:STANDARD
BEGIN:DAYLIGHT
TZOFFSETFROM:-0400
TZOFFSETTO:-0300
TZNAME:ADT
DTSTART:20180311T060000
END:DAYLIGHT
BEGIN:STANDARD
TZOFFSETFROM:-0300
TZOFFSETTO:-0400
TZNAME:AST
DTSTART:20181104T050000
END:STANDARD
BEGIN:DAYLIGHT
TZOFFSETFROM:-0400
TZOFFSETTO:-0300
TZNAME:ADT
DTSTART:20190310T060000
END:DAYLIGHT
BEGIN:STANDARD
TZOFFSETFROM:-0300
TZOFFSETTO:-0400
TZNAME:AST
DTSTART:20191103T050000
END:STANDARD
END:VTIMEZONE
BEGIN:VEVENT
DTSTART;TZID=America/Halifax:20180313T113000
DTEND;TZID=America/Halifax:20180313T133000
DTSTAMP:20260420T005748
CREATED:20180220T011016Z
LAST-MODIFIED:20180220T011016Z
UID:10002589-1520940600-1520947800@adaptivesportsne.org
SUMMARY:Adaptive Skating - DCR (Boston)
DESCRIPTION:Call 413-545-5759 or email email hidden; JavaScript is required to attend.
URL:https://adaptivesportsne.org/event/adaptive-skating-dcr-boston/
LOCATION:Porrazzo Memorial Rink\, 199 Coleridge St.\, East Boston\, MA\, 02128\, United States
ORGANIZER;CN="MA DCR Universal Access Program":MAILTO:marcy.marchello@state.ma.gov
GEO:42.3821078;-71.0121674
X-APPLE-STRUCTURED-LOCATION;VALUE=URI;X-ADDRESS=Porrazzo Memorial Rink 199 Coleridge St. East Boston MA 02128 United States;X-APPLE-RADIUS=500;X-TITLE=199 Coleridge St.:geo:-71.0121674,42.3821078
END:VEVENT
BEGIN:VEVENT
DTSTART;TZID=America/Halifax:20170215T110000
DTEND;TZID=America/Halifax:20170215T130000
DTSTAMP:20260420T005748
CREATED:20161112T024151Z
LAST-MODIFIED:20161112T024528Z
UID:10000327-1487156400-1487163600@adaptivesportsne.org
SUMMARY:Adaptive Skating - DCR (E.Boston)
DESCRIPTION:
URL:https://adaptivesportsne.org/event/adaptive-skating-games-dcr-e-boston/2017-02-15/
LOCATION:Porrazzo Memorial Rink\, 199 Coleridge St.\, East Boston\, MA\, 02128\, United States
ORGANIZER;CN="MA DCR Universal Access Program":MAILTO:marcy.marchello@state.ma.gov
GEO:42.3821078;-71.0121674
X-APPLE-STRUCTURED-LOCATION;VALUE=URI;X-ADDRESS=Porrazzo Memorial Rink 199 Coleridge St. East Boston MA 02128 United States;X-APPLE-RADIUS=500;X-TITLE=199 Coleridge St.:geo:-71.0121674,42.3821078
END:VEVENT
BEGIN:VEVENT
DTSTART;TZID=America/Halifax:20170214T113000
DTEND;TZID=America/Halifax:20170214T132000
DTSTAMP:20260420T005748
CREATED:20161221T145307Z
LAST-MODIFIED:20170121T002549Z
UID:10000362-1487071800-1487078400@adaptivesportsne.org
SUMMARY:Adaptive Ice Skating - DCR (East Boston)
DESCRIPTION:Come join the fun at our adaptive skating programs in Holyoke\, Worcester\, East Boston\, Fall River\, and Brockton! \nLace up a pair of conventional skates or slide around the ice on your manual or power wheelchair. Ice sleds are also available to glide around—propel yourself with small hockey sticks or be pushed around the rink by a friend. \nDepending on location\, activities on the ice include obstacle courses\, a tower of blocks for building up and crashing down\, races\, colorful balls and pucks to shoot around\, power chair games\, and gently competitive hockey matches. \nAdmission and equipment are provided free of cost. \nIce sleds\, skate walkers\, helmets\, ice grippers\, and ice skates are available. \nTo sign up call 413-545-5759 or email email hidden; JavaScript is required
URL:https://adaptivesportsne.org/event/adaptive-ice-skating-east-boston-2/
LOCATION:Porrazzo Memorial Rink\, 199 Coleridge St.\, East Boston\, MA\, 02128\, United States
ORGANIZER;CN="MA DCR Universal Access Program":MAILTO:marcy.marchello@state.ma.gov
GEO:42.3821078;-71.0121674
X-APPLE-STRUCTURED-LOCATION;VALUE=URI;X-ADDRESS=Porrazzo Memorial Rink 199 Coleridge St. East Boston MA 02128 United States;X-APPLE-RADIUS=500;X-TITLE=199 Coleridge St.:geo:-71.0121674,42.3821078
END:VEVENT
BEGIN:VEVENT
DTSTART;TZID=America/Halifax:20170117T113000
DTEND;TZID=America/Halifax:20170117T132000
DTSTAMP:20260420T005748
CREATED:20161221T145204Z
LAST-MODIFIED:20170121T002206Z
UID:10000360-1484652600-1484659200@adaptivesportsne.org
SUMMARY:Adaptive Ice Skating - DCR (East Boston)
DESCRIPTION:Come join the fun at our adaptive skating programs in Holyoke\, Worcester\, East Boston\, Fall River\, and Brockton! \nLace up a pair of conventional skates or slide around the ice on your manual or power wheelchair. Ice sleds are also available to glide around—propel yourself with small hockey sticks or be pushed around the rink by a friend. \nDepending on location\, activities on the ice include obstacle courses\, a tower of blocks for building up and crashing down\, races\, colorful balls and pucks to shoot around\, power chair games\, and gently competitive hockey matches. \nAdmission and equipment are provided free of cost. \nIce sleds\, skate walkers\, helmets\, ice grippers\, and ice skates are available. \nTo sign up call 413-545-5759 or email email hidden; JavaScript is required
URL:https://adaptivesportsne.org/event/adaptive-ice-skating-east-boston/
LOCATION:Porrazzo Memorial Rink\, 199 Coleridge St.\, East Boston\, MA\, 02128\, United States
ORGANIZER;CN="MA DCR Universal Access Program":MAILTO:marcy.marchello@state.ma.gov
GEO:42.3821078;-71.0121674
X-APPLE-STRUCTURED-LOCATION;VALUE=URI;X-ADDRESS=Porrazzo Memorial Rink 199 Coleridge St. East Boston MA 02128 United States;X-APPLE-RADIUS=500;X-TITLE=199 Coleridge St.:geo:-71.0121674,42.3821078
END:VEVENT
BEGIN:VEVENT
DTSTART;TZID=America/Halifax:20170117T110000
DTEND;TZID=America/Halifax:20170117T130000
DTSTAMP:20260420T005748
CREATED:20161112T024151Z
LAST-MODIFIED:20161112T024804Z
UID:10001691-1484650800-1484658000@adaptivesportsne.org
SUMMARY:Adaptive Skating - DCR (E.Boston)
DESCRIPTION:
URL:https://adaptivesportsne.org/event/adaptive-skating-games-dcr-e-boston-2017-01-10/
LOCATION:Porrazzo Memorial Rink\, 199 Coleridge St.\, East Boston\, MA\, 02128\, United States
ORGANIZER;CN="MA DCR Universal Access Program":MAILTO:marcy.marchello@state.ma.gov
GEO:42.3821078;-71.0121674
X-APPLE-STRUCTURED-LOCATION;VALUE=URI;X-ADDRESS=Porrazzo Memorial Rink 199 Coleridge St. East Boston MA 02128 United States;X-APPLE-RADIUS=500;X-TITLE=199 Coleridge St.:geo:-71.0121674,42.3821078
END:VEVENT
BEGIN:VEVENT
DTSTART;TZID=America/Halifax:20170115T110000
DTEND;TZID=America/Halifax:20170115T130000
DTSTAMP:20260420T005748
CREATED:20161112T024151Z
LAST-MODIFIED:20161112T024528Z
UID:10000326-1484478000-1484485200@adaptivesportsne.org
SUMMARY:Adaptive Skating - DCR (E.Boston)
DESCRIPTION:
URL:https://adaptivesportsne.org/event/adaptive-skating-games-dcr-e-boston/2017-01-15/
LOCATION:Porrazzo Memorial Rink\, 199 Coleridge St.\, East Boston\, MA\, 02128\, United States
ORGANIZER;CN="MA DCR Universal Access Program":MAILTO:marcy.marchello@state.ma.gov
GEO:42.3821078;-71.0121674
X-APPLE-STRUCTURED-LOCATION;VALUE=URI;X-ADDRESS=Porrazzo Memorial Rink 199 Coleridge St. East Boston MA 02128 United States;X-APPLE-RADIUS=500;X-TITLE=199 Coleridge St.:geo:-71.0121674,42.3821078
END:VEVENT
BEGIN:VEVENT
DTSTART;TZID=America/Halifax:20161215T110000
DTEND;TZID=America/Halifax:20161215T130000
DTSTAMP:20260420T005748
CREATED:20161112T024151Z
LAST-MODIFIED:20161112T024528Z
UID:10000325-1481799600-1481806800@adaptivesportsne.org
SUMMARY:Adaptive Skating - DCR (E.Boston)
DESCRIPTION:
URL:https://adaptivesportsne.org/event/adaptive-skating-games-dcr-e-boston/2016-12-15/
LOCATION:Porrazzo Memorial Rink\, 199 Coleridge St.\, East Boston\, MA\, 02128\, United States
ORGANIZER;CN="MA DCR Universal Access Program":MAILTO:marcy.marchello@state.ma.gov
GEO:42.3821078;-71.0121674
X-APPLE-STRUCTURED-LOCATION;VALUE=URI;X-ADDRESS=Porrazzo Memorial Rink 199 Coleridge St. East Boston MA 02128 United States;X-APPLE-RADIUS=500;X-TITLE=199 Coleridge St.:geo:-71.0121674,42.3821078
END:VEVENT
BEGIN:VEVENT
DTSTART;TZID=America/Halifax:20161115T110000
DTEND;TZID=America/Halifax:20161115T130000
DTSTAMP:20260420T005748
CREATED:20161112T024151Z
LAST-MODIFIED:20161112T024528Z
UID:10000324-1479207600-1479214800@adaptivesportsne.org
SUMMARY:Adaptive Skating - DCR (E.Boston)
DESCRIPTION:
URL:https://adaptivesportsne.org/event/adaptive-skating-games-dcr-e-boston/2016-11-15/
LOCATION:Porrazzo Memorial Rink\, 199 Coleridge St.\, East Boston\, MA\, 02128\, United States
ORGANIZER;CN="MA DCR Universal Access Program":MAILTO:marcy.marchello@state.ma.gov
GEO:42.3821078;-71.0121674
X-APPLE-STRUCTURED-LOCATION;VALUE=URI;X-ADDRESS=Porrazzo Memorial Rink 199 Coleridge St. East Boston MA 02128 United States;X-APPLE-RADIUS=500;X-TITLE=199 Coleridge St.:geo:-71.0121674,42.3821078
END:VEVENT
END:VCALENDAR