BEGIN:VCALENDAR
VERSION:2.0
PRODID:-//Adaptive Sports New England - ECPv6.15.20//NONSGML v1.0//EN
CALSCALE:GREGORIAN
METHOD:PUBLISH
X-ORIGINAL-URL:https://adaptivesportsne.org
X-WR-CALDESC:Events for Adaptive Sports New England
REFRESH-INTERVAL;VALUE=DURATION:PT1H
X-Robots-Tag:noindex
X-PUBLISHED-TTL:PT1H
BEGIN:VTIMEZONE
TZID:America/Halifax
BEGIN:DAYLIGHT
TZOFFSETFROM:-0400
TZOFFSETTO:-0300
TZNAME:ADT
DTSTART:20150308T060000
END:DAYLIGHT
BEGIN:STANDARD
TZOFFSETFROM:-0300
TZOFFSETTO:-0400
TZNAME:AST
DTSTART:20151101T050000
END:STANDARD
BEGIN:DAYLIGHT
TZOFFSETFROM:-0400
TZOFFSETTO:-0300
TZNAME:ADT
DTSTART:20160313T060000
END:DAYLIGHT
BEGIN:STANDARD
TZOFFSETFROM:-0300
TZOFFSETTO:-0400
TZNAME:AST
DTSTART:20161106T050000
END:STANDARD
BEGIN:DAYLIGHT
TZOFFSETFROM:-0400
TZOFFSETTO:-0300
TZNAME:ADT
DTSTART:20170312T060000
END:DAYLIGHT
BEGIN:STANDARD
TZOFFSETFROM:-0300
TZOFFSETTO:-0400
TZNAME:AST
DTSTART:20171105T050000
END:STANDARD
BEGIN:DAYLIGHT
TZOFFSETFROM:-0400
TZOFFSETTO:-0300
TZNAME:ADT
DTSTART:20180311T060000
END:DAYLIGHT
BEGIN:STANDARD
TZOFFSETFROM:-0300
TZOFFSETTO:-0400
TZNAME:AST
DTSTART:20181104T050000
END:STANDARD
END:VTIMEZONE
BEGIN:VEVENT
DTSTART;TZID=America/Halifax:20170115T110000
DTEND;TZID=America/Halifax:20170115T130000
DTSTAMP:20260420T023625
CREATED:20161112T024151Z
LAST-MODIFIED:20161112T024528Z
UID:10000326-1484478000-1484485200@adaptivesportsne.org
SUMMARY:Adaptive Skating - DCR (E.Boston)
DESCRIPTION:
URL:https://adaptivesportsne.org/event/adaptive-skating-games-dcr-e-boston/2017-01-15/
LOCATION:Porrazzo Memorial Rink\, 199 Coleridge St.\, East Boston\, MA\, 02128\, United States
ORGANIZER;CN="MA DCR Universal Access Program":MAILTO:marcy.marchello@state.ma.gov
GEO:42.3821078;-71.0121674
X-APPLE-STRUCTURED-LOCATION;VALUE=URI;X-ADDRESS=Porrazzo Memorial Rink 199 Coleridge St. East Boston MA 02128 United States;X-APPLE-RADIUS=500;X-TITLE=199 Coleridge St.:geo:-71.0121674,42.3821078
END:VEVENT
BEGIN:VEVENT
DTSTART;TZID=America/Halifax:20161215T110000
DTEND;TZID=America/Halifax:20161215T130000
DTSTAMP:20260420T023625
CREATED:20161112T024151Z
LAST-MODIFIED:20161112T024528Z
UID:10000325-1481799600-1481806800@adaptivesportsne.org
SUMMARY:Adaptive Skating - DCR (E.Boston)
DESCRIPTION:
URL:https://adaptivesportsne.org/event/adaptive-skating-games-dcr-e-boston/2016-12-15/
LOCATION:Porrazzo Memorial Rink\, 199 Coleridge St.\, East Boston\, MA\, 02128\, United States
ORGANIZER;CN="MA DCR Universal Access Program":MAILTO:marcy.marchello@state.ma.gov
GEO:42.3821078;-71.0121674
X-APPLE-STRUCTURED-LOCATION;VALUE=URI;X-ADDRESS=Porrazzo Memorial Rink 199 Coleridge St. East Boston MA 02128 United States;X-APPLE-RADIUS=500;X-TITLE=199 Coleridge St.:geo:-71.0121674,42.3821078
END:VEVENT
BEGIN:VEVENT
DTSTART;TZID=America/Halifax:20161115T110000
DTEND;TZID=America/Halifax:20161115T130000
DTSTAMP:20260420T023625
CREATED:20161112T024151Z
LAST-MODIFIED:20161112T024528Z
UID:10000324-1479207600-1479214800@adaptivesportsne.org
SUMMARY:Adaptive Skating - DCR (E.Boston)
DESCRIPTION:
URL:https://adaptivesportsne.org/event/adaptive-skating-games-dcr-e-boston/2016-11-15/
LOCATION:Porrazzo Memorial Rink\, 199 Coleridge St.\, East Boston\, MA\, 02128\, United States
ORGANIZER;CN="MA DCR Universal Access Program":MAILTO:marcy.marchello@state.ma.gov
GEO:42.3821078;-71.0121674
X-APPLE-STRUCTURED-LOCATION;VALUE=URI;X-ADDRESS=Porrazzo Memorial Rink 199 Coleridge St. East Boston MA 02128 United States;X-APPLE-RADIUS=500;X-TITLE=199 Coleridge St.:geo:-71.0121674,42.3821078
END:VEVENT
END:VCALENDAR